BEGIN:VCALENDAR
VERSION:2.0
PRODID:-//Sonesta Resorts Sint Maarten - ECPv6.15.17.1//NONSGML v1.0//EN
CALSCALE:GREGORIAN
METHOD:PUBLISH
X-ORIGINAL-URL:https://sonestastmaarten.com
X-WR-CALDESC:Events for Sonesta Resorts Sint Maarten
REFRESH-INTERVAL;VALUE=DURATION:PT1H
X-Robots-Tag:noindex
X-PUBLISHED-TTL:PT1H
BEGIN:VTIMEZONE
TZID:America/Anguilla
BEGIN:STANDARD
TZOFFSETFROM:-0400
TZOFFSETTO:-0400
TZNAME:AST
DTSTART:20240101T000000
END:STANDARD
END:VTIMEZONE
BEGIN:VEVENT
DTSTART;TZID=America/Anguilla:20251215T100000
DTEND;TZID=America/Anguilla:20251215T180000
DTSTAMP:20260421T100826
CREATED:20250821T154559Z
LAST-MODIFIED:20251110T123422Z
UID:100101247-1765792800-1765821600@sonestastmaarten.com
SUMMARY:Bean Bag Toss Freeplay
DESCRIPTION:Enjoy this relaxing yet competitive game where you toss bean bags at a target board. Score points for accuracy and challenge other guests to a match!
URL:https://sonestastmaarten.com/event/poolside-cornhole/2025-12-15/
LOCATION:The Point Pool
CATEGORIES:Ocean Point Resort
ATTACH;FMTTYPE=image/jpeg:https://sonestastmaarten.com/wp-content/uploads/point-pool.jpg
END:VEVENT
BEGIN:VEVENT
DTSTART;TZID=America/Anguilla:20251214T150000
DTEND;TZID=America/Anguilla:20251214T170000
DTSTAMP:20260421T100826
CREATED:20250902T135514Z
LAST-MODIFIED:20260407T150341Z
UID:100117118-1765724400-1765731600@sonestastmaarten.com
SUMMARY:Poolside Live Music with Jojo
DESCRIPTION:Whether relaxing under the sun\, cocktail in hand\, or swimming in our pool\, our live music program featuring talented local musicians will fill your days with eclectic beats.
URL:https://sonestastmaarten.com/event/poolside-live-music-with-jojo-2/2025-12-14/
LOCATION:The Point Pool
CATEGORIES:Ocean Point Resort
ATTACH;FMTTYPE=image/jpeg:https://sonestastmaarten.com/wp-content/uploads/MB_Entertainment-001.jpg
END:VEVENT
BEGIN:VEVENT
DTSTART;TZID=America/Anguilla:20251214T100000
DTEND;TZID=America/Anguilla:20251214T180000
DTSTAMP:20260421T100826
CREATED:20250928T162214Z
LAST-MODIFIED:20260320T155627Z
UID:100101738-1765706400-1765735200@sonestastmaarten.com
SUMMARY:One Zero Pool Bar
DESCRIPTION:Pool bar at The Point Pool facing famous Maho Beach\, serving poolside cocktails with front-row views of iconic plane landings on Runway 10.
URL:https://sonestastmaarten.com/event/one-zero-pool-bar/2025-12-14/
LOCATION:The Point Pool
CATEGORIES:OP Dining Hours
ATTACH;FMTTYPE=image/png:https://sonestastmaarten.com/wp-content/uploads/one-zero-poolbar.png
END:VEVENT
BEGIN:VEVENT
DTSTART;TZID=America/Anguilla:20251214T100000
DTEND;TZID=America/Anguilla:20251214T180000
DTSTAMP:20260421T100826
CREATED:20250821T154559Z
LAST-MODIFIED:20251110T123422Z
UID:100101181-1765706400-1765735200@sonestastmaarten.com
SUMMARY:Bean Bag Toss Freeplay
DESCRIPTION:Enjoy this relaxing yet competitive game where you toss bean bags at a target board. Score points for accuracy and challenge other guests to a match!
URL:https://sonestastmaarten.com/event/poolside-cornhole/2025-12-14/
LOCATION:The Point Pool
CATEGORIES:Ocean Point Resort
ATTACH;FMTTYPE=image/jpeg:https://sonestastmaarten.com/wp-content/uploads/point-pool.jpg
END:VEVENT
BEGIN:VEVENT
DTSTART;TZID=America/Anguilla:20251213T153000
DTEND;TZID=America/Anguilla:20251213T173000
DTSTAMP:20260421T100826
CREATED:20250927T084345Z
LAST-MODIFIED:20260213T202439Z
UID:100108023-1765639800-1765647000@sonestastmaarten.com
SUMMARY:Point Pool Snacks
DESCRIPTION:Light poolside refreshments served at The Point Pool during late afternoon hours.
URL:https://sonestastmaarten.com/event/point-pool-snacks/2025-12-13/
LOCATION:The Point Pool
CATEGORIES:OP Dining Hours
ATTACH;FMTTYPE=image/png:https://sonestastmaarten.com/wp-content/uploads/one-zero-poolbar.png
END:VEVENT
BEGIN:VEVENT
DTSTART;TZID=America/Anguilla:20251213T150000
DTEND;TZID=America/Anguilla:20251213T170000
DTSTAMP:20260421T100826
CREATED:20250902T135349Z
LAST-MODIFIED:20260407T150334Z
UID:100117053-1765638000-1765645200@sonestastmaarten.com
SUMMARY:Poolside Live Music with Gianfranco
DESCRIPTION:Whether relaxing under the sun\, cocktail in hand\, or swimming in our pool\, our live music program featuring talented local musicians will fill your days with eclectic beats.
URL:https://sonestastmaarten.com/event/poolside-live-music-with-gianfranco/2025-12-13/
LOCATION:The Point Pool
CATEGORIES:Ocean Point Resort
ATTACH;FMTTYPE=image/jpeg:https://sonestastmaarten.com/wp-content/uploads/MB_Entertainment-001.jpg
END:VEVENT
BEGIN:VEVENT
DTSTART;TZID=America/Anguilla:20251213T100000
DTEND;TZID=America/Anguilla:20251213T180000
DTSTAMP:20260421T100826
CREATED:20250928T162214Z
LAST-MODIFIED:20260320T155627Z
UID:100106569-1765620000-1765648800@sonestastmaarten.com
SUMMARY:One Zero Pool Bar
DESCRIPTION:Pool bar at The Point Pool facing famous Maho Beach\, serving poolside cocktails with front-row views of iconic plane landings on Runway 10.
URL:https://sonestastmaarten.com/event/one-zero-pool-bar/2025-12-13/
LOCATION:The Point Pool
CATEGORIES:OP Dining Hours
ATTACH;FMTTYPE=image/png:https://sonestastmaarten.com/wp-content/uploads/one-zero-poolbar.png
END:VEVENT
BEGIN:VEVENT
DTSTART;TZID=America/Anguilla:20251213T100000
DTEND;TZID=America/Anguilla:20251213T180000
DTSTAMP:20260421T100826
CREATED:20250821T154559Z
LAST-MODIFIED:20251110T123422Z
UID:100101166-1765620000-1765648800@sonestastmaarten.com
SUMMARY:Bean Bag Toss Freeplay
DESCRIPTION:Enjoy this relaxing yet competitive game where you toss bean bags at a target board. Score points for accuracy and challenge other guests to a match!
URL:https://sonestastmaarten.com/event/poolside-cornhole/2025-12-13/
LOCATION:The Point Pool
CATEGORIES:Ocean Point Resort
ATTACH;FMTTYPE=image/jpeg:https://sonestastmaarten.com/wp-content/uploads/point-pool.jpg
END:VEVENT
BEGIN:VEVENT
DTSTART;TZID=America/Anguilla:20251212T150000
DTEND;TZID=America/Anguilla:20251212T170000
DTSTAMP:20260421T100826
CREATED:20250902T135124Z
LAST-MODIFIED:20260419T163052Z
UID:100118314-1765551600-1765558800@sonestastmaarten.com
SUMMARY:Poolside Live Music with Jojo
DESCRIPTION:Whether relaxing under the sun\, cocktail in hand\, or swimming in our pool\, our live music program featuring talented local musicians will fill your days with eclectic beats.
URL:https://sonestastmaarten.com/event/poolside-live-music-with-double-j/2025-12-12/
LOCATION:The Point Pool
CATEGORIES:Ocean Point Resort
ATTACH;FMTTYPE=image/jpeg:https://sonestastmaarten.com/wp-content/uploads/MB_Entertainment-001.jpg
END:VEVENT
BEGIN:VEVENT
DTSTART;TZID=America/Anguilla:20251212T100000
DTEND;TZID=America/Anguilla:20251212T180000
DTSTAMP:20260421T100826
CREATED:20250928T162214Z
LAST-MODIFIED:20260320T155627Z
UID:100101736-1765533600-1765562400@sonestastmaarten.com
SUMMARY:One Zero Pool Bar
DESCRIPTION:Pool bar at The Point Pool facing famous Maho Beach\, serving poolside cocktails with front-row views of iconic plane landings on Runway 10.
URL:https://sonestastmaarten.com/event/one-zero-pool-bar/2025-12-12/
LOCATION:The Point Pool
CATEGORIES:OP Dining Hours
ATTACH;FMTTYPE=image/png:https://sonestastmaarten.com/wp-content/uploads/one-zero-poolbar.png
END:VEVENT
BEGIN:VEVENT
DTSTART;TZID=America/Anguilla:20251212T100000
DTEND;TZID=America/Anguilla:20251212T180000
DTSTAMP:20260421T100826
CREATED:20250821T154559Z
LAST-MODIFIED:20251110T123422Z
UID:100101131-1765533600-1765562400@sonestastmaarten.com
SUMMARY:Bean Bag Toss Freeplay
DESCRIPTION:Enjoy this relaxing yet competitive game where you toss bean bags at a target board. Score points for accuracy and challenge other guests to a match!
URL:https://sonestastmaarten.com/event/poolside-cornhole/2025-12-12/
LOCATION:The Point Pool
CATEGORIES:Ocean Point Resort
ATTACH;FMTTYPE=image/jpeg:https://sonestastmaarten.com/wp-content/uploads/point-pool.jpg
END:VEVENT
BEGIN:VEVENT
DTSTART;TZID=America/Anguilla:20251211T153000
DTEND;TZID=America/Anguilla:20251211T173000
DTSTAMP:20260421T100826
CREATED:20250927T084345Z
LAST-MODIFIED:20260213T202439Z
UID:100110065-1765467000-1765474200@sonestastmaarten.com
SUMMARY:Point Pool Snacks
DESCRIPTION:Light poolside refreshments served at The Point Pool during late afternoon hours.
URL:https://sonestastmaarten.com/event/point-pool-snacks/2025-12-11/
LOCATION:The Point Pool
CATEGORIES:OP Dining Hours
ATTACH;FMTTYPE=image/png:https://sonestastmaarten.com/wp-content/uploads/one-zero-poolbar.png
END:VEVENT
BEGIN:VEVENT
DTSTART;TZID=America/Anguilla:20251211T150000
DTEND;TZID=America/Anguilla:20251211T170000
DTSTAMP:20260421T100826
CREATED:20251110T135702Z
LAST-MODIFIED:20260412T162907Z
UID:100116989-1765465200-1765472400@sonestastmaarten.com
SUMMARY:Poolside Live Music with Magic Singer
DESCRIPTION:You know your vacation started when you’re shimmying to poolside vibes. Whether relaxing under the sun\, cocktail in hand\, or swimming in our glistening pool\, our live music program featuring talented local musicians of Sint Maarten
URL:https://sonestastmaarten.com/event/poolside-live-music-with-alexia/2025-12-11/
LOCATION:The Point Pool
CATEGORIES:Ocean Point Resort
ATTACH;FMTTYPE=image/jpeg:https://sonestastmaarten.com/wp-content/uploads/OP_Pools_PointPool-008.jpg
END:VEVENT
BEGIN:VEVENT
DTSTART;TZID=America/Anguilla:20251211T100000
DTEND;TZID=America/Anguilla:20251211T180000
DTSTAMP:20260421T100826
CREATED:20250928T162214Z
LAST-MODIFIED:20260320T155627Z
UID:100110086-1765447200-1765476000@sonestastmaarten.com
SUMMARY:One Zero Pool Bar
DESCRIPTION:Pool bar at The Point Pool facing famous Maho Beach\, serving poolside cocktails with front-row views of iconic plane landings on Runway 10.
URL:https://sonestastmaarten.com/event/one-zero-pool-bar/2025-12-11/
LOCATION:The Point Pool
CATEGORIES:OP Dining Hours
ATTACH;FMTTYPE=image/png:https://sonestastmaarten.com/wp-content/uploads/one-zero-poolbar.png
END:VEVENT
BEGIN:VEVENT
DTSTART;TZID=America/Anguilla:20251211T100000
DTEND;TZID=America/Anguilla:20251211T180000
DTSTAMP:20260421T100826
CREATED:20250821T154559Z
LAST-MODIFIED:20251110T123422Z
UID:100100524-1765447200-1765476000@sonestastmaarten.com
SUMMARY:Bean Bag Toss Freeplay
DESCRIPTION:Enjoy this relaxing yet competitive game where you toss bean bags at a target board. Score points for accuracy and challenge other guests to a match!
URL:https://sonestastmaarten.com/event/poolside-cornhole/2025-12-11/
LOCATION:The Point Pool
CATEGORIES:Ocean Point Resort
ATTACH;FMTTYPE=image/jpeg:https://sonestastmaarten.com/wp-content/uploads/point-pool.jpg
END:VEVENT
BEGIN:VEVENT
DTSTART;TZID=America/Anguilla:20251210T140000
DTEND;TZID=America/Anguilla:20251210T160000
DTSTAMP:20260421T100826
CREATED:20251110T140438Z
LAST-MODIFIED:20260419T163026Z
UID:100118250-1765375200-1765382400@sonestastmaarten.com
SUMMARY:Poolside Live Music with Cedrick
DESCRIPTION:You know your vacation started when you’re shimmying to poolside vibes. Whether relaxing under the sun\, cocktail in hand\, or swimming in our glistening pool\, our live music program featuring talented local musicians of Sint Maarten
URL:https://sonestastmaarten.com/event/poolside-live-music-with-cedrick/2025-12-10/
LOCATION:The Point Pool
CATEGORIES:Ocean Point Resort
ATTACH;FMTTYPE=image/jpeg:https://sonestastmaarten.com/wp-content/uploads/point_pool-1.jpg
END:VEVENT
BEGIN:VEVENT
DTSTART;TZID=America/Anguilla:20251210T100000
DTEND;TZID=America/Anguilla:20251210T180000
DTSTAMP:20260421T100826
CREATED:20250928T162214Z
LAST-MODIFIED:20260320T155627Z
UID:100101734-1765360800-1765389600@sonestastmaarten.com
SUMMARY:One Zero Pool Bar
DESCRIPTION:Pool bar at The Point Pool facing famous Maho Beach\, serving poolside cocktails with front-row views of iconic plane landings on Runway 10.
URL:https://sonestastmaarten.com/event/one-zero-pool-bar/2025-12-10/
LOCATION:The Point Pool
CATEGORIES:OP Dining Hours
ATTACH;FMTTYPE=image/png:https://sonestastmaarten.com/wp-content/uploads/one-zero-poolbar.png
END:VEVENT
BEGIN:VEVENT
DTSTART;TZID=America/Anguilla:20251210T100000
DTEND;TZID=America/Anguilla:20251210T180000
DTSTAMP:20260421T100826
CREATED:20250821T154559Z
LAST-MODIFIED:20251110T123422Z
UID:100099960-1765360800-1765389600@sonestastmaarten.com
SUMMARY:Bean Bag Toss Freeplay
DESCRIPTION:Enjoy this relaxing yet competitive game where you toss bean bags at a target board. Score points for accuracy and challenge other guests to a match!
URL:https://sonestastmaarten.com/event/poolside-cornhole/2025-12-10/
LOCATION:The Point Pool
CATEGORIES:Ocean Point Resort
ATTACH;FMTTYPE=image/jpeg:https://sonestastmaarten.com/wp-content/uploads/point-pool.jpg
END:VEVENT
BEGIN:VEVENT
DTSTART;TZID=America/Anguilla:20251209T153000
DTEND;TZID=America/Anguilla:20251209T173000
DTSTAMP:20260421T100826
CREATED:20250927T084345Z
LAST-MODIFIED:20260213T202439Z
UID:100100173-1765294200-1765301400@sonestastmaarten.com
SUMMARY:Point Pool Snacks
DESCRIPTION:Light poolside refreshments served at The Point Pool during late afternoon hours.
URL:https://sonestastmaarten.com/event/point-pool-snacks/2025-12-09/
LOCATION:The Point Pool
CATEGORIES:OP Dining Hours
ATTACH;FMTTYPE=image/png:https://sonestastmaarten.com/wp-content/uploads/one-zero-poolbar.png
END:VEVENT
BEGIN:VEVENT
DTSTART;TZID=America/Anguilla:20251209T100000
DTEND;TZID=America/Anguilla:20251209T180000
DTSTAMP:20260421T100826
CREATED:20250928T162214Z
LAST-MODIFIED:20260320T155627Z
UID:100101733-1765274400-1765303200@sonestastmaarten.com
SUMMARY:One Zero Pool Bar
DESCRIPTION:Pool bar at The Point Pool facing famous Maho Beach\, serving poolside cocktails with front-row views of iconic plane landings on Runway 10.
URL:https://sonestastmaarten.com/event/one-zero-pool-bar/2025-12-09/
LOCATION:The Point Pool
CATEGORIES:OP Dining Hours
ATTACH;FMTTYPE=image/png:https://sonestastmaarten.com/wp-content/uploads/one-zero-poolbar.png
END:VEVENT
BEGIN:VEVENT
DTSTART;TZID=America/Anguilla:20251209T100000
DTEND;TZID=America/Anguilla:20251209T180000
DTSTAMP:20260421T100826
CREATED:20250821T154559Z
LAST-MODIFIED:20251110T123422Z
UID:100099959-1765274400-1765303200@sonestastmaarten.com
SUMMARY:Bean Bag Toss Freeplay
DESCRIPTION:Enjoy this relaxing yet competitive game where you toss bean bags at a target board. Score points for accuracy and challenge other guests to a match!
URL:https://sonestastmaarten.com/event/poolside-cornhole/2025-12-09/
LOCATION:The Point Pool
CATEGORIES:Ocean Point Resort
ATTACH;FMTTYPE=image/jpeg:https://sonestastmaarten.com/wp-content/uploads/point-pool.jpg
END:VEVENT
BEGIN:VEVENT
DTSTART;TZID=America/Anguilla:20251208T140000
DTEND;TZID=America/Anguilla:20251208T160000
DTSTAMP:20260421T100826
CREATED:20250821T160724Z
LAST-MODIFIED:20260419T162955Z
UID:100118224-1765202400-1765209600@sonestastmaarten.com
SUMMARY:Poolside Live Music with Jeremie
DESCRIPTION:You know your vacation started when you’re shimmying to poolside vibes. Whether relaxing under the sun\, cocktail in hand\, or swimming in our glistening pool\, our live music program featuring talented local musicians of Sint Maarten
URL:https://sonestastmaarten.com/event/poolside-steel-pan-with-brendon-2-2/2025-12-08/
LOCATION:The Point Pool
CATEGORIES:Ocean Point Resort
ATTACH;FMTTYPE=image/jpeg:https://sonestastmaarten.com/wp-content/uploads/MB_Entertainment-001.jpg
END:VEVENT
BEGIN:VEVENT
DTSTART;TZID=America/Anguilla:20251208T100000
DTEND;TZID=America/Anguilla:20251208T180000
DTSTAMP:20260421T100826
CREATED:20250928T162214Z
LAST-MODIFIED:20260320T155627Z
UID:100114107-1765188000-1765216800@sonestastmaarten.com
SUMMARY:One Zero Pool Bar
DESCRIPTION:Pool bar at The Point Pool facing famous Maho Beach\, serving poolside cocktails with front-row views of iconic plane landings on Runway 10.
URL:https://sonestastmaarten.com/event/one-zero-pool-bar/2025-12-08/
LOCATION:The Point Pool
CATEGORIES:OP Dining Hours
ATTACH;FMTTYPE=image/png:https://sonestastmaarten.com/wp-content/uploads/one-zero-poolbar.png
END:VEVENT
BEGIN:VEVENT
DTSTART;TZID=America/Anguilla:20251208T100000
DTEND;TZID=America/Anguilla:20251208T180000
DTSTAMP:20260421T100826
CREATED:20250821T154559Z
LAST-MODIFIED:20251110T123422Z
UID:100099791-1765188000-1765216800@sonestastmaarten.com
SUMMARY:Bean Bag Toss Freeplay
DESCRIPTION:Enjoy this relaxing yet competitive game where you toss bean bags at a target board. Score points for accuracy and challenge other guests to a match!
URL:https://sonestastmaarten.com/event/poolside-cornhole/2025-12-08/
LOCATION:The Point Pool
CATEGORIES:Ocean Point Resort
ATTACH;FMTTYPE=image/jpeg:https://sonestastmaarten.com/wp-content/uploads/point-pool.jpg
END:VEVENT
BEGIN:VEVENT
DTSTART;TZID=America/Anguilla:20251207T150000
DTEND;TZID=America/Anguilla:20251207T170000
DTSTAMP:20260421T100826
CREATED:20250902T135514Z
LAST-MODIFIED:20260407T150341Z
UID:100117117-1765119600-1765126800@sonestastmaarten.com
SUMMARY:Poolside Live Music with Jojo
DESCRIPTION:Whether relaxing under the sun\, cocktail in hand\, or swimming in our pool\, our live music program featuring talented local musicians will fill your days with eclectic beats.
URL:https://sonestastmaarten.com/event/poolside-live-music-with-jojo-2/2025-12-07/
LOCATION:The Point Pool
CATEGORIES:Ocean Point Resort
ATTACH;FMTTYPE=image/jpeg:https://sonestastmaarten.com/wp-content/uploads/MB_Entertainment-001.jpg
END:VEVENT
BEGIN:VEVENT
DTSTART;TZID=America/Anguilla:20251207T100000
DTEND;TZID=America/Anguilla:20251207T180000
DTSTAMP:20260421T100826
CREATED:20250928T162214Z
LAST-MODIFIED:20260320T155627Z
UID:100101731-1765101600-1765130400@sonestastmaarten.com
SUMMARY:One Zero Pool Bar
DESCRIPTION:Pool bar at The Point Pool facing famous Maho Beach\, serving poolside cocktails with front-row views of iconic plane landings on Runway 10.
URL:https://sonestastmaarten.com/event/one-zero-pool-bar/2025-12-07/
LOCATION:The Point Pool
CATEGORIES:OP Dining Hours
ATTACH;FMTTYPE=image/png:https://sonestastmaarten.com/wp-content/uploads/one-zero-poolbar.png
END:VEVENT
BEGIN:VEVENT
DTSTART;TZID=America/Anguilla:20251207T100000
DTEND;TZID=America/Anguilla:20251207T180000
DTSTAMP:20260421T100826
CREATED:20250821T154559Z
LAST-MODIFIED:20251110T123422Z
UID:100099762-1765101600-1765130400@sonestastmaarten.com
SUMMARY:Bean Bag Toss Freeplay
DESCRIPTION:Enjoy this relaxing yet competitive game where you toss bean bags at a target board. Score points for accuracy and challenge other guests to a match!
URL:https://sonestastmaarten.com/event/poolside-cornhole/2025-12-07/
LOCATION:The Point Pool
CATEGORIES:Ocean Point Resort
ATTACH;FMTTYPE=image/jpeg:https://sonestastmaarten.com/wp-content/uploads/point-pool.jpg
END:VEVENT
BEGIN:VEVENT
DTSTART;TZID=America/Anguilla:20251206T153000
DTEND;TZID=America/Anguilla:20251206T173000
DTSTAMP:20260421T100826
CREATED:20250927T084345Z
LAST-MODIFIED:20260213T202439Z
UID:100108022-1765035000-1765042200@sonestastmaarten.com
SUMMARY:Point Pool Snacks
DESCRIPTION:Light poolside refreshments served at The Point Pool during late afternoon hours.
URL:https://sonestastmaarten.com/event/point-pool-snacks/2025-12-06/
LOCATION:The Point Pool
CATEGORIES:OP Dining Hours
ATTACH;FMTTYPE=image/png:https://sonestastmaarten.com/wp-content/uploads/one-zero-poolbar.png
END:VEVENT
BEGIN:VEVENT
DTSTART;TZID=America/Anguilla:20251206T150000
DTEND;TZID=America/Anguilla:20251206T170000
DTSTAMP:20260421T100826
CREATED:20250902T135349Z
LAST-MODIFIED:20260407T150334Z
UID:100117052-1765033200-1765040400@sonestastmaarten.com
SUMMARY:Poolside Live Music with Gianfranco
DESCRIPTION:Whether relaxing under the sun\, cocktail in hand\, or swimming in our pool\, our live music program featuring talented local musicians will fill your days with eclectic beats.
URL:https://sonestastmaarten.com/event/poolside-live-music-with-gianfranco/2025-12-06/
LOCATION:The Point Pool
CATEGORIES:Ocean Point Resort
ATTACH;FMTTYPE=image/jpeg:https://sonestastmaarten.com/wp-content/uploads/MB_Entertainment-001.jpg
END:VEVENT
BEGIN:VEVENT
DTSTART;TZID=America/Anguilla:20251206T100000
DTEND;TZID=America/Anguilla:20251206T180000
DTSTAMP:20260421T100826
CREATED:20250928T162214Z
LAST-MODIFIED:20260320T155627Z
UID:100106568-1765015200-1765044000@sonestastmaarten.com
SUMMARY:One Zero Pool Bar
DESCRIPTION:Pool bar at The Point Pool facing famous Maho Beach\, serving poolside cocktails with front-row views of iconic plane landings on Runway 10.
URL:https://sonestastmaarten.com/event/one-zero-pool-bar/2025-12-06/
LOCATION:The Point Pool
CATEGORIES:OP Dining Hours
ATTACH;FMTTYPE=image/png:https://sonestastmaarten.com/wp-content/uploads/one-zero-poolbar.png
END:VEVENT
END:VCALENDAR