BEGIN:VCALENDAR
VERSION:2.0
PRODID:-//Sonesta Resorts Sint Maarten - ECPv6.15.17.1//NONSGML v1.0//EN
CALSCALE:GREGORIAN
METHOD:PUBLISH
X-WR-CALNAME:Sonesta Resorts Sint Maarten
X-ORIGINAL-URL:https://sonestastmaarten.com
X-WR-CALDESC:Events for Sonesta Resorts Sint Maarten
REFRESH-INTERVAL;VALUE=DURATION:PT1H
X-Robots-Tag:noindex
X-PUBLISHED-TTL:PT1H
BEGIN:VTIMEZONE
TZID:America/Anguilla
BEGIN:STANDARD
TZOFFSETFROM:-0400
TZOFFSETTO:-0400
TZNAME:AST
DTSTART:20240101T000000
END:STANDARD
END:VTIMEZONE
BEGIN:VEVENT
DTSTART;TZID=America/Anguilla:20251222T140000
DTEND;TZID=America/Anguilla:20251222T160000
DTSTAMP:20260421T083718
CREATED:20250821T160724Z
LAST-MODIFIED:20260419T162955Z
UID:100118226-1766412000-1766419200@sonestastmaarten.com
SUMMARY:Poolside Live Music with Jeremie
DESCRIPTION:You know your vacation started when you’re shimmying to poolside vibes. Whether relaxing under the sun\, cocktail in hand\, or swimming in our glistening pool\, our live music program featuring talented local musicians of Sint Maarten
URL:https://sonestastmaarten.com/event/poolside-steel-pan-with-brendon-2-2/2025-12-22/
LOCATION:The Point Pool
CATEGORIES:Ocean Point Resort
ATTACH;FMTTYPE=image/jpeg:https://sonestastmaarten.com/wp-content/uploads/MB_Entertainment-001.jpg
END:VEVENT
BEGIN:VEVENT
DTSTART;TZID=America/Anguilla:20251222T100000
DTEND;TZID=America/Anguilla:20251222T180000
DTSTAMP:20260421T083718
CREATED:20250928T162214Z
LAST-MODIFIED:20260320T155627Z
UID:100114109-1766397600-1766426400@sonestastmaarten.com
SUMMARY:One Zero Pool Bar
DESCRIPTION:Pool bar at The Point Pool facing famous Maho Beach\, serving poolside cocktails with front-row views of iconic plane landings on Runway 10.
URL:https://sonestastmaarten.com/event/one-zero-pool-bar/2025-12-22/
LOCATION:The Point Pool
CATEGORIES:OP Dining Hours
ATTACH;FMTTYPE=image/png:https://sonestastmaarten.com/wp-content/uploads/one-zero-poolbar.png
END:VEVENT
BEGIN:VEVENT
DTSTART;TZID=America/Anguilla:20251222T100000
DTEND;TZID=America/Anguilla:20251222T180000
DTSTAMP:20260421T083718
CREATED:20250821T154559Z
LAST-MODIFIED:20251110T123422Z
UID:100101550-1766397600-1766426400@sonestastmaarten.com
SUMMARY:Bean Bag Toss Freeplay
DESCRIPTION:Enjoy this relaxing yet competitive game where you toss bean bags at a target board. Score points for accuracy and challenge other guests to a match!
URL:https://sonestastmaarten.com/event/poolside-cornhole/2025-12-22/
LOCATION:The Point Pool
CATEGORIES:Ocean Point Resort
ATTACH;FMTTYPE=image/jpeg:https://sonestastmaarten.com/wp-content/uploads/point-pool.jpg
END:VEVENT
BEGIN:VEVENT
DTSTART;TZID=America/Anguilla:20251221T150000
DTEND;TZID=America/Anguilla:20251221T170000
DTSTAMP:20260421T083718
CREATED:20250902T135514Z
LAST-MODIFIED:20260407T150341Z
UID:100117119-1766329200-1766336400@sonestastmaarten.com
SUMMARY:Poolside Live Music with Jojo
DESCRIPTION:Whether relaxing under the sun\, cocktail in hand\, or swimming in our pool\, our live music program featuring talented local musicians will fill your days with eclectic beats.
URL:https://sonestastmaarten.com/event/poolside-live-music-with-jojo-2/2025-12-21/
LOCATION:The Point Pool
CATEGORIES:Ocean Point Resort
ATTACH;FMTTYPE=image/jpeg:https://sonestastmaarten.com/wp-content/uploads/MB_Entertainment-001.jpg
END:VEVENT
BEGIN:VEVENT
DTSTART;TZID=America/Anguilla:20251221T100000
DTEND;TZID=America/Anguilla:20251221T180000
DTSTAMP:20260421T083718
CREATED:20250928T162214Z
LAST-MODIFIED:20260320T155627Z
UID:100101745-1766311200-1766340000@sonestastmaarten.com
SUMMARY:One Zero Pool Bar
DESCRIPTION:Pool bar at The Point Pool facing famous Maho Beach\, serving poolside cocktails with front-row views of iconic plane landings on Runway 10.
URL:https://sonestastmaarten.com/event/one-zero-pool-bar/2025-12-21/
LOCATION:The Point Pool
CATEGORIES:OP Dining Hours
ATTACH;FMTTYPE=image/png:https://sonestastmaarten.com/wp-content/uploads/one-zero-poolbar.png
END:VEVENT
BEGIN:VEVENT
DTSTART;TZID=America/Anguilla:20251221T100000
DTEND;TZID=America/Anguilla:20251221T180000
DTSTAMP:20260421T083718
CREATED:20250821T154559Z
LAST-MODIFIED:20251110T123422Z
UID:100101524-1766311200-1766340000@sonestastmaarten.com
SUMMARY:Bean Bag Toss Freeplay
DESCRIPTION:Enjoy this relaxing yet competitive game where you toss bean bags at a target board. Score points for accuracy and challenge other guests to a match!
URL:https://sonestastmaarten.com/event/poolside-cornhole/2025-12-21/
LOCATION:The Point Pool
CATEGORIES:Ocean Point Resort
ATTACH;FMTTYPE=image/jpeg:https://sonestastmaarten.com/wp-content/uploads/point-pool.jpg
END:VEVENT
BEGIN:VEVENT
DTSTART;TZID=America/Anguilla:20251220T153000
DTEND;TZID=America/Anguilla:20251220T173000
DTSTAMP:20260421T083718
CREATED:20250927T084345Z
LAST-MODIFIED:20260213T202439Z
UID:100108024-1766244600-1766251800@sonestastmaarten.com
SUMMARY:Point Pool Snacks
DESCRIPTION:Light poolside refreshments served at The Point Pool during late afternoon hours.
URL:https://sonestastmaarten.com/event/point-pool-snacks/2025-12-20/
LOCATION:The Point Pool
CATEGORIES:OP Dining Hours
ATTACH;FMTTYPE=image/png:https://sonestastmaarten.com/wp-content/uploads/one-zero-poolbar.png
END:VEVENT
BEGIN:VEVENT
DTSTART;TZID=America/Anguilla:20251220T150000
DTEND;TZID=America/Anguilla:20251220T170000
DTSTAMP:20260421T083718
CREATED:20250902T135349Z
LAST-MODIFIED:20260407T150334Z
UID:100117054-1766242800-1766250000@sonestastmaarten.com
SUMMARY:Poolside Live Music with Gianfranco
DESCRIPTION:Whether relaxing under the sun\, cocktail in hand\, or swimming in our pool\, our live music program featuring talented local musicians will fill your days with eclectic beats.
URL:https://sonestastmaarten.com/event/poolside-live-music-with-gianfranco/2025-12-20/
LOCATION:The Point Pool
CATEGORIES:Ocean Point Resort
ATTACH;FMTTYPE=image/jpeg:https://sonestastmaarten.com/wp-content/uploads/MB_Entertainment-001.jpg
END:VEVENT
BEGIN:VEVENT
DTSTART;TZID=America/Anguilla:20251220T100000
DTEND;TZID=America/Anguilla:20251220T180000
DTSTAMP:20260421T083718
CREATED:20250928T162214Z
LAST-MODIFIED:20260320T155627Z
UID:100106570-1766224800-1766253600@sonestastmaarten.com
SUMMARY:One Zero Pool Bar
DESCRIPTION:Pool bar at The Point Pool facing famous Maho Beach\, serving poolside cocktails with front-row views of iconic plane landings on Runway 10.
URL:https://sonestastmaarten.com/event/one-zero-pool-bar/2025-12-20/
LOCATION:The Point Pool
CATEGORIES:OP Dining Hours
ATTACH;FMTTYPE=image/png:https://sonestastmaarten.com/wp-content/uploads/one-zero-poolbar.png
END:VEVENT
BEGIN:VEVENT
DTSTART;TZID=America/Anguilla:20251220T100000
DTEND;TZID=America/Anguilla:20251220T180000
DTSTAMP:20260421T083718
CREATED:20250821T154559Z
LAST-MODIFIED:20251110T123422Z
UID:100101482-1766224800-1766253600@sonestastmaarten.com
SUMMARY:Bean Bag Toss Freeplay
DESCRIPTION:Enjoy this relaxing yet competitive game where you toss bean bags at a target board. Score points for accuracy and challenge other guests to a match!
URL:https://sonestastmaarten.com/event/poolside-cornhole/2025-12-20/
LOCATION:The Point Pool
CATEGORIES:Ocean Point Resort
ATTACH;FMTTYPE=image/jpeg:https://sonestastmaarten.com/wp-content/uploads/point-pool.jpg
END:VEVENT
BEGIN:VEVENT
DTSTART;TZID=America/Anguilla:20251219T150000
DTEND;TZID=America/Anguilla:20251219T170000
DTSTAMP:20260421T083718
CREATED:20250902T135124Z
LAST-MODIFIED:20260419T163052Z
UID:100118315-1766156400-1766163600@sonestastmaarten.com
SUMMARY:Poolside Live Music with Jojo
DESCRIPTION:Whether relaxing under the sun\, cocktail in hand\, or swimming in our pool\, our live music program featuring talented local musicians will fill your days with eclectic beats.
URL:https://sonestastmaarten.com/event/poolside-live-music-with-double-j/2025-12-19/
LOCATION:The Point Pool
CATEGORIES:Ocean Point Resort
ATTACH;FMTTYPE=image/jpeg:https://sonestastmaarten.com/wp-content/uploads/MB_Entertainment-001.jpg
END:VEVENT
BEGIN:VEVENT
DTSTART;TZID=America/Anguilla:20251219T100000
DTEND;TZID=America/Anguilla:20251219T180000
DTSTAMP:20260421T083718
CREATED:20250928T162214Z
LAST-MODIFIED:20260320T155627Z
UID:100101743-1766138400-1766167200@sonestastmaarten.com
SUMMARY:One Zero Pool Bar
DESCRIPTION:Pool bar at The Point Pool facing famous Maho Beach\, serving poolside cocktails with front-row views of iconic plane landings on Runway 10.
URL:https://sonestastmaarten.com/event/one-zero-pool-bar/2025-12-19/
LOCATION:The Point Pool
CATEGORIES:OP Dining Hours
ATTACH;FMTTYPE=image/png:https://sonestastmaarten.com/wp-content/uploads/one-zero-poolbar.png
END:VEVENT
BEGIN:VEVENT
DTSTART;TZID=America/Anguilla:20251219T100000
DTEND;TZID=America/Anguilla:20251219T180000
DTSTAMP:20260421T083718
CREATED:20250821T154559Z
LAST-MODIFIED:20251110T123422Z
UID:100101481-1766138400-1766167200@sonestastmaarten.com
SUMMARY:Bean Bag Toss Freeplay
DESCRIPTION:Enjoy this relaxing yet competitive game where you toss bean bags at a target board. Score points for accuracy and challenge other guests to a match!
URL:https://sonestastmaarten.com/event/poolside-cornhole/2025-12-19/
LOCATION:The Point Pool
CATEGORIES:Ocean Point Resort
ATTACH;FMTTYPE=image/jpeg:https://sonestastmaarten.com/wp-content/uploads/point-pool.jpg
END:VEVENT
BEGIN:VEVENT
DTSTART;TZID=America/Anguilla:20251218T153000
DTEND;TZID=America/Anguilla:20251218T173000
DTSTAMP:20260421T083718
CREATED:20250927T084345Z
LAST-MODIFIED:20260213T202439Z
UID:100110066-1766071800-1766079000@sonestastmaarten.com
SUMMARY:Point Pool Snacks
DESCRIPTION:Light poolside refreshments served at The Point Pool during late afternoon hours.
URL:https://sonestastmaarten.com/event/point-pool-snacks/2025-12-18/
LOCATION:The Point Pool
CATEGORIES:OP Dining Hours
ATTACH;FMTTYPE=image/png:https://sonestastmaarten.com/wp-content/uploads/one-zero-poolbar.png
END:VEVENT
BEGIN:VEVENT
DTSTART;TZID=America/Anguilla:20251218T150000
DTEND;TZID=America/Anguilla:20251218T170000
DTSTAMP:20260421T083718
CREATED:20251110T135702Z
LAST-MODIFIED:20260412T162907Z
UID:100116990-1766070000-1766077200@sonestastmaarten.com
SUMMARY:Poolside Live Music with Magic Singer
DESCRIPTION:You know your vacation started when you’re shimmying to poolside vibes. Whether relaxing under the sun\, cocktail in hand\, or swimming in our glistening pool\, our live music program featuring talented local musicians of Sint Maarten
URL:https://sonestastmaarten.com/event/poolside-live-music-with-alexia/2025-12-18/
LOCATION:The Point Pool
CATEGORIES:Ocean Point Resort
ATTACH;FMTTYPE=image/jpeg:https://sonestastmaarten.com/wp-content/uploads/OP_Pools_PointPool-008.jpg
END:VEVENT
BEGIN:VEVENT
DTSTART;TZID=America/Anguilla:20251218T100000
DTEND;TZID=America/Anguilla:20251218T180000
DTSTAMP:20260421T083718
CREATED:20250928T162214Z
LAST-MODIFIED:20260320T155627Z
UID:100110087-1766052000-1766080800@sonestastmaarten.com
SUMMARY:One Zero Pool Bar
DESCRIPTION:Pool bar at The Point Pool facing famous Maho Beach\, serving poolside cocktails with front-row views of iconic plane landings on Runway 10.
URL:https://sonestastmaarten.com/event/one-zero-pool-bar/2025-12-18/
LOCATION:The Point Pool
CATEGORIES:OP Dining Hours
ATTACH;FMTTYPE=image/png:https://sonestastmaarten.com/wp-content/uploads/one-zero-poolbar.png
END:VEVENT
BEGIN:VEVENT
DTSTART;TZID=America/Anguilla:20251218T100000
DTEND;TZID=America/Anguilla:20251218T180000
DTSTAMP:20260421T083718
CREATED:20250821T154559Z
LAST-MODIFIED:20251110T123422Z
UID:100101462-1766052000-1766080800@sonestastmaarten.com
SUMMARY:Bean Bag Toss Freeplay
DESCRIPTION:Enjoy this relaxing yet competitive game where you toss bean bags at a target board. Score points for accuracy and challenge other guests to a match!
URL:https://sonestastmaarten.com/event/poolside-cornhole/2025-12-18/
LOCATION:The Point Pool
CATEGORIES:Ocean Point Resort
ATTACH;FMTTYPE=image/jpeg:https://sonestastmaarten.com/wp-content/uploads/point-pool.jpg
END:VEVENT
BEGIN:VEVENT
DTSTART;TZID=America/Anguilla:20251217T140000
DTEND;TZID=America/Anguilla:20251217T160000
DTSTAMP:20260421T083718
CREATED:20251110T140438Z
LAST-MODIFIED:20260419T163026Z
UID:100118251-1765980000-1765987200@sonestastmaarten.com
SUMMARY:Poolside Live Music with Cedrick
DESCRIPTION:You know your vacation started when you’re shimmying to poolside vibes. Whether relaxing under the sun\, cocktail in hand\, or swimming in our glistening pool\, our live music program featuring talented local musicians of Sint Maarten
URL:https://sonestastmaarten.com/event/poolside-live-music-with-cedrick/2025-12-17/
LOCATION:The Point Pool
CATEGORIES:Ocean Point Resort
ATTACH;FMTTYPE=image/jpeg:https://sonestastmaarten.com/wp-content/uploads/point_pool-1.jpg
END:VEVENT
BEGIN:VEVENT
DTSTART;TZID=America/Anguilla:20251217T100000
DTEND;TZID=America/Anguilla:20251217T180000
DTSTAMP:20260421T083718
CREATED:20250928T162214Z
LAST-MODIFIED:20260320T155627Z
UID:100101741-1765965600-1765994400@sonestastmaarten.com
SUMMARY:One Zero Pool Bar
DESCRIPTION:Pool bar at The Point Pool facing famous Maho Beach\, serving poolside cocktails with front-row views of iconic plane landings on Runway 10.
URL:https://sonestastmaarten.com/event/one-zero-pool-bar/2025-12-17/
LOCATION:The Point Pool
CATEGORIES:OP Dining Hours
ATTACH;FMTTYPE=image/png:https://sonestastmaarten.com/wp-content/uploads/one-zero-poolbar.png
END:VEVENT
BEGIN:VEVENT
DTSTART;TZID=America/Anguilla:20251217T100000
DTEND;TZID=America/Anguilla:20251217T180000
DTSTAMP:20260421T083718
CREATED:20250821T154559Z
LAST-MODIFIED:20251110T123422Z
UID:100101449-1765965600-1765994400@sonestastmaarten.com
SUMMARY:Bean Bag Toss Freeplay
DESCRIPTION:Enjoy this relaxing yet competitive game where you toss bean bags at a target board. Score points for accuracy and challenge other guests to a match!
URL:https://sonestastmaarten.com/event/poolside-cornhole/2025-12-17/
LOCATION:The Point Pool
CATEGORIES:Ocean Point Resort
ATTACH;FMTTYPE=image/jpeg:https://sonestastmaarten.com/wp-content/uploads/point-pool.jpg
END:VEVENT
BEGIN:VEVENT
DTSTART;TZID=America/Anguilla:20251216T153000
DTEND;TZID=America/Anguilla:20251216T173000
DTSTAMP:20260421T083718
CREATED:20250927T084345Z
LAST-MODIFIED:20260213T202439Z
UID:100101794-1765899000-1765906200@sonestastmaarten.com
SUMMARY:Point Pool Snacks
DESCRIPTION:Light poolside refreshments served at The Point Pool during late afternoon hours.
URL:https://sonestastmaarten.com/event/point-pool-snacks/2025-12-16/
LOCATION:The Point Pool
CATEGORIES:OP Dining Hours
ATTACH;FMTTYPE=image/png:https://sonestastmaarten.com/wp-content/uploads/one-zero-poolbar.png
END:VEVENT
BEGIN:VEVENT
DTSTART;TZID=America/Anguilla:20251216T100000
DTEND;TZID=America/Anguilla:20251216T180000
DTSTAMP:20260421T083718
CREATED:20250928T162214Z
LAST-MODIFIED:20260320T155627Z
UID:100101740-1765879200-1765908000@sonestastmaarten.com
SUMMARY:One Zero Pool Bar
DESCRIPTION:Pool bar at The Point Pool facing famous Maho Beach\, serving poolside cocktails with front-row views of iconic plane landings on Runway 10.
URL:https://sonestastmaarten.com/event/one-zero-pool-bar/2025-12-16/
LOCATION:The Point Pool
CATEGORIES:OP Dining Hours
ATTACH;FMTTYPE=image/png:https://sonestastmaarten.com/wp-content/uploads/one-zero-poolbar.png
END:VEVENT
BEGIN:VEVENT
DTSTART;TZID=America/Anguilla:20251216T100000
DTEND;TZID=America/Anguilla:20251216T180000
DTSTAMP:20260421T083718
CREATED:20250821T154559Z
LAST-MODIFIED:20251110T123422Z
UID:100101248-1765879200-1765908000@sonestastmaarten.com
SUMMARY:Bean Bag Toss Freeplay
DESCRIPTION:Enjoy this relaxing yet competitive game where you toss bean bags at a target board. Score points for accuracy and challenge other guests to a match!
URL:https://sonestastmaarten.com/event/poolside-cornhole/2025-12-16/
LOCATION:The Point Pool
CATEGORIES:Ocean Point Resort
ATTACH;FMTTYPE=image/jpeg:https://sonestastmaarten.com/wp-content/uploads/point-pool.jpg
END:VEVENT
BEGIN:VEVENT
DTSTART;TZID=America/Anguilla:20251215T140000
DTEND;TZID=America/Anguilla:20251215T160000
DTSTAMP:20260421T083718
CREATED:20250821T160724Z
LAST-MODIFIED:20260419T162955Z
UID:100118225-1765807200-1765814400@sonestastmaarten.com
SUMMARY:Poolside Live Music with Jeremie
DESCRIPTION:You know your vacation started when you’re shimmying to poolside vibes. Whether relaxing under the sun\, cocktail in hand\, or swimming in our glistening pool\, our live music program featuring talented local musicians of Sint Maarten
URL:https://sonestastmaarten.com/event/poolside-steel-pan-with-brendon-2-2/2025-12-15/
LOCATION:The Point Pool
CATEGORIES:Ocean Point Resort
ATTACH;FMTTYPE=image/jpeg:https://sonestastmaarten.com/wp-content/uploads/MB_Entertainment-001.jpg
END:VEVENT
BEGIN:VEVENT
DTSTART;TZID=America/Anguilla:20251215T100000
DTEND;TZID=America/Anguilla:20251215T180000
DTSTAMP:20260421T083718
CREATED:20250928T162214Z
LAST-MODIFIED:20260320T155627Z
UID:100114108-1765792800-1765821600@sonestastmaarten.com
SUMMARY:One Zero Pool Bar
DESCRIPTION:Pool bar at The Point Pool facing famous Maho Beach\, serving poolside cocktails with front-row views of iconic plane landings on Runway 10.
URL:https://sonestastmaarten.com/event/one-zero-pool-bar/2025-12-15/
LOCATION:The Point Pool
CATEGORIES:OP Dining Hours
ATTACH;FMTTYPE=image/png:https://sonestastmaarten.com/wp-content/uploads/one-zero-poolbar.png
END:VEVENT
BEGIN:VEVENT
DTSTART;TZID=America/Anguilla:20251215T100000
DTEND;TZID=America/Anguilla:20251215T180000
DTSTAMP:20260421T083718
CREATED:20250821T154559Z
LAST-MODIFIED:20251110T123422Z
UID:100101247-1765792800-1765821600@sonestastmaarten.com
SUMMARY:Bean Bag Toss Freeplay
DESCRIPTION:Enjoy this relaxing yet competitive game where you toss bean bags at a target board. Score points for accuracy and challenge other guests to a match!
URL:https://sonestastmaarten.com/event/poolside-cornhole/2025-12-15/
LOCATION:The Point Pool
CATEGORIES:Ocean Point Resort
ATTACH;FMTTYPE=image/jpeg:https://sonestastmaarten.com/wp-content/uploads/point-pool.jpg
END:VEVENT
BEGIN:VEVENT
DTSTART;TZID=America/Anguilla:20251214T150000
DTEND;TZID=America/Anguilla:20251214T170000
DTSTAMP:20260421T083718
CREATED:20250902T135514Z
LAST-MODIFIED:20260407T150341Z
UID:100117118-1765724400-1765731600@sonestastmaarten.com
SUMMARY:Poolside Live Music with Jojo
DESCRIPTION:Whether relaxing under the sun\, cocktail in hand\, or swimming in our pool\, our live music program featuring talented local musicians will fill your days with eclectic beats.
URL:https://sonestastmaarten.com/event/poolside-live-music-with-jojo-2/2025-12-14/
LOCATION:The Point Pool
CATEGORIES:Ocean Point Resort
ATTACH;FMTTYPE=image/jpeg:https://sonestastmaarten.com/wp-content/uploads/MB_Entertainment-001.jpg
END:VEVENT
BEGIN:VEVENT
DTSTART;TZID=America/Anguilla:20251214T100000
DTEND;TZID=America/Anguilla:20251214T180000
DTSTAMP:20260421T083718
CREATED:20250928T162214Z
LAST-MODIFIED:20260320T155627Z
UID:100101738-1765706400-1765735200@sonestastmaarten.com
SUMMARY:One Zero Pool Bar
DESCRIPTION:Pool bar at The Point Pool facing famous Maho Beach\, serving poolside cocktails with front-row views of iconic plane landings on Runway 10.
URL:https://sonestastmaarten.com/event/one-zero-pool-bar/2025-12-14/
LOCATION:The Point Pool
CATEGORIES:OP Dining Hours
ATTACH;FMTTYPE=image/png:https://sonestastmaarten.com/wp-content/uploads/one-zero-poolbar.png
END:VEVENT
BEGIN:VEVENT
DTSTART;TZID=America/Anguilla:20251214T100000
DTEND;TZID=America/Anguilla:20251214T180000
DTSTAMP:20260421T083718
CREATED:20250821T154559Z
LAST-MODIFIED:20251110T123422Z
UID:100101181-1765706400-1765735200@sonestastmaarten.com
SUMMARY:Bean Bag Toss Freeplay
DESCRIPTION:Enjoy this relaxing yet competitive game where you toss bean bags at a target board. Score points for accuracy and challenge other guests to a match!
URL:https://sonestastmaarten.com/event/poolside-cornhole/2025-12-14/
LOCATION:The Point Pool
CATEGORIES:Ocean Point Resort
ATTACH;FMTTYPE=image/jpeg:https://sonestastmaarten.com/wp-content/uploads/point-pool.jpg
END:VEVENT
BEGIN:VEVENT
DTSTART;TZID=America/Anguilla:20251213T153000
DTEND;TZID=America/Anguilla:20251213T173000
DTSTAMP:20260421T083718
CREATED:20250927T084345Z
LAST-MODIFIED:20260213T202439Z
UID:100108023-1765639800-1765647000@sonestastmaarten.com
SUMMARY:Point Pool Snacks
DESCRIPTION:Light poolside refreshments served at The Point Pool during late afternoon hours.
URL:https://sonestastmaarten.com/event/point-pool-snacks/2025-12-13/
LOCATION:The Point Pool
CATEGORIES:OP Dining Hours
ATTACH;FMTTYPE=image/png:https://sonestastmaarten.com/wp-content/uploads/one-zero-poolbar.png
END:VEVENT
END:VCALENDAR