BEGIN:VCALENDAR
VERSION:2.0
PRODID:-//Sonesta Resorts Sint Maarten - ECPv6.15.17.1//NONSGML v1.0//EN
CALSCALE:GREGORIAN
METHOD:PUBLISH
X-WR-CALNAME:Sonesta Resorts Sint Maarten
X-ORIGINAL-URL:https://sonestastmaarten.com
X-WR-CALDESC:Events for Sonesta Resorts Sint Maarten
REFRESH-INTERVAL;VALUE=DURATION:PT1H
X-Robots-Tag:noindex
X-PUBLISHED-TTL:PT1H
BEGIN:VTIMEZONE
TZID:America/Anguilla
BEGIN:STANDARD
TZOFFSETFROM:-0400
TZOFFSETTO:-0400
TZNAME:AST
DTSTART:20250101T000000
END:STANDARD
END:VTIMEZONE
BEGIN:VEVENT
DTSTART;TZID=America/Anguilla:20260425T203000
DTEND;TZID=America/Anguilla:20260425T211500
DTSTAMP:20260421T085456
CREATED:20260407T145839Z
LAST-MODIFIED:20260407T145839Z
UID:100106086-1777149000-1777151700@sonestastmaarten.com
SUMMARY:Mike Price: The Rockstar Juggler From AGT 18+
DESCRIPTION:Get ready for an electrifying performance as Mike Price combines comedy\, music\, and incredible juggling skills! Join us at the Casino for this FREE high-energy show. 18+ Event
URL:https://sonestastmaarten.com/event/mike-price-the-rockstar-juggler-from-agt-18-2-2/2026-04-25/
LOCATION:Casino Royale Theater
CATEGORIES:Maho Beach Resort,Ocean Point Resort
ATTACH;FMTTYPE=image/jpeg:https://sonestastmaarten.com/wp-content/uploads/mike_price-1.jpg
END:VEVENT
BEGIN:VEVENT
DTSTART;TZID=America/Anguilla:20260502T203000
DTEND;TZID=America/Anguilla:20260502T211500
DTSTAMP:20260421T085456
CREATED:20260407T145839Z
LAST-MODIFIED:20260407T145839Z
UID:100106089-1777753800-1777756500@sonestastmaarten.com
SUMMARY:Mike Price: The Rockstar Juggler From AGT 18+
DESCRIPTION:Get ready for an electrifying performance as Mike Price combines comedy\, music\, and incredible juggling skills! Join us at the Casino for this FREE high-energy show. 18+ Event
URL:https://sonestastmaarten.com/event/mike-price-the-rockstar-juggler-from-agt-18-2-2/2026-05-02/
LOCATION:Casino Royale Theater
CATEGORIES:Maho Beach Resort,Ocean Point Resort
ATTACH;FMTTYPE=image/jpeg:https://sonestastmaarten.com/wp-content/uploads/mike_price-1.jpg
END:VEVENT
BEGIN:VEVENT
DTSTART;TZID=America/Anguilla:20260509T203000
DTEND;TZID=America/Anguilla:20260509T211500
DTSTAMP:20260421T085456
CREATED:20260407T145839Z
LAST-MODIFIED:20260407T145839Z
UID:100106090-1778358600-1778361300@sonestastmaarten.com
SUMMARY:Mike Price: The Rockstar Juggler From AGT 18+
DESCRIPTION:Get ready for an electrifying performance as Mike Price combines comedy\, music\, and incredible juggling skills! Join us at the Casino for this FREE high-energy show. 18+ Event
URL:https://sonestastmaarten.com/event/mike-price-the-rockstar-juggler-from-agt-18-2-2/2026-05-09/
LOCATION:Casino Royale Theater
CATEGORIES:Maho Beach Resort,Ocean Point Resort
ATTACH;FMTTYPE=image/jpeg:https://sonestastmaarten.com/wp-content/uploads/mike_price-1.jpg
END:VEVENT
BEGIN:VEVENT
DTSTART;TZID=America/Anguilla:20260516T203000
DTEND;TZID=America/Anguilla:20260516T211500
DTSTAMP:20260421T085456
CREATED:20260407T145839Z
LAST-MODIFIED:20260407T145839Z
UID:100106091-1778963400-1778966100@sonestastmaarten.com
SUMMARY:Mike Price: The Rockstar Juggler From AGT 18+
DESCRIPTION:Get ready for an electrifying performance as Mike Price combines comedy\, music\, and incredible juggling skills! Join us at the Casino for this FREE high-energy show. 18+ Event
URL:https://sonestastmaarten.com/event/mike-price-the-rockstar-juggler-from-agt-18-2-2/2026-05-16/
LOCATION:Casino Royale Theater
CATEGORIES:Maho Beach Resort,Ocean Point Resort
ATTACH;FMTTYPE=image/jpeg:https://sonestastmaarten.com/wp-content/uploads/mike_price-1.jpg
END:VEVENT
BEGIN:VEVENT
DTSTART;TZID=America/Anguilla:20260523T203000
DTEND;TZID=America/Anguilla:20260523T211500
DTSTAMP:20260421T085456
CREATED:20260407T145839Z
LAST-MODIFIED:20260407T145839Z
UID:100106092-1779568200-1779570900@sonestastmaarten.com
SUMMARY:Mike Price: The Rockstar Juggler From AGT 18+
DESCRIPTION:Get ready for an electrifying performance as Mike Price combines comedy\, music\, and incredible juggling skills! Join us at the Casino for this FREE high-energy show. 18+ Event
URL:https://sonestastmaarten.com/event/mike-price-the-rockstar-juggler-from-agt-18-2-2/2026-05-23/
LOCATION:Casino Royale Theater
CATEGORIES:Maho Beach Resort,Ocean Point Resort
ATTACH;FMTTYPE=image/jpeg:https://sonestastmaarten.com/wp-content/uploads/mike_price-1.jpg
END:VEVENT
BEGIN:VEVENT
DTSTART;TZID=America/Anguilla:20260530T203000
DTEND;TZID=America/Anguilla:20260530T211500
DTSTAMP:20260421T085456
CREATED:20260407T145839Z
LAST-MODIFIED:20260407T145839Z
UID:100106093-1780173000-1780175700@sonestastmaarten.com
SUMMARY:Mike Price: The Rockstar Juggler From AGT 18+
DESCRIPTION:Get ready for an electrifying performance as Mike Price combines comedy\, music\, and incredible juggling skills! Join us at the Casino for this FREE high-energy show. 18+ Event
URL:https://sonestastmaarten.com/event/mike-price-the-rockstar-juggler-from-agt-18-2-2/2026-05-30/
LOCATION:Casino Royale Theater
CATEGORIES:Maho Beach Resort,Ocean Point Resort
ATTACH;FMTTYPE=image/jpeg:https://sonestastmaarten.com/wp-content/uploads/mike_price-1.jpg
END:VEVENT
BEGIN:VEVENT
DTSTART;TZID=America/Anguilla:20260606T203000
DTEND;TZID=America/Anguilla:20260606T211500
DTSTAMP:20260421T085456
CREATED:20260407T145839Z
LAST-MODIFIED:20260407T145839Z
UID:100106094-1780777800-1780780500@sonestastmaarten.com
SUMMARY:Mike Price: The Rockstar Juggler From AGT 18+
DESCRIPTION:Get ready for an electrifying performance as Mike Price combines comedy\, music\, and incredible juggling skills! Join us at the Casino for this FREE high-energy show. 18+ Event
URL:https://sonestastmaarten.com/event/mike-price-the-rockstar-juggler-from-agt-18-2-2/2026-06-06/
LOCATION:Casino Royale Theater
CATEGORIES:Maho Beach Resort,Ocean Point Resort
ATTACH;FMTTYPE=image/jpeg:https://sonestastmaarten.com/wp-content/uploads/mike_price-1.jpg
END:VEVENT
BEGIN:VEVENT
DTSTART;TZID=America/Anguilla:20260613T203000
DTEND;TZID=America/Anguilla:20260613T211500
DTSTAMP:20260421T085456
CREATED:20260407T145839Z
LAST-MODIFIED:20260407T145839Z
UID:100106095-1781382600-1781385300@sonestastmaarten.com
SUMMARY:Mike Price: The Rockstar Juggler From AGT 18+
DESCRIPTION:Get ready for an electrifying performance as Mike Price combines comedy\, music\, and incredible juggling skills! Join us at the Casino for this FREE high-energy show. 18+ Event
URL:https://sonestastmaarten.com/event/mike-price-the-rockstar-juggler-from-agt-18-2-2/2026-06-13/
LOCATION:Casino Royale Theater
CATEGORIES:Maho Beach Resort,Ocean Point Resort
ATTACH;FMTTYPE=image/jpeg:https://sonestastmaarten.com/wp-content/uploads/mike_price-1.jpg
END:VEVENT
BEGIN:VEVENT
DTSTART;TZID=America/Anguilla:20260620T203000
DTEND;TZID=America/Anguilla:20260620T211500
DTSTAMP:20260421T085456
CREATED:20260407T145839Z
LAST-MODIFIED:20260407T145839Z
UID:100106096-1781987400-1781990100@sonestastmaarten.com
SUMMARY:Mike Price: The Rockstar Juggler From AGT 18+
DESCRIPTION:Get ready for an electrifying performance as Mike Price combines comedy\, music\, and incredible juggling skills! Join us at the Casino for this FREE high-energy show. 18+ Event
URL:https://sonestastmaarten.com/event/mike-price-the-rockstar-juggler-from-agt-18-2-2/2026-06-20/
LOCATION:Casino Royale Theater
CATEGORIES:Maho Beach Resort,Ocean Point Resort
ATTACH;FMTTYPE=image/jpeg:https://sonestastmaarten.com/wp-content/uploads/mike_price-1.jpg
END:VEVENT
BEGIN:VEVENT
DTSTART;TZID=America/Anguilla:20260627T203000
DTEND;TZID=America/Anguilla:20260627T211500
DTSTAMP:20260421T085456
CREATED:20260407T145839Z
LAST-MODIFIED:20260407T145839Z
UID:100106097-1782592200-1782594900@sonestastmaarten.com
SUMMARY:Mike Price: The Rockstar Juggler From AGT 18+
DESCRIPTION:Get ready for an electrifying performance as Mike Price combines comedy\, music\, and incredible juggling skills! Join us at the Casino for this FREE high-energy show. 18+ Event
URL:https://sonestastmaarten.com/event/mike-price-the-rockstar-juggler-from-agt-18-2-2/2026-06-27/
LOCATION:Casino Royale Theater
CATEGORIES:Maho Beach Resort,Ocean Point Resort
ATTACH;FMTTYPE=image/jpeg:https://sonestastmaarten.com/wp-content/uploads/mike_price-1.jpg
END:VEVENT
BEGIN:VEVENT
DTSTART;TZID=America/Anguilla:20260704T203000
DTEND;TZID=America/Anguilla:20260704T211500
DTSTAMP:20260421T085456
CREATED:20260407T145839Z
LAST-MODIFIED:20260407T145839Z
UID:100106098-1783197000-1783199700@sonestastmaarten.com
SUMMARY:Mike Price: The Rockstar Juggler From AGT 18+
DESCRIPTION:Get ready for an electrifying performance as Mike Price combines comedy\, music\, and incredible juggling skills! Join us at the Casino for this FREE high-energy show. 18+ Event
URL:https://sonestastmaarten.com/event/mike-price-the-rockstar-juggler-from-agt-18-2-2/2026-07-04/
LOCATION:Casino Royale Theater
CATEGORIES:Maho Beach Resort,Ocean Point Resort
ATTACH;FMTTYPE=image/jpeg:https://sonestastmaarten.com/wp-content/uploads/mike_price-1.jpg
END:VEVENT
BEGIN:VEVENT
DTSTART;TZID=America/Anguilla:20260711T203000
DTEND;TZID=America/Anguilla:20260711T211500
DTSTAMP:20260421T085456
CREATED:20260407T145839Z
LAST-MODIFIED:20260407T145839Z
UID:100106099-1783801800-1783804500@sonestastmaarten.com
SUMMARY:Mike Price: The Rockstar Juggler From AGT 18+
DESCRIPTION:Get ready for an electrifying performance as Mike Price combines comedy\, music\, and incredible juggling skills! Join us at the Casino for this FREE high-energy show. 18+ Event
URL:https://sonestastmaarten.com/event/mike-price-the-rockstar-juggler-from-agt-18-2-2/2026-07-11/
LOCATION:Casino Royale Theater
CATEGORIES:Maho Beach Resort,Ocean Point Resort
ATTACH;FMTTYPE=image/jpeg:https://sonestastmaarten.com/wp-content/uploads/mike_price-1.jpg
END:VEVENT
BEGIN:VEVENT
DTSTART;TZID=America/Anguilla:20260718T203000
DTEND;TZID=America/Anguilla:20260718T211500
DTSTAMP:20260421T085456
CREATED:20260407T145839Z
LAST-MODIFIED:20260407T145839Z
UID:100106100-1784406600-1784409300@sonestastmaarten.com
SUMMARY:Mike Price: The Rockstar Juggler From AGT 18+
DESCRIPTION:Get ready for an electrifying performance as Mike Price combines comedy\, music\, and incredible juggling skills! Join us at the Casino for this FREE high-energy show. 18+ Event
URL:https://sonestastmaarten.com/event/mike-price-the-rockstar-juggler-from-agt-18-2-2/2026-07-18/
LOCATION:Casino Royale Theater
CATEGORIES:Maho Beach Resort,Ocean Point Resort
ATTACH;FMTTYPE=image/jpeg:https://sonestastmaarten.com/wp-content/uploads/mike_price-1.jpg
END:VEVENT
BEGIN:VEVENT
DTSTART;TZID=America/Anguilla:20260725T203000
DTEND;TZID=America/Anguilla:20260725T211500
DTSTAMP:20260421T085456
CREATED:20260407T145839Z
LAST-MODIFIED:20260407T145839Z
UID:100106101-1785011400-1785014100@sonestastmaarten.com
SUMMARY:Mike Price: The Rockstar Juggler From AGT 18+
DESCRIPTION:Get ready for an electrifying performance as Mike Price combines comedy\, music\, and incredible juggling skills! Join us at the Casino for this FREE high-energy show. 18+ Event
URL:https://sonestastmaarten.com/event/mike-price-the-rockstar-juggler-from-agt-18-2-2/2026-07-25/
LOCATION:Casino Royale Theater
CATEGORIES:Maho Beach Resort,Ocean Point Resort
ATTACH;FMTTYPE=image/jpeg:https://sonestastmaarten.com/wp-content/uploads/mike_price-1.jpg
END:VEVENT
BEGIN:VEVENT
DTSTART;TZID=America/Anguilla:20260801T203000
DTEND;TZID=America/Anguilla:20260801T211500
DTSTAMP:20260421T085456
CREATED:20260407T145839Z
LAST-MODIFIED:20260407T145839Z
UID:100106102-1785616200-1785618900@sonestastmaarten.com
SUMMARY:Mike Price: The Rockstar Juggler From AGT 18+
DESCRIPTION:Get ready for an electrifying performance as Mike Price combines comedy\, music\, and incredible juggling skills! Join us at the Casino for this FREE high-energy show. 18+ Event
URL:https://sonestastmaarten.com/event/mike-price-the-rockstar-juggler-from-agt-18-2-2/2026-08-01/
LOCATION:Casino Royale Theater
CATEGORIES:Maho Beach Resort,Ocean Point Resort
ATTACH;FMTTYPE=image/jpeg:https://sonestastmaarten.com/wp-content/uploads/mike_price-1.jpg
END:VEVENT
BEGIN:VEVENT
DTSTART;TZID=America/Anguilla:20260808T203000
DTEND;TZID=America/Anguilla:20260808T211500
DTSTAMP:20260421T085456
CREATED:20260407T145839Z
LAST-MODIFIED:20260407T145839Z
UID:100106103-1786221000-1786223700@sonestastmaarten.com
SUMMARY:Mike Price: The Rockstar Juggler From AGT 18+
DESCRIPTION:Get ready for an electrifying performance as Mike Price combines comedy\, music\, and incredible juggling skills! Join us at the Casino for this FREE high-energy show. 18+ Event
URL:https://sonestastmaarten.com/event/mike-price-the-rockstar-juggler-from-agt-18-2-2/2026-08-08/
LOCATION:Casino Royale Theater
CATEGORIES:Maho Beach Resort,Ocean Point Resort
ATTACH;FMTTYPE=image/jpeg:https://sonestastmaarten.com/wp-content/uploads/mike_price-1.jpg
END:VEVENT
BEGIN:VEVENT
DTSTART;TZID=America/Anguilla:20260815T203000
DTEND;TZID=America/Anguilla:20260815T211500
DTSTAMP:20260421T085456
CREATED:20260407T145839Z
LAST-MODIFIED:20260407T145839Z
UID:100106104-1786825800-1786828500@sonestastmaarten.com
SUMMARY:Mike Price: The Rockstar Juggler From AGT 18+
DESCRIPTION:Get ready for an electrifying performance as Mike Price combines comedy\, music\, and incredible juggling skills! Join us at the Casino for this FREE high-energy show. 18+ Event
URL:https://sonestastmaarten.com/event/mike-price-the-rockstar-juggler-from-agt-18-2-2/2026-08-15/
LOCATION:Casino Royale Theater
CATEGORIES:Maho Beach Resort,Ocean Point Resort
ATTACH;FMTTYPE=image/jpeg:https://sonestastmaarten.com/wp-content/uploads/mike_price-1.jpg
END:VEVENT
BEGIN:VEVENT
DTSTART;TZID=America/Anguilla:20260822T203000
DTEND;TZID=America/Anguilla:20260822T211500
DTSTAMP:20260421T085456
CREATED:20260407T145839Z
LAST-MODIFIED:20260407T145839Z
UID:100106105-1787430600-1787433300@sonestastmaarten.com
SUMMARY:Mike Price: The Rockstar Juggler From AGT 18+
DESCRIPTION:Get ready for an electrifying performance as Mike Price combines comedy\, music\, and incredible juggling skills! Join us at the Casino for this FREE high-energy show. 18+ Event
URL:https://sonestastmaarten.com/event/mike-price-the-rockstar-juggler-from-agt-18-2-2/2026-08-22/
LOCATION:Casino Royale Theater
CATEGORIES:Maho Beach Resort,Ocean Point Resort
ATTACH;FMTTYPE=image/jpeg:https://sonestastmaarten.com/wp-content/uploads/mike_price-1.jpg
END:VEVENT
BEGIN:VEVENT
DTSTART;TZID=America/Anguilla:20260829T203000
DTEND;TZID=America/Anguilla:20260829T211500
DTSTAMP:20260421T085456
CREATED:20260407T145839Z
LAST-MODIFIED:20260407T145839Z
UID:100106106-1788035400-1788038100@sonestastmaarten.com
SUMMARY:Mike Price: The Rockstar Juggler From AGT 18+
DESCRIPTION:Get ready for an electrifying performance as Mike Price combines comedy\, music\, and incredible juggling skills! Join us at the Casino for this FREE high-energy show. 18+ Event
URL:https://sonestastmaarten.com/event/mike-price-the-rockstar-juggler-from-agt-18-2-2/2026-08-29/
LOCATION:Casino Royale Theater
CATEGORIES:Maho Beach Resort,Ocean Point Resort
ATTACH;FMTTYPE=image/jpeg:https://sonestastmaarten.com/wp-content/uploads/mike_price-1.jpg
END:VEVENT
BEGIN:VEVENT
DTSTART;TZID=America/Anguilla:20260905T203000
DTEND;TZID=America/Anguilla:20260905T211500
DTSTAMP:20260421T085456
CREATED:20260407T145839Z
LAST-MODIFIED:20260407T145839Z
UID:100106107-1788640200-1788642900@sonestastmaarten.com
SUMMARY:Mike Price: The Rockstar Juggler From AGT 18+
DESCRIPTION:Get ready for an electrifying performance as Mike Price combines comedy\, music\, and incredible juggling skills! Join us at the Casino for this FREE high-energy show. 18+ Event
URL:https://sonestastmaarten.com/event/mike-price-the-rockstar-juggler-from-agt-18-2-2/2026-09-05/
LOCATION:Casino Royale Theater
CATEGORIES:Maho Beach Resort,Ocean Point Resort
ATTACH;FMTTYPE=image/jpeg:https://sonestastmaarten.com/wp-content/uploads/mike_price-1.jpg
END:VEVENT
BEGIN:VEVENT
DTSTART;TZID=America/Anguilla:20260912T203000
DTEND;TZID=America/Anguilla:20260912T211500
DTSTAMP:20260421T085456
CREATED:20260407T145839Z
LAST-MODIFIED:20260407T145839Z
UID:100106108-1789245000-1789247700@sonestastmaarten.com
SUMMARY:Mike Price: The Rockstar Juggler From AGT 18+
DESCRIPTION:Get ready for an electrifying performance as Mike Price combines comedy\, music\, and incredible juggling skills! Join us at the Casino for this FREE high-energy show. 18+ Event
URL:https://sonestastmaarten.com/event/mike-price-the-rockstar-juggler-from-agt-18-2-2/2026-09-12/
LOCATION:Casino Royale Theater
CATEGORIES:Maho Beach Resort,Ocean Point Resort
ATTACH;FMTTYPE=image/jpeg:https://sonestastmaarten.com/wp-content/uploads/mike_price-1.jpg
END:VEVENT
BEGIN:VEVENT
DTSTART;TZID=America/Anguilla:20260919T203000
DTEND;TZID=America/Anguilla:20260919T211500
DTSTAMP:20260421T085456
CREATED:20260407T145839Z
LAST-MODIFIED:20260407T145839Z
UID:100106109-1789849800-1789852500@sonestastmaarten.com
SUMMARY:Mike Price: The Rockstar Juggler From AGT 18+
DESCRIPTION:Get ready for an electrifying performance as Mike Price combines comedy\, music\, and incredible juggling skills! Join us at the Casino for this FREE high-energy show. 18+ Event
URL:https://sonestastmaarten.com/event/mike-price-the-rockstar-juggler-from-agt-18-2-2/2026-09-19/
LOCATION:Casino Royale Theater
CATEGORIES:Maho Beach Resort,Ocean Point Resort
ATTACH;FMTTYPE=image/jpeg:https://sonestastmaarten.com/wp-content/uploads/mike_price-1.jpg
END:VEVENT
BEGIN:VEVENT
DTSTART;TZID=America/Anguilla:20260926T203000
DTEND;TZID=America/Anguilla:20260926T211500
DTSTAMP:20260421T085456
CREATED:20260407T145839Z
LAST-MODIFIED:20260407T145839Z
UID:100106110-1790454600-1790457300@sonestastmaarten.com
SUMMARY:Mike Price: The Rockstar Juggler From AGT 18+
DESCRIPTION:Get ready for an electrifying performance as Mike Price combines comedy\, music\, and incredible juggling skills! Join us at the Casino for this FREE high-energy show. 18+ Event
URL:https://sonestastmaarten.com/event/mike-price-the-rockstar-juggler-from-agt-18-2-2/2026-09-26/
LOCATION:Casino Royale Theater
CATEGORIES:Maho Beach Resort,Ocean Point Resort
ATTACH;FMTTYPE=image/jpeg:https://sonestastmaarten.com/wp-content/uploads/mike_price-1.jpg
END:VEVENT
BEGIN:VEVENT
DTSTART;TZID=America/Anguilla:20261003T203000
DTEND;TZID=America/Anguilla:20261003T211500
DTSTAMP:20260421T085456
CREATED:20260407T145839Z
LAST-MODIFIED:20260407T145839Z
UID:100106111-1791059400-1791062100@sonestastmaarten.com
SUMMARY:Mike Price: The Rockstar Juggler From AGT 18+
DESCRIPTION:Get ready for an electrifying performance as Mike Price combines comedy\, music\, and incredible juggling skills! Join us at the Casino for this FREE high-energy show. 18+ Event
URL:https://sonestastmaarten.com/event/mike-price-the-rockstar-juggler-from-agt-18-2-2/2026-10-03/
LOCATION:Casino Royale Theater
CATEGORIES:Maho Beach Resort,Ocean Point Resort
ATTACH;FMTTYPE=image/jpeg:https://sonestastmaarten.com/wp-content/uploads/mike_price-1.jpg
END:VEVENT
BEGIN:VEVENT
DTSTART;TZID=America/Anguilla:20261010T203000
DTEND;TZID=America/Anguilla:20261010T211500
DTSTAMP:20260421T085456
CREATED:20260407T145839Z
LAST-MODIFIED:20260407T145839Z
UID:100106112-1791664200-1791666900@sonestastmaarten.com
SUMMARY:Mike Price: The Rockstar Juggler From AGT 18+
DESCRIPTION:Get ready for an electrifying performance as Mike Price combines comedy\, music\, and incredible juggling skills! Join us at the Casino for this FREE high-energy show. 18+ Event
URL:https://sonestastmaarten.com/event/mike-price-the-rockstar-juggler-from-agt-18-2-2/2026-10-10/
LOCATION:Casino Royale Theater
CATEGORIES:Maho Beach Resort,Ocean Point Resort
ATTACH;FMTTYPE=image/jpeg:https://sonestastmaarten.com/wp-content/uploads/mike_price-1.jpg
END:VEVENT
BEGIN:VEVENT
DTSTART;TZID=America/Anguilla:20261017T203000
DTEND;TZID=America/Anguilla:20261017T211500
DTSTAMP:20260421T085456
CREATED:20260407T145839Z
LAST-MODIFIED:20260407T145839Z
UID:100106113-1792269000-1792271700@sonestastmaarten.com
SUMMARY:Mike Price: The Rockstar Juggler From AGT 18+
DESCRIPTION:Get ready for an electrifying performance as Mike Price combines comedy\, music\, and incredible juggling skills! Join us at the Casino for this FREE high-energy show. 18+ Event
URL:https://sonestastmaarten.com/event/mike-price-the-rockstar-juggler-from-agt-18-2-2/2026-10-17/
LOCATION:Casino Royale Theater
CATEGORIES:Maho Beach Resort,Ocean Point Resort
ATTACH;FMTTYPE=image/jpeg:https://sonestastmaarten.com/wp-content/uploads/mike_price-1.jpg
END:VEVENT
BEGIN:VEVENT
DTSTART;TZID=America/Anguilla:20261024T203000
DTEND;TZID=America/Anguilla:20261024T211500
DTSTAMP:20260421T085456
CREATED:20260407T145839Z
LAST-MODIFIED:20260407T145839Z
UID:100106114-1792873800-1792876500@sonestastmaarten.com
SUMMARY:Mike Price: The Rockstar Juggler From AGT 18+
DESCRIPTION:Get ready for an electrifying performance as Mike Price combines comedy\, music\, and incredible juggling skills! Join us at the Casino for this FREE high-energy show. 18+ Event
URL:https://sonestastmaarten.com/event/mike-price-the-rockstar-juggler-from-agt-18-2-2/2026-10-24/
LOCATION:Casino Royale Theater
CATEGORIES:Maho Beach Resort,Ocean Point Resort
ATTACH;FMTTYPE=image/jpeg:https://sonestastmaarten.com/wp-content/uploads/mike_price-1.jpg
END:VEVENT
BEGIN:VEVENT
DTSTART;TZID=America/Anguilla:20261031T203000
DTEND;TZID=America/Anguilla:20261031T211500
DTSTAMP:20260421T085456
CREATED:20260407T145839Z
LAST-MODIFIED:20260407T145839Z
UID:100106115-1793478600-1793481300@sonestastmaarten.com
SUMMARY:Mike Price: The Rockstar Juggler From AGT 18+
DESCRIPTION:Get ready for an electrifying performance as Mike Price combines comedy\, music\, and incredible juggling skills! Join us at the Casino for this FREE high-energy show. 18+ Event
URL:https://sonestastmaarten.com/event/mike-price-the-rockstar-juggler-from-agt-18-2-2/2026-10-31/
LOCATION:Casino Royale Theater
CATEGORIES:Maho Beach Resort,Ocean Point Resort
ATTACH;FMTTYPE=image/jpeg:https://sonestastmaarten.com/wp-content/uploads/mike_price-1.jpg
END:VEVENT
BEGIN:VEVENT
DTSTART;TZID=America/Anguilla:20261107T203000
DTEND;TZID=America/Anguilla:20261107T211500
DTSTAMP:20260421T085456
CREATED:20260407T145839Z
LAST-MODIFIED:20260407T145839Z
UID:100106116-1794083400-1794086100@sonestastmaarten.com
SUMMARY:Mike Price: The Rockstar Juggler From AGT 18+
DESCRIPTION:Get ready for an electrifying performance as Mike Price combines comedy\, music\, and incredible juggling skills! Join us at the Casino for this FREE high-energy show. 18+ Event
URL:https://sonestastmaarten.com/event/mike-price-the-rockstar-juggler-from-agt-18-2-2/2026-11-07/
LOCATION:Casino Royale Theater
CATEGORIES:Maho Beach Resort,Ocean Point Resort
ATTACH;FMTTYPE=image/jpeg:https://sonestastmaarten.com/wp-content/uploads/mike_price-1.jpg
END:VEVENT
BEGIN:VEVENT
DTSTART;TZID=America/Anguilla:20261114T203000
DTEND;TZID=America/Anguilla:20261114T211500
DTSTAMP:20260421T085456
CREATED:20260407T145839Z
LAST-MODIFIED:20260407T145839Z
UID:100106117-1794688200-1794690900@sonestastmaarten.com
SUMMARY:Mike Price: The Rockstar Juggler From AGT 18+
DESCRIPTION:Get ready for an electrifying performance as Mike Price combines comedy\, music\, and incredible juggling skills! Join us at the Casino for this FREE high-energy show. 18+ Event
URL:https://sonestastmaarten.com/event/mike-price-the-rockstar-juggler-from-agt-18-2-2/2026-11-14/
LOCATION:Casino Royale Theater
CATEGORIES:Maho Beach Resort,Ocean Point Resort
ATTACH;FMTTYPE=image/jpeg:https://sonestastmaarten.com/wp-content/uploads/mike_price-1.jpg
END:VEVENT
END:VCALENDAR