BEGIN:VCALENDAR
VERSION:2.0
PRODID:-//Sonesta Resorts Sint Maarten - ECPv6.15.17.1//NONSGML v1.0//EN
CALSCALE:GREGORIAN
METHOD:PUBLISH
X-WR-CALNAME:Sonesta Resorts Sint Maarten
X-ORIGINAL-URL:https://sonestastmaarten.com
X-WR-CALDESC:Events for Sonesta Resorts Sint Maarten
REFRESH-INTERVAL;VALUE=DURATION:PT1H
X-Robots-Tag:noindex
X-PUBLISHED-TTL:PT1H
BEGIN:VTIMEZONE
TZID:America/Anguilla
BEGIN:STANDARD
TZOFFSETFROM:-0400
TZOFFSETTO:-0400
TZNAME:AST
DTSTART:20250101T000000
END:STANDARD
END:VTIMEZONE
BEGIN:VEVENT
DTSTART;TZID=America/Anguilla:20260429T130000
DTEND;TZID=America/Anguilla:20260429T140000
DTSTAMP:20260423T090136
CREATED:20251212T190942Z
LAST-MODIFIED:20260419T163007Z
UID:100109207-1777467600-1777471200@sonestastmaarten.com
SUMMARY:Pool Party with Entertainment Team
DESCRIPTION:Dive into the beat! Joun out entertainment team for the hottest tracks and party vibes to the pool—splash\, dance\, and vibe all afternoon.
URL:https://sonestastmaarten.com/event/pool-party-with-dj-3-2/2026-04-29/
LOCATION:The Point Pool
CATEGORIES:Ocean Point Resort
ATTACH;FMTTYPE=image/jpeg:https://sonestastmaarten.com/wp-content/uploads/Entertainment1.jpg
END:VEVENT
BEGIN:VEVENT
DTSTART;TZID=America/Anguilla:20260506T130000
DTEND;TZID=America/Anguilla:20260506T140000
DTSTAMP:20260423T090136
CREATED:20251212T190942Z
LAST-MODIFIED:20260419T163007Z
UID:100109208-1778072400-1778076000@sonestastmaarten.com
SUMMARY:Pool Party with Entertainment Team
DESCRIPTION:Dive into the beat! Joun out entertainment team for the hottest tracks and party vibes to the pool—splash\, dance\, and vibe all afternoon.
URL:https://sonestastmaarten.com/event/pool-party-with-dj-3-2/2026-05-06/
LOCATION:The Point Pool
CATEGORIES:Ocean Point Resort
ATTACH;FMTTYPE=image/jpeg:https://sonestastmaarten.com/wp-content/uploads/Entertainment1.jpg
END:VEVENT
BEGIN:VEVENT
DTSTART;TZID=America/Anguilla:20260513T130000
DTEND;TZID=America/Anguilla:20260513T140000
DTSTAMP:20260423T090136
CREATED:20251212T190942Z
LAST-MODIFIED:20260419T163007Z
UID:100109209-1778677200-1778680800@sonestastmaarten.com
SUMMARY:Pool Party with Entertainment Team
DESCRIPTION:Dive into the beat! Joun out entertainment team for the hottest tracks and party vibes to the pool—splash\, dance\, and vibe all afternoon.
URL:https://sonestastmaarten.com/event/pool-party-with-dj-3-2/2026-05-13/
LOCATION:The Point Pool
CATEGORIES:Ocean Point Resort
ATTACH;FMTTYPE=image/jpeg:https://sonestastmaarten.com/wp-content/uploads/Entertainment1.jpg
END:VEVENT
BEGIN:VEVENT
DTSTART;TZID=America/Anguilla:20260520T130000
DTEND;TZID=America/Anguilla:20260520T140000
DTSTAMP:20260423T090136
CREATED:20251212T190942Z
LAST-MODIFIED:20260419T163007Z
UID:100109210-1779282000-1779285600@sonestastmaarten.com
SUMMARY:Pool Party with Entertainment Team
DESCRIPTION:Dive into the beat! Joun out entertainment team for the hottest tracks and party vibes to the pool—splash\, dance\, and vibe all afternoon.
URL:https://sonestastmaarten.com/event/pool-party-with-dj-3-2/2026-05-20/
LOCATION:The Point Pool
CATEGORIES:Ocean Point Resort
ATTACH;FMTTYPE=image/jpeg:https://sonestastmaarten.com/wp-content/uploads/Entertainment1.jpg
END:VEVENT
BEGIN:VEVENT
DTSTART;TZID=America/Anguilla:20260527T130000
DTEND;TZID=America/Anguilla:20260527T140000
DTSTAMP:20260423T090136
CREATED:20251212T190942Z
LAST-MODIFIED:20260419T163007Z
UID:100109211-1779886800-1779890400@sonestastmaarten.com
SUMMARY:Pool Party with Entertainment Team
DESCRIPTION:Dive into the beat! Joun out entertainment team for the hottest tracks and party vibes to the pool—splash\, dance\, and vibe all afternoon.
URL:https://sonestastmaarten.com/event/pool-party-with-dj-3-2/2026-05-27/
LOCATION:The Point Pool
CATEGORIES:Ocean Point Resort
ATTACH;FMTTYPE=image/jpeg:https://sonestastmaarten.com/wp-content/uploads/Entertainment1.jpg
END:VEVENT
BEGIN:VEVENT
DTSTART;TZID=America/Anguilla:20260603T130000
DTEND;TZID=America/Anguilla:20260603T140000
DTSTAMP:20260423T090136
CREATED:20251212T190942Z
LAST-MODIFIED:20260419T163007Z
UID:100109212-1780491600-1780495200@sonestastmaarten.com
SUMMARY:Pool Party with Entertainment Team
DESCRIPTION:Dive into the beat! Joun out entertainment team for the hottest tracks and party vibes to the pool—splash\, dance\, and vibe all afternoon.
URL:https://sonestastmaarten.com/event/pool-party-with-dj-3-2/2026-06-03/
LOCATION:The Point Pool
CATEGORIES:Ocean Point Resort
ATTACH;FMTTYPE=image/jpeg:https://sonestastmaarten.com/wp-content/uploads/Entertainment1.jpg
END:VEVENT
BEGIN:VEVENT
DTSTART;TZID=America/Anguilla:20260610T130000
DTEND;TZID=America/Anguilla:20260610T140000
DTSTAMP:20260423T090136
CREATED:20251212T190942Z
LAST-MODIFIED:20260419T163007Z
UID:100109213-1781096400-1781100000@sonestastmaarten.com
SUMMARY:Pool Party with Entertainment Team
DESCRIPTION:Dive into the beat! Joun out entertainment team for the hottest tracks and party vibes to the pool—splash\, dance\, and vibe all afternoon.
URL:https://sonestastmaarten.com/event/pool-party-with-dj-3-2/2026-06-10/
LOCATION:The Point Pool
CATEGORIES:Ocean Point Resort
ATTACH;FMTTYPE=image/jpeg:https://sonestastmaarten.com/wp-content/uploads/Entertainment1.jpg
END:VEVENT
BEGIN:VEVENT
DTSTART;TZID=America/Anguilla:20260617T130000
DTEND;TZID=America/Anguilla:20260617T140000
DTSTAMP:20260423T090136
CREATED:20251212T190942Z
LAST-MODIFIED:20260419T163007Z
UID:100109214-1781701200-1781704800@sonestastmaarten.com
SUMMARY:Pool Party with Entertainment Team
DESCRIPTION:Dive into the beat! Joun out entertainment team for the hottest tracks and party vibes to the pool—splash\, dance\, and vibe all afternoon.
URL:https://sonestastmaarten.com/event/pool-party-with-dj-3-2/2026-06-17/
LOCATION:The Point Pool
CATEGORIES:Ocean Point Resort
ATTACH;FMTTYPE=image/jpeg:https://sonestastmaarten.com/wp-content/uploads/Entertainment1.jpg
END:VEVENT
BEGIN:VEVENT
DTSTART;TZID=America/Anguilla:20260624T130000
DTEND;TZID=America/Anguilla:20260624T140000
DTSTAMP:20260423T090136
CREATED:20251212T190942Z
LAST-MODIFIED:20260419T163007Z
UID:100109215-1782306000-1782309600@sonestastmaarten.com
SUMMARY:Pool Party with Entertainment Team
DESCRIPTION:Dive into the beat! Joun out entertainment team for the hottest tracks and party vibes to the pool—splash\, dance\, and vibe all afternoon.
URL:https://sonestastmaarten.com/event/pool-party-with-dj-3-2/2026-06-24/
LOCATION:The Point Pool
CATEGORIES:Ocean Point Resort
ATTACH;FMTTYPE=image/jpeg:https://sonestastmaarten.com/wp-content/uploads/Entertainment1.jpg
END:VEVENT
BEGIN:VEVENT
DTSTART;TZID=America/Anguilla:20260701T130000
DTEND;TZID=America/Anguilla:20260701T140000
DTSTAMP:20260423T090136
CREATED:20251212T190942Z
LAST-MODIFIED:20260419T163007Z
UID:100109216-1782910800-1782914400@sonestastmaarten.com
SUMMARY:Pool Party with Entertainment Team
DESCRIPTION:Dive into the beat! Joun out entertainment team for the hottest tracks and party vibes to the pool—splash\, dance\, and vibe all afternoon.
URL:https://sonestastmaarten.com/event/pool-party-with-dj-3-2/2026-07-01/
LOCATION:The Point Pool
CATEGORIES:Ocean Point Resort
ATTACH;FMTTYPE=image/jpeg:https://sonestastmaarten.com/wp-content/uploads/Entertainment1.jpg
END:VEVENT
BEGIN:VEVENT
DTSTART;TZID=America/Anguilla:20260708T130000
DTEND;TZID=America/Anguilla:20260708T140000
DTSTAMP:20260423T090136
CREATED:20251212T190942Z
LAST-MODIFIED:20260419T163007Z
UID:100109217-1783515600-1783519200@sonestastmaarten.com
SUMMARY:Pool Party with Entertainment Team
DESCRIPTION:Dive into the beat! Joun out entertainment team for the hottest tracks and party vibes to the pool—splash\, dance\, and vibe all afternoon.
URL:https://sonestastmaarten.com/event/pool-party-with-dj-3-2/2026-07-08/
LOCATION:The Point Pool
CATEGORIES:Ocean Point Resort
ATTACH;FMTTYPE=image/jpeg:https://sonestastmaarten.com/wp-content/uploads/Entertainment1.jpg
END:VEVENT
BEGIN:VEVENT
DTSTART;TZID=America/Anguilla:20260715T130000
DTEND;TZID=America/Anguilla:20260715T140000
DTSTAMP:20260423T090136
CREATED:20251212T190942Z
LAST-MODIFIED:20260419T163007Z
UID:100109218-1784120400-1784124000@sonestastmaarten.com
SUMMARY:Pool Party with Entertainment Team
DESCRIPTION:Dive into the beat! Joun out entertainment team for the hottest tracks and party vibes to the pool—splash\, dance\, and vibe all afternoon.
URL:https://sonestastmaarten.com/event/pool-party-with-dj-3-2/2026-07-15/
LOCATION:The Point Pool
CATEGORIES:Ocean Point Resort
ATTACH;FMTTYPE=image/jpeg:https://sonestastmaarten.com/wp-content/uploads/Entertainment1.jpg
END:VEVENT
BEGIN:VEVENT
DTSTART;TZID=America/Anguilla:20260722T130000
DTEND;TZID=America/Anguilla:20260722T140000
DTSTAMP:20260423T090136
CREATED:20251212T190942Z
LAST-MODIFIED:20260419T163007Z
UID:100109219-1784725200-1784728800@sonestastmaarten.com
SUMMARY:Pool Party with Entertainment Team
DESCRIPTION:Dive into the beat! Joun out entertainment team for the hottest tracks and party vibes to the pool—splash\, dance\, and vibe all afternoon.
URL:https://sonestastmaarten.com/event/pool-party-with-dj-3-2/2026-07-22/
LOCATION:The Point Pool
CATEGORIES:Ocean Point Resort
ATTACH;FMTTYPE=image/jpeg:https://sonestastmaarten.com/wp-content/uploads/Entertainment1.jpg
END:VEVENT
BEGIN:VEVENT
DTSTART;TZID=America/Anguilla:20260729T130000
DTEND;TZID=America/Anguilla:20260729T140000
DTSTAMP:20260423T090136
CREATED:20251212T190942Z
LAST-MODIFIED:20260419T163007Z
UID:100109220-1785330000-1785333600@sonestastmaarten.com
SUMMARY:Pool Party with Entertainment Team
DESCRIPTION:Dive into the beat! Joun out entertainment team for the hottest tracks and party vibes to the pool—splash\, dance\, and vibe all afternoon.
URL:https://sonestastmaarten.com/event/pool-party-with-dj-3-2/2026-07-29/
LOCATION:The Point Pool
CATEGORIES:Ocean Point Resort
ATTACH;FMTTYPE=image/jpeg:https://sonestastmaarten.com/wp-content/uploads/Entertainment1.jpg
END:VEVENT
BEGIN:VEVENT
DTSTART;TZID=America/Anguilla:20260805T130000
DTEND;TZID=America/Anguilla:20260805T140000
DTSTAMP:20260423T090136
CREATED:20251212T190942Z
LAST-MODIFIED:20260419T163007Z
UID:100109221-1785934800-1785938400@sonestastmaarten.com
SUMMARY:Pool Party with Entertainment Team
DESCRIPTION:Dive into the beat! Joun out entertainment team for the hottest tracks and party vibes to the pool—splash\, dance\, and vibe all afternoon.
URL:https://sonestastmaarten.com/event/pool-party-with-dj-3-2/2026-08-05/
LOCATION:The Point Pool
CATEGORIES:Ocean Point Resort
ATTACH;FMTTYPE=image/jpeg:https://sonestastmaarten.com/wp-content/uploads/Entertainment1.jpg
END:VEVENT
BEGIN:VEVENT
DTSTART;TZID=America/Anguilla:20260812T130000
DTEND;TZID=America/Anguilla:20260812T140000
DTSTAMP:20260423T090136
CREATED:20251212T190942Z
LAST-MODIFIED:20260419T163007Z
UID:100109222-1786539600-1786543200@sonestastmaarten.com
SUMMARY:Pool Party with Entertainment Team
DESCRIPTION:Dive into the beat! Joun out entertainment team for the hottest tracks and party vibes to the pool—splash\, dance\, and vibe all afternoon.
URL:https://sonestastmaarten.com/event/pool-party-with-dj-3-2/2026-08-12/
LOCATION:The Point Pool
CATEGORIES:Ocean Point Resort
ATTACH;FMTTYPE=image/jpeg:https://sonestastmaarten.com/wp-content/uploads/Entertainment1.jpg
END:VEVENT
BEGIN:VEVENT
DTSTART;TZID=America/Anguilla:20260819T130000
DTEND;TZID=America/Anguilla:20260819T140000
DTSTAMP:20260423T090136
CREATED:20251212T190942Z
LAST-MODIFIED:20260419T163007Z
UID:100109223-1787144400-1787148000@sonestastmaarten.com
SUMMARY:Pool Party with Entertainment Team
DESCRIPTION:Dive into the beat! Joun out entertainment team for the hottest tracks and party vibes to the pool—splash\, dance\, and vibe all afternoon.
URL:https://sonestastmaarten.com/event/pool-party-with-dj-3-2/2026-08-19/
LOCATION:The Point Pool
CATEGORIES:Ocean Point Resort
ATTACH;FMTTYPE=image/jpeg:https://sonestastmaarten.com/wp-content/uploads/Entertainment1.jpg
END:VEVENT
BEGIN:VEVENT
DTSTART;TZID=America/Anguilla:20260826T130000
DTEND;TZID=America/Anguilla:20260826T140000
DTSTAMP:20260423T090136
CREATED:20251212T190942Z
LAST-MODIFIED:20260419T163007Z
UID:100109224-1787749200-1787752800@sonestastmaarten.com
SUMMARY:Pool Party with Entertainment Team
DESCRIPTION:Dive into the beat! Joun out entertainment team for the hottest tracks and party vibes to the pool—splash\, dance\, and vibe all afternoon.
URL:https://sonestastmaarten.com/event/pool-party-with-dj-3-2/2026-08-26/
LOCATION:The Point Pool
CATEGORIES:Ocean Point Resort
ATTACH;FMTTYPE=image/jpeg:https://sonestastmaarten.com/wp-content/uploads/Entertainment1.jpg
END:VEVENT
BEGIN:VEVENT
DTSTART;TZID=America/Anguilla:20260902T130000
DTEND;TZID=America/Anguilla:20260902T140000
DTSTAMP:20260423T090136
CREATED:20251212T190942Z
LAST-MODIFIED:20260419T163007Z
UID:100109225-1788354000-1788357600@sonestastmaarten.com
SUMMARY:Pool Party with Entertainment Team
DESCRIPTION:Dive into the beat! Joun out entertainment team for the hottest tracks and party vibes to the pool—splash\, dance\, and vibe all afternoon.
URL:https://sonestastmaarten.com/event/pool-party-with-dj-3-2/2026-09-02/
LOCATION:The Point Pool
CATEGORIES:Ocean Point Resort
ATTACH;FMTTYPE=image/jpeg:https://sonestastmaarten.com/wp-content/uploads/Entertainment1.jpg
END:VEVENT
BEGIN:VEVENT
DTSTART;TZID=America/Anguilla:20260909T130000
DTEND;TZID=America/Anguilla:20260909T140000
DTSTAMP:20260423T090136
CREATED:20251212T190942Z
LAST-MODIFIED:20260419T163007Z
UID:100109226-1788958800-1788962400@sonestastmaarten.com
SUMMARY:Pool Party with Entertainment Team
DESCRIPTION:Dive into the beat! Joun out entertainment team for the hottest tracks and party vibes to the pool—splash\, dance\, and vibe all afternoon.
URL:https://sonestastmaarten.com/event/pool-party-with-dj-3-2/2026-09-09/
LOCATION:The Point Pool
CATEGORIES:Ocean Point Resort
ATTACH;FMTTYPE=image/jpeg:https://sonestastmaarten.com/wp-content/uploads/Entertainment1.jpg
END:VEVENT
BEGIN:VEVENT
DTSTART;TZID=America/Anguilla:20260916T130000
DTEND;TZID=America/Anguilla:20260916T140000
DTSTAMP:20260423T090136
CREATED:20251212T190942Z
LAST-MODIFIED:20260419T163007Z
UID:100109227-1789563600-1789567200@sonestastmaarten.com
SUMMARY:Pool Party with Entertainment Team
DESCRIPTION:Dive into the beat! Joun out entertainment team for the hottest tracks and party vibes to the pool—splash\, dance\, and vibe all afternoon.
URL:https://sonestastmaarten.com/event/pool-party-with-dj-3-2/2026-09-16/
LOCATION:The Point Pool
CATEGORIES:Ocean Point Resort
ATTACH;FMTTYPE=image/jpeg:https://sonestastmaarten.com/wp-content/uploads/Entertainment1.jpg
END:VEVENT
BEGIN:VEVENT
DTSTART;TZID=America/Anguilla:20260923T130000
DTEND;TZID=America/Anguilla:20260923T140000
DTSTAMP:20260423T090136
CREATED:20251212T190942Z
LAST-MODIFIED:20260419T163007Z
UID:100109228-1790168400-1790172000@sonestastmaarten.com
SUMMARY:Pool Party with Entertainment Team
DESCRIPTION:Dive into the beat! Joun out entertainment team for the hottest tracks and party vibes to the pool—splash\, dance\, and vibe all afternoon.
URL:https://sonestastmaarten.com/event/pool-party-with-dj-3-2/2026-09-23/
LOCATION:The Point Pool
CATEGORIES:Ocean Point Resort
ATTACH;FMTTYPE=image/jpeg:https://sonestastmaarten.com/wp-content/uploads/Entertainment1.jpg
END:VEVENT
BEGIN:VEVENT
DTSTART;TZID=America/Anguilla:20260930T130000
DTEND;TZID=America/Anguilla:20260930T140000
DTSTAMP:20260423T090136
CREATED:20251212T190942Z
LAST-MODIFIED:20260419T163007Z
UID:100109229-1790773200-1790776800@sonestastmaarten.com
SUMMARY:Pool Party with Entertainment Team
DESCRIPTION:Dive into the beat! Joun out entertainment team for the hottest tracks and party vibes to the pool—splash\, dance\, and vibe all afternoon.
URL:https://sonestastmaarten.com/event/pool-party-with-dj-3-2/2026-09-30/
LOCATION:The Point Pool
CATEGORIES:Ocean Point Resort
ATTACH;FMTTYPE=image/jpeg:https://sonestastmaarten.com/wp-content/uploads/Entertainment1.jpg
END:VEVENT
BEGIN:VEVENT
DTSTART;TZID=America/Anguilla:20261007T130000
DTEND;TZID=America/Anguilla:20261007T140000
DTSTAMP:20260423T090136
CREATED:20251212T190942Z
LAST-MODIFIED:20260419T163007Z
UID:100109230-1791378000-1791381600@sonestastmaarten.com
SUMMARY:Pool Party with Entertainment Team
DESCRIPTION:Dive into the beat! Joun out entertainment team for the hottest tracks and party vibes to the pool—splash\, dance\, and vibe all afternoon.
URL:https://sonestastmaarten.com/event/pool-party-with-dj-3-2/2026-10-07/
LOCATION:The Point Pool
CATEGORIES:Ocean Point Resort
ATTACH;FMTTYPE=image/jpeg:https://sonestastmaarten.com/wp-content/uploads/Entertainment1.jpg
END:VEVENT
BEGIN:VEVENT
DTSTART;TZID=America/Anguilla:20261014T130000
DTEND;TZID=America/Anguilla:20261014T140000
DTSTAMP:20260423T090136
CREATED:20251212T190942Z
LAST-MODIFIED:20260419T163007Z
UID:100109231-1791982800-1791986400@sonestastmaarten.com
SUMMARY:Pool Party with Entertainment Team
DESCRIPTION:Dive into the beat! Joun out entertainment team for the hottest tracks and party vibes to the pool—splash\, dance\, and vibe all afternoon.
URL:https://sonestastmaarten.com/event/pool-party-with-dj-3-2/2026-10-14/
LOCATION:The Point Pool
CATEGORIES:Ocean Point Resort
ATTACH;FMTTYPE=image/jpeg:https://sonestastmaarten.com/wp-content/uploads/Entertainment1.jpg
END:VEVENT
BEGIN:VEVENT
DTSTART;TZID=America/Anguilla:20261021T130000
DTEND;TZID=America/Anguilla:20261021T140000
DTSTAMP:20260423T090136
CREATED:20251212T190942Z
LAST-MODIFIED:20260419T163007Z
UID:100109232-1792587600-1792591200@sonestastmaarten.com
SUMMARY:Pool Party with Entertainment Team
DESCRIPTION:Dive into the beat! Joun out entertainment team for the hottest tracks and party vibes to the pool—splash\, dance\, and vibe all afternoon.
URL:https://sonestastmaarten.com/event/pool-party-with-dj-3-2/2026-10-21/
LOCATION:The Point Pool
CATEGORIES:Ocean Point Resort
ATTACH;FMTTYPE=image/jpeg:https://sonestastmaarten.com/wp-content/uploads/Entertainment1.jpg
END:VEVENT
BEGIN:VEVENT
DTSTART;TZID=America/Anguilla:20261028T130000
DTEND;TZID=America/Anguilla:20261028T140000
DTSTAMP:20260423T090136
CREATED:20251212T190942Z
LAST-MODIFIED:20260419T163007Z
UID:100109233-1793192400-1793196000@sonestastmaarten.com
SUMMARY:Pool Party with Entertainment Team
DESCRIPTION:Dive into the beat! Joun out entertainment team for the hottest tracks and party vibes to the pool—splash\, dance\, and vibe all afternoon.
URL:https://sonestastmaarten.com/event/pool-party-with-dj-3-2/2026-10-28/
LOCATION:The Point Pool
CATEGORIES:Ocean Point Resort
ATTACH;FMTTYPE=image/jpeg:https://sonestastmaarten.com/wp-content/uploads/Entertainment1.jpg
END:VEVENT
BEGIN:VEVENT
DTSTART;TZID=America/Anguilla:20261104T130000
DTEND;TZID=America/Anguilla:20261104T140000
DTSTAMP:20260423T090136
CREATED:20251212T190942Z
LAST-MODIFIED:20260419T163007Z
UID:100109234-1793797200-1793800800@sonestastmaarten.com
SUMMARY:Pool Party with Entertainment Team
DESCRIPTION:Dive into the beat! Joun out entertainment team for the hottest tracks and party vibes to the pool—splash\, dance\, and vibe all afternoon.
URL:https://sonestastmaarten.com/event/pool-party-with-dj-3-2/2026-11-04/
LOCATION:The Point Pool
CATEGORIES:Ocean Point Resort
ATTACH;FMTTYPE=image/jpeg:https://sonestastmaarten.com/wp-content/uploads/Entertainment1.jpg
END:VEVENT
BEGIN:VEVENT
DTSTART;TZID=America/Anguilla:20261111T130000
DTEND;TZID=America/Anguilla:20261111T140000
DTSTAMP:20260423T090136
CREATED:20251212T190942Z
LAST-MODIFIED:20260419T163007Z
UID:100109235-1794402000-1794405600@sonestastmaarten.com
SUMMARY:Pool Party with Entertainment Team
DESCRIPTION:Dive into the beat! Joun out entertainment team for the hottest tracks and party vibes to the pool—splash\, dance\, and vibe all afternoon.
URL:https://sonestastmaarten.com/event/pool-party-with-dj-3-2/2026-11-11/
LOCATION:The Point Pool
CATEGORIES:Ocean Point Resort
ATTACH;FMTTYPE=image/jpeg:https://sonestastmaarten.com/wp-content/uploads/Entertainment1.jpg
END:VEVENT
BEGIN:VEVENT
DTSTART;TZID=America/Anguilla:20261118T130000
DTEND;TZID=America/Anguilla:20261118T140000
DTSTAMP:20260423T090136
CREATED:20251212T190942Z
LAST-MODIFIED:20260419T163007Z
UID:100109236-1795006800-1795010400@sonestastmaarten.com
SUMMARY:Pool Party with Entertainment Team
DESCRIPTION:Dive into the beat! Joun out entertainment team for the hottest tracks and party vibes to the pool—splash\, dance\, and vibe all afternoon.
URL:https://sonestastmaarten.com/event/pool-party-with-dj-3-2/2026-11-18/
LOCATION:The Point Pool
CATEGORIES:Ocean Point Resort
ATTACH;FMTTYPE=image/jpeg:https://sonestastmaarten.com/wp-content/uploads/Entertainment1.jpg
END:VEVENT
END:VCALENDAR