BEGIN:VCALENDAR
VERSION:2.0
PRODID:-//Sonesta Resorts Sint Maarten - ECPv6.15.17.1//NONSGML v1.0//EN
CALSCALE:GREGORIAN
METHOD:PUBLISH
X-WR-CALNAME:Sonesta Resorts Sint Maarten
X-ORIGINAL-URL:https://sonestastmaarten.com
X-WR-CALDESC:Events for Sonesta Resorts Sint Maarten
REFRESH-INTERVAL;VALUE=DURATION:PT1H
X-Robots-Tag:noindex
X-PUBLISHED-TTL:PT1H
BEGIN:VTIMEZONE
TZID:America/Anguilla
BEGIN:STANDARD
TZOFFSETFROM:-0400
TZOFFSETTO:-0400
TZNAME:AST
DTSTART:20250101T000000
END:STANDARD
END:VTIMEZONE
BEGIN:VEVENT
DTSTART;TZID=America/Anguilla:20260426T210000
DTEND;TZID=America/Anguilla:20260427T000000
DTSTAMP:20260423T090141
CREATED:20251115T165700Z
LAST-MODIFIED:20260205T193000Z
UID:100107945-1777237200-1777248000@sonestastmaarten.com
SUMMARY:Live Music with Jeremie
DESCRIPTION:Enjoy live music with renditions of popular tunes featuring Sint Maarten’s talented musicians. With panoramic sea views\, this is a mesmerizing way to end your sun-filled days.
URL:https://sonestastmaarten.com/event/live-music-with-jeremie/2026-04-26/
LOCATION:Cloud 9
CATEGORIES:Ocean Point Resort,Ultimate Club
ATTACH;FMTTYPE=image/jpeg:https://sonestastmaarten.com/wp-content/uploads/cloud9.jpg
END:VEVENT
BEGIN:VEVENT
DTSTART;TZID=America/Anguilla:20260503T210000
DTEND;TZID=America/Anguilla:20260504T000000
DTSTAMP:20260423T090141
CREATED:20251115T165700Z
LAST-MODIFIED:20260205T193000Z
UID:100107946-1777842000-1777852800@sonestastmaarten.com
SUMMARY:Live Music with Jeremie
DESCRIPTION:Enjoy live music with renditions of popular tunes featuring Sint Maarten’s talented musicians. With panoramic sea views\, this is a mesmerizing way to end your sun-filled days.
URL:https://sonestastmaarten.com/event/live-music-with-jeremie/2026-05-03/
LOCATION:Cloud 9
CATEGORIES:Ocean Point Resort,Ultimate Club
ATTACH;FMTTYPE=image/jpeg:https://sonestastmaarten.com/wp-content/uploads/cloud9.jpg
END:VEVENT
BEGIN:VEVENT
DTSTART;TZID=America/Anguilla:20260510T210000
DTEND;TZID=America/Anguilla:20260511T000000
DTSTAMP:20260423T090141
CREATED:20251115T165700Z
LAST-MODIFIED:20260205T193000Z
UID:100107947-1778446800-1778457600@sonestastmaarten.com
SUMMARY:Live Music with Jeremie
DESCRIPTION:Enjoy live music with renditions of popular tunes featuring Sint Maarten’s talented musicians. With panoramic sea views\, this is a mesmerizing way to end your sun-filled days.
URL:https://sonestastmaarten.com/event/live-music-with-jeremie/2026-05-10/
LOCATION:Cloud 9
CATEGORIES:Ocean Point Resort,Ultimate Club
ATTACH;FMTTYPE=image/jpeg:https://sonestastmaarten.com/wp-content/uploads/cloud9.jpg
END:VEVENT
BEGIN:VEVENT
DTSTART;TZID=America/Anguilla:20260517T210000
DTEND;TZID=America/Anguilla:20260518T000000
DTSTAMP:20260423T090141
CREATED:20251115T165700Z
LAST-MODIFIED:20260205T193000Z
UID:100107948-1779051600-1779062400@sonestastmaarten.com
SUMMARY:Live Music with Jeremie
DESCRIPTION:Enjoy live music with renditions of popular tunes featuring Sint Maarten’s talented musicians. With panoramic sea views\, this is a mesmerizing way to end your sun-filled days.
URL:https://sonestastmaarten.com/event/live-music-with-jeremie/2026-05-17/
LOCATION:Cloud 9
CATEGORIES:Ocean Point Resort,Ultimate Club
ATTACH;FMTTYPE=image/jpeg:https://sonestastmaarten.com/wp-content/uploads/cloud9.jpg
END:VEVENT
BEGIN:VEVENT
DTSTART;TZID=America/Anguilla:20260524T210000
DTEND;TZID=America/Anguilla:20260525T000000
DTSTAMP:20260423T090141
CREATED:20251115T165700Z
LAST-MODIFIED:20260205T193000Z
UID:100107949-1779656400-1779667200@sonestastmaarten.com
SUMMARY:Live Music with Jeremie
DESCRIPTION:Enjoy live music with renditions of popular tunes featuring Sint Maarten’s talented musicians. With panoramic sea views\, this is a mesmerizing way to end your sun-filled days.
URL:https://sonestastmaarten.com/event/live-music-with-jeremie/2026-05-24/
LOCATION:Cloud 9
CATEGORIES:Ocean Point Resort,Ultimate Club
ATTACH;FMTTYPE=image/jpeg:https://sonestastmaarten.com/wp-content/uploads/cloud9.jpg
END:VEVENT
BEGIN:VEVENT
DTSTART;TZID=America/Anguilla:20260531T210000
DTEND;TZID=America/Anguilla:20260601T000000
DTSTAMP:20260423T090141
CREATED:20251115T165700Z
LAST-MODIFIED:20260205T193000Z
UID:100107950-1780261200-1780272000@sonestastmaarten.com
SUMMARY:Live Music with Jeremie
DESCRIPTION:Enjoy live music with renditions of popular tunes featuring Sint Maarten’s talented musicians. With panoramic sea views\, this is a mesmerizing way to end your sun-filled days.
URL:https://sonestastmaarten.com/event/live-music-with-jeremie/2026-05-31/
LOCATION:Cloud 9
CATEGORIES:Ocean Point Resort,Ultimate Club
ATTACH;FMTTYPE=image/jpeg:https://sonestastmaarten.com/wp-content/uploads/cloud9.jpg
END:VEVENT
BEGIN:VEVENT
DTSTART;TZID=America/Anguilla:20260607T210000
DTEND;TZID=America/Anguilla:20260608T000000
DTSTAMP:20260423T090141
CREATED:20251115T165700Z
LAST-MODIFIED:20260205T193000Z
UID:100107951-1780866000-1780876800@sonestastmaarten.com
SUMMARY:Live Music with Jeremie
DESCRIPTION:Enjoy live music with renditions of popular tunes featuring Sint Maarten’s talented musicians. With panoramic sea views\, this is a mesmerizing way to end your sun-filled days.
URL:https://sonestastmaarten.com/event/live-music-with-jeremie/2026-06-07/
LOCATION:Cloud 9
CATEGORIES:Ocean Point Resort,Ultimate Club
ATTACH;FMTTYPE=image/jpeg:https://sonestastmaarten.com/wp-content/uploads/cloud9.jpg
END:VEVENT
BEGIN:VEVENT
DTSTART;TZID=America/Anguilla:20260614T210000
DTEND;TZID=America/Anguilla:20260615T000000
DTSTAMP:20260423T090141
CREATED:20251115T165700Z
LAST-MODIFIED:20260205T193000Z
UID:100107952-1781470800-1781481600@sonestastmaarten.com
SUMMARY:Live Music with Jeremie
DESCRIPTION:Enjoy live music with renditions of popular tunes featuring Sint Maarten’s talented musicians. With panoramic sea views\, this is a mesmerizing way to end your sun-filled days.
URL:https://sonestastmaarten.com/event/live-music-with-jeremie/2026-06-14/
LOCATION:Cloud 9
CATEGORIES:Ocean Point Resort,Ultimate Club
ATTACH;FMTTYPE=image/jpeg:https://sonestastmaarten.com/wp-content/uploads/cloud9.jpg
END:VEVENT
BEGIN:VEVENT
DTSTART;TZID=America/Anguilla:20260621T210000
DTEND;TZID=America/Anguilla:20260622T000000
DTSTAMP:20260423T090141
CREATED:20251115T165700Z
LAST-MODIFIED:20260205T193000Z
UID:100107953-1782075600-1782086400@sonestastmaarten.com
SUMMARY:Live Music with Jeremie
DESCRIPTION:Enjoy live music with renditions of popular tunes featuring Sint Maarten’s talented musicians. With panoramic sea views\, this is a mesmerizing way to end your sun-filled days.
URL:https://sonestastmaarten.com/event/live-music-with-jeremie/2026-06-21/
LOCATION:Cloud 9
CATEGORIES:Ocean Point Resort,Ultimate Club
ATTACH;FMTTYPE=image/jpeg:https://sonestastmaarten.com/wp-content/uploads/cloud9.jpg
END:VEVENT
BEGIN:VEVENT
DTSTART;TZID=America/Anguilla:20260628T210000
DTEND;TZID=America/Anguilla:20260629T000000
DTSTAMP:20260423T090141
CREATED:20251115T165700Z
LAST-MODIFIED:20260205T193000Z
UID:100107954-1782680400-1782691200@sonestastmaarten.com
SUMMARY:Live Music with Jeremie
DESCRIPTION:Enjoy live music with renditions of popular tunes featuring Sint Maarten’s talented musicians. With panoramic sea views\, this is a mesmerizing way to end your sun-filled days.
URL:https://sonestastmaarten.com/event/live-music-with-jeremie/2026-06-28/
LOCATION:Cloud 9
CATEGORIES:Ocean Point Resort,Ultimate Club
ATTACH;FMTTYPE=image/jpeg:https://sonestastmaarten.com/wp-content/uploads/cloud9.jpg
END:VEVENT
BEGIN:VEVENT
DTSTART;TZID=America/Anguilla:20260705T210000
DTEND;TZID=America/Anguilla:20260706T000000
DTSTAMP:20260423T090141
CREATED:20251115T165700Z
LAST-MODIFIED:20260205T193000Z
UID:100107955-1783285200-1783296000@sonestastmaarten.com
SUMMARY:Live Music with Jeremie
DESCRIPTION:Enjoy live music with renditions of popular tunes featuring Sint Maarten’s talented musicians. With panoramic sea views\, this is a mesmerizing way to end your sun-filled days.
URL:https://sonestastmaarten.com/event/live-music-with-jeremie/2026-07-05/
LOCATION:Cloud 9
CATEGORIES:Ocean Point Resort,Ultimate Club
ATTACH;FMTTYPE=image/jpeg:https://sonestastmaarten.com/wp-content/uploads/cloud9.jpg
END:VEVENT
BEGIN:VEVENT
DTSTART;TZID=America/Anguilla:20260712T210000
DTEND;TZID=America/Anguilla:20260713T000000
DTSTAMP:20260423T090141
CREATED:20251115T165700Z
LAST-MODIFIED:20260205T193000Z
UID:100107956-1783890000-1783900800@sonestastmaarten.com
SUMMARY:Live Music with Jeremie
DESCRIPTION:Enjoy live music with renditions of popular tunes featuring Sint Maarten’s talented musicians. With panoramic sea views\, this is a mesmerizing way to end your sun-filled days.
URL:https://sonestastmaarten.com/event/live-music-with-jeremie/2026-07-12/
LOCATION:Cloud 9
CATEGORIES:Ocean Point Resort,Ultimate Club
ATTACH;FMTTYPE=image/jpeg:https://sonestastmaarten.com/wp-content/uploads/cloud9.jpg
END:VEVENT
BEGIN:VEVENT
DTSTART;TZID=America/Anguilla:20260719T210000
DTEND;TZID=America/Anguilla:20260720T000000
DTSTAMP:20260423T090141
CREATED:20251115T165700Z
LAST-MODIFIED:20260205T193000Z
UID:100107957-1784494800-1784505600@sonestastmaarten.com
SUMMARY:Live Music with Jeremie
DESCRIPTION:Enjoy live music with renditions of popular tunes featuring Sint Maarten’s talented musicians. With panoramic sea views\, this is a mesmerizing way to end your sun-filled days.
URL:https://sonestastmaarten.com/event/live-music-with-jeremie/2026-07-19/
LOCATION:Cloud 9
CATEGORIES:Ocean Point Resort,Ultimate Club
ATTACH;FMTTYPE=image/jpeg:https://sonestastmaarten.com/wp-content/uploads/cloud9.jpg
END:VEVENT
BEGIN:VEVENT
DTSTART;TZID=America/Anguilla:20260726T210000
DTEND;TZID=America/Anguilla:20260727T000000
DTSTAMP:20260423T090141
CREATED:20251115T165700Z
LAST-MODIFIED:20260205T193000Z
UID:100107958-1785099600-1785110400@sonestastmaarten.com
SUMMARY:Live Music with Jeremie
DESCRIPTION:Enjoy live music with renditions of popular tunes featuring Sint Maarten’s talented musicians. With panoramic sea views\, this is a mesmerizing way to end your sun-filled days.
URL:https://sonestastmaarten.com/event/live-music-with-jeremie/2026-07-26/
LOCATION:Cloud 9
CATEGORIES:Ocean Point Resort,Ultimate Club
ATTACH;FMTTYPE=image/jpeg:https://sonestastmaarten.com/wp-content/uploads/cloud9.jpg
END:VEVENT
BEGIN:VEVENT
DTSTART;TZID=America/Anguilla:20260802T210000
DTEND;TZID=America/Anguilla:20260803T000000
DTSTAMP:20260423T090141
CREATED:20251115T165700Z
LAST-MODIFIED:20260205T193000Z
UID:100107959-1785704400-1785715200@sonestastmaarten.com
SUMMARY:Live Music with Jeremie
DESCRIPTION:Enjoy live music with renditions of popular tunes featuring Sint Maarten’s talented musicians. With panoramic sea views\, this is a mesmerizing way to end your sun-filled days.
URL:https://sonestastmaarten.com/event/live-music-with-jeremie/2026-08-02/
LOCATION:Cloud 9
CATEGORIES:Ocean Point Resort,Ultimate Club
ATTACH;FMTTYPE=image/jpeg:https://sonestastmaarten.com/wp-content/uploads/cloud9.jpg
END:VEVENT
BEGIN:VEVENT
DTSTART;TZID=America/Anguilla:20260809T210000
DTEND;TZID=America/Anguilla:20260810T000000
DTSTAMP:20260423T090141
CREATED:20251115T165700Z
LAST-MODIFIED:20260205T193000Z
UID:100107960-1786309200-1786320000@sonestastmaarten.com
SUMMARY:Live Music with Jeremie
DESCRIPTION:Enjoy live music with renditions of popular tunes featuring Sint Maarten’s talented musicians. With panoramic sea views\, this is a mesmerizing way to end your sun-filled days.
URL:https://sonestastmaarten.com/event/live-music-with-jeremie/2026-08-09/
LOCATION:Cloud 9
CATEGORIES:Ocean Point Resort,Ultimate Club
ATTACH;FMTTYPE=image/jpeg:https://sonestastmaarten.com/wp-content/uploads/cloud9.jpg
END:VEVENT
BEGIN:VEVENT
DTSTART;TZID=America/Anguilla:20260816T210000
DTEND;TZID=America/Anguilla:20260817T000000
DTSTAMP:20260423T090141
CREATED:20251115T165700Z
LAST-MODIFIED:20260205T193000Z
UID:100107961-1786914000-1786924800@sonestastmaarten.com
SUMMARY:Live Music with Jeremie
DESCRIPTION:Enjoy live music with renditions of popular tunes featuring Sint Maarten’s talented musicians. With panoramic sea views\, this is a mesmerizing way to end your sun-filled days.
URL:https://sonestastmaarten.com/event/live-music-with-jeremie/2026-08-16/
LOCATION:Cloud 9
CATEGORIES:Ocean Point Resort,Ultimate Club
ATTACH;FMTTYPE=image/jpeg:https://sonestastmaarten.com/wp-content/uploads/cloud9.jpg
END:VEVENT
BEGIN:VEVENT
DTSTART;TZID=America/Anguilla:20260823T210000
DTEND;TZID=America/Anguilla:20260824T000000
DTSTAMP:20260423T090141
CREATED:20251115T165700Z
LAST-MODIFIED:20260205T193000Z
UID:100107962-1787518800-1787529600@sonestastmaarten.com
SUMMARY:Live Music with Jeremie
DESCRIPTION:Enjoy live music with renditions of popular tunes featuring Sint Maarten’s talented musicians. With panoramic sea views\, this is a mesmerizing way to end your sun-filled days.
URL:https://sonestastmaarten.com/event/live-music-with-jeremie/2026-08-23/
LOCATION:Cloud 9
CATEGORIES:Ocean Point Resort,Ultimate Club
ATTACH;FMTTYPE=image/jpeg:https://sonestastmaarten.com/wp-content/uploads/cloud9.jpg
END:VEVENT
BEGIN:VEVENT
DTSTART;TZID=America/Anguilla:20260830T210000
DTEND;TZID=America/Anguilla:20260831T000000
DTSTAMP:20260423T090141
CREATED:20251115T165700Z
LAST-MODIFIED:20260205T193000Z
UID:100107963-1788123600-1788134400@sonestastmaarten.com
SUMMARY:Live Music with Jeremie
DESCRIPTION:Enjoy live music with renditions of popular tunes featuring Sint Maarten’s talented musicians. With panoramic sea views\, this is a mesmerizing way to end your sun-filled days.
URL:https://sonestastmaarten.com/event/live-music-with-jeremie/2026-08-30/
LOCATION:Cloud 9
CATEGORIES:Ocean Point Resort,Ultimate Club
ATTACH;FMTTYPE=image/jpeg:https://sonestastmaarten.com/wp-content/uploads/cloud9.jpg
END:VEVENT
BEGIN:VEVENT
DTSTART;TZID=America/Anguilla:20260906T210000
DTEND;TZID=America/Anguilla:20260907T000000
DTSTAMP:20260423T090141
CREATED:20251115T165700Z
LAST-MODIFIED:20260205T193000Z
UID:100107964-1788728400-1788739200@sonestastmaarten.com
SUMMARY:Live Music with Jeremie
DESCRIPTION:Enjoy live music with renditions of popular tunes featuring Sint Maarten’s talented musicians. With panoramic sea views\, this is a mesmerizing way to end your sun-filled days.
URL:https://sonestastmaarten.com/event/live-music-with-jeremie/2026-09-06/
LOCATION:Cloud 9
CATEGORIES:Ocean Point Resort,Ultimate Club
ATTACH;FMTTYPE=image/jpeg:https://sonestastmaarten.com/wp-content/uploads/cloud9.jpg
END:VEVENT
BEGIN:VEVENT
DTSTART;TZID=America/Anguilla:20260913T210000
DTEND;TZID=America/Anguilla:20260914T000000
DTSTAMP:20260423T090141
CREATED:20251115T165700Z
LAST-MODIFIED:20260205T193000Z
UID:100107965-1789333200-1789344000@sonestastmaarten.com
SUMMARY:Live Music with Jeremie
DESCRIPTION:Enjoy live music with renditions of popular tunes featuring Sint Maarten’s talented musicians. With panoramic sea views\, this is a mesmerizing way to end your sun-filled days.
URL:https://sonestastmaarten.com/event/live-music-with-jeremie/2026-09-13/
LOCATION:Cloud 9
CATEGORIES:Ocean Point Resort,Ultimate Club
ATTACH;FMTTYPE=image/jpeg:https://sonestastmaarten.com/wp-content/uploads/cloud9.jpg
END:VEVENT
BEGIN:VEVENT
DTSTART;TZID=America/Anguilla:20260920T210000
DTEND;TZID=America/Anguilla:20260921T000000
DTSTAMP:20260423T090141
CREATED:20251115T165700Z
LAST-MODIFIED:20260205T193000Z
UID:100107966-1789938000-1789948800@sonestastmaarten.com
SUMMARY:Live Music with Jeremie
DESCRIPTION:Enjoy live music with renditions of popular tunes featuring Sint Maarten’s talented musicians. With panoramic sea views\, this is a mesmerizing way to end your sun-filled days.
URL:https://sonestastmaarten.com/event/live-music-with-jeremie/2026-09-20/
LOCATION:Cloud 9
CATEGORIES:Ocean Point Resort,Ultimate Club
ATTACH;FMTTYPE=image/jpeg:https://sonestastmaarten.com/wp-content/uploads/cloud9.jpg
END:VEVENT
BEGIN:VEVENT
DTSTART;TZID=America/Anguilla:20260927T210000
DTEND;TZID=America/Anguilla:20260928T000000
DTSTAMP:20260423T090141
CREATED:20251115T165700Z
LAST-MODIFIED:20260205T193000Z
UID:100107967-1790542800-1790553600@sonestastmaarten.com
SUMMARY:Live Music with Jeremie
DESCRIPTION:Enjoy live music with renditions of popular tunes featuring Sint Maarten’s talented musicians. With panoramic sea views\, this is a mesmerizing way to end your sun-filled days.
URL:https://sonestastmaarten.com/event/live-music-with-jeremie/2026-09-27/
LOCATION:Cloud 9
CATEGORIES:Ocean Point Resort,Ultimate Club
ATTACH;FMTTYPE=image/jpeg:https://sonestastmaarten.com/wp-content/uploads/cloud9.jpg
END:VEVENT
BEGIN:VEVENT
DTSTART;TZID=America/Anguilla:20261004T210000
DTEND;TZID=America/Anguilla:20261005T000000
DTSTAMP:20260423T090141
CREATED:20251115T165700Z
LAST-MODIFIED:20260205T193000Z
UID:100107968-1791147600-1791158400@sonestastmaarten.com
SUMMARY:Live Music with Jeremie
DESCRIPTION:Enjoy live music with renditions of popular tunes featuring Sint Maarten’s talented musicians. With panoramic sea views\, this is a mesmerizing way to end your sun-filled days.
URL:https://sonestastmaarten.com/event/live-music-with-jeremie/2026-10-04/
LOCATION:Cloud 9
CATEGORIES:Ocean Point Resort,Ultimate Club
ATTACH;FMTTYPE=image/jpeg:https://sonestastmaarten.com/wp-content/uploads/cloud9.jpg
END:VEVENT
BEGIN:VEVENT
DTSTART;TZID=America/Anguilla:20261011T210000
DTEND;TZID=America/Anguilla:20261012T000000
DTSTAMP:20260423T090141
CREATED:20251115T165700Z
LAST-MODIFIED:20260205T193000Z
UID:100107969-1791752400-1791763200@sonestastmaarten.com
SUMMARY:Live Music with Jeremie
DESCRIPTION:Enjoy live music with renditions of popular tunes featuring Sint Maarten’s talented musicians. With panoramic sea views\, this is a mesmerizing way to end your sun-filled days.
URL:https://sonestastmaarten.com/event/live-music-with-jeremie/2026-10-11/
LOCATION:Cloud 9
CATEGORIES:Ocean Point Resort,Ultimate Club
ATTACH;FMTTYPE=image/jpeg:https://sonestastmaarten.com/wp-content/uploads/cloud9.jpg
END:VEVENT
BEGIN:VEVENT
DTSTART;TZID=America/Anguilla:20261018T210000
DTEND;TZID=America/Anguilla:20261019T000000
DTSTAMP:20260423T090141
CREATED:20251115T165700Z
LAST-MODIFIED:20260205T193000Z
UID:100107970-1792357200-1792368000@sonestastmaarten.com
SUMMARY:Live Music with Jeremie
DESCRIPTION:Enjoy live music with renditions of popular tunes featuring Sint Maarten’s talented musicians. With panoramic sea views\, this is a mesmerizing way to end your sun-filled days.
URL:https://sonestastmaarten.com/event/live-music-with-jeremie/2026-10-18/
LOCATION:Cloud 9
CATEGORIES:Ocean Point Resort,Ultimate Club
ATTACH;FMTTYPE=image/jpeg:https://sonestastmaarten.com/wp-content/uploads/cloud9.jpg
END:VEVENT
BEGIN:VEVENT
DTSTART;TZID=America/Anguilla:20261025T210000
DTEND;TZID=America/Anguilla:20261026T000000
DTSTAMP:20260423T090141
CREATED:20251115T165700Z
LAST-MODIFIED:20260205T193000Z
UID:100107971-1792962000-1792972800@sonestastmaarten.com
SUMMARY:Live Music with Jeremie
DESCRIPTION:Enjoy live music with renditions of popular tunes featuring Sint Maarten’s talented musicians. With panoramic sea views\, this is a mesmerizing way to end your sun-filled days.
URL:https://sonestastmaarten.com/event/live-music-with-jeremie/2026-10-25/
LOCATION:Cloud 9
CATEGORIES:Ocean Point Resort,Ultimate Club
ATTACH;FMTTYPE=image/jpeg:https://sonestastmaarten.com/wp-content/uploads/cloud9.jpg
END:VEVENT
BEGIN:VEVENT
DTSTART;TZID=America/Anguilla:20261101T210000
DTEND;TZID=America/Anguilla:20261102T000000
DTSTAMP:20260423T090141
CREATED:20251115T165700Z
LAST-MODIFIED:20260205T193000Z
UID:100107972-1793566800-1793577600@sonestastmaarten.com
SUMMARY:Live Music with Jeremie
DESCRIPTION:Enjoy live music with renditions of popular tunes featuring Sint Maarten’s talented musicians. With panoramic sea views\, this is a mesmerizing way to end your sun-filled days.
URL:https://sonestastmaarten.com/event/live-music-with-jeremie/2026-11-01/
LOCATION:Cloud 9
CATEGORIES:Ocean Point Resort,Ultimate Club
ATTACH;FMTTYPE=image/jpeg:https://sonestastmaarten.com/wp-content/uploads/cloud9.jpg
END:VEVENT
BEGIN:VEVENT
DTSTART;TZID=America/Anguilla:20261108T210000
DTEND;TZID=America/Anguilla:20261109T000000
DTSTAMP:20260423T090141
CREATED:20251115T165700Z
LAST-MODIFIED:20260205T193000Z
UID:100107973-1794171600-1794182400@sonestastmaarten.com
SUMMARY:Live Music with Jeremie
DESCRIPTION:Enjoy live music with renditions of popular tunes featuring Sint Maarten’s talented musicians. With panoramic sea views\, this is a mesmerizing way to end your sun-filled days.
URL:https://sonestastmaarten.com/event/live-music-with-jeremie/2026-11-08/
LOCATION:Cloud 9
CATEGORIES:Ocean Point Resort,Ultimate Club
ATTACH;FMTTYPE=image/jpeg:https://sonestastmaarten.com/wp-content/uploads/cloud9.jpg
END:VEVENT
BEGIN:VEVENT
DTSTART;TZID=America/Anguilla:20261115T210000
DTEND;TZID=America/Anguilla:20261116T000000
DTSTAMP:20260423T090141
CREATED:20251115T165700Z
LAST-MODIFIED:20260205T193000Z
UID:100107974-1794776400-1794787200@sonestastmaarten.com
SUMMARY:Live Music with Jeremie
DESCRIPTION:Enjoy live music with renditions of popular tunes featuring Sint Maarten’s talented musicians. With panoramic sea views\, this is a mesmerizing way to end your sun-filled days.
URL:https://sonestastmaarten.com/event/live-music-with-jeremie/2026-11-15/
LOCATION:Cloud 9
CATEGORIES:Ocean Point Resort,Ultimate Club
ATTACH;FMTTYPE=image/jpeg:https://sonestastmaarten.com/wp-content/uploads/cloud9.jpg
END:VEVENT
END:VCALENDAR