BEGIN:VCALENDAR
VERSION:2.0
PRODID:-//Sonesta Resorts Sint Maarten - ECPv6.15.17.1//NONSGML v1.0//EN
CALSCALE:GREGORIAN
METHOD:PUBLISH
X-WR-CALNAME:Sonesta Resorts Sint Maarten
X-ORIGINAL-URL:https://sonestastmaarten.com
X-WR-CALDESC:Events for Sonesta Resorts Sint Maarten
REFRESH-INTERVAL;VALUE=DURATION:PT1H
X-Robots-Tag:noindex
X-PUBLISHED-TTL:PT1H
BEGIN:VTIMEZONE
TZID:America/Anguilla
BEGIN:STANDARD
TZOFFSETFROM:-0400
TZOFFSETTO:-0400
TZNAME:AST
DTSTART:20250101T000000
END:STANDARD
END:VTIMEZONE
BEGIN:VEVENT
DTSTART;TZID=America/Anguilla:20260426T143000
DTEND;TZID=America/Anguilla:20260426T150000
DTSTAMP:20260423T090139
CREATED:20251109T201702Z
LAST-MODIFIED:20260213T203309Z
UID:100110465-1777213800-1777215600@sonestastmaarten.com
SUMMARY:Line Dance Class
DESCRIPTION:Join our Hype Team as we move and groove here at Sonesta Resort!
URL:https://sonestastmaarten.com/event/line-dance-class/2026-04-26/
LOCATION:The Oasis Pool
CATEGORIES:Maho Beach Resort
ATTACH;FMTTYPE=image/jpeg:https://sonestastmaarten.com/wp-content/uploads/maho-beach-exterior-day.jpg
END:VEVENT
BEGIN:VEVENT
DTSTART;TZID=America/Anguilla:20260503T143000
DTEND;TZID=America/Anguilla:20260503T150000
DTSTAMP:20260423T090139
CREATED:20251109T201702Z
LAST-MODIFIED:20260213T203309Z
UID:100110466-1777818600-1777820400@sonestastmaarten.com
SUMMARY:Line Dance Class
DESCRIPTION:Join our Hype Team as we move and groove here at Sonesta Resort!
URL:https://sonestastmaarten.com/event/line-dance-class/2026-05-03/
LOCATION:The Oasis Pool
CATEGORIES:Maho Beach Resort
ATTACH;FMTTYPE=image/jpeg:https://sonestastmaarten.com/wp-content/uploads/maho-beach-exterior-day.jpg
END:VEVENT
BEGIN:VEVENT
DTSTART;TZID=America/Anguilla:20260510T143000
DTEND;TZID=America/Anguilla:20260510T150000
DTSTAMP:20260423T090139
CREATED:20251109T201702Z
LAST-MODIFIED:20260213T203309Z
UID:100110467-1778423400-1778425200@sonestastmaarten.com
SUMMARY:Line Dance Class
DESCRIPTION:Join our Hype Team as we move and groove here at Sonesta Resort!
URL:https://sonestastmaarten.com/event/line-dance-class/2026-05-10/
LOCATION:The Oasis Pool
CATEGORIES:Maho Beach Resort
ATTACH;FMTTYPE=image/jpeg:https://sonestastmaarten.com/wp-content/uploads/maho-beach-exterior-day.jpg
END:VEVENT
BEGIN:VEVENT
DTSTART;TZID=America/Anguilla:20260517T143000
DTEND;TZID=America/Anguilla:20260517T150000
DTSTAMP:20260423T090139
CREATED:20251109T201702Z
LAST-MODIFIED:20260213T203309Z
UID:100110468-1779028200-1779030000@sonestastmaarten.com
SUMMARY:Line Dance Class
DESCRIPTION:Join our Hype Team as we move and groove here at Sonesta Resort!
URL:https://sonestastmaarten.com/event/line-dance-class/2026-05-17/
LOCATION:The Oasis Pool
CATEGORIES:Maho Beach Resort
ATTACH;FMTTYPE=image/jpeg:https://sonestastmaarten.com/wp-content/uploads/maho-beach-exterior-day.jpg
END:VEVENT
BEGIN:VEVENT
DTSTART;TZID=America/Anguilla:20260524T143000
DTEND;TZID=America/Anguilla:20260524T150000
DTSTAMP:20260423T090139
CREATED:20251109T201702Z
LAST-MODIFIED:20260213T203309Z
UID:100110469-1779633000-1779634800@sonestastmaarten.com
SUMMARY:Line Dance Class
DESCRIPTION:Join our Hype Team as we move and groove here at Sonesta Resort!
URL:https://sonestastmaarten.com/event/line-dance-class/2026-05-24/
LOCATION:The Oasis Pool
CATEGORIES:Maho Beach Resort
ATTACH;FMTTYPE=image/jpeg:https://sonestastmaarten.com/wp-content/uploads/maho-beach-exterior-day.jpg
END:VEVENT
BEGIN:VEVENT
DTSTART;TZID=America/Anguilla:20260531T143000
DTEND;TZID=America/Anguilla:20260531T150000
DTSTAMP:20260423T090139
CREATED:20251109T201702Z
LAST-MODIFIED:20260213T203309Z
UID:100110470-1780237800-1780239600@sonestastmaarten.com
SUMMARY:Line Dance Class
DESCRIPTION:Join our Hype Team as we move and groove here at Sonesta Resort!
URL:https://sonestastmaarten.com/event/line-dance-class/2026-05-31/
LOCATION:The Oasis Pool
CATEGORIES:Maho Beach Resort
ATTACH;FMTTYPE=image/jpeg:https://sonestastmaarten.com/wp-content/uploads/maho-beach-exterior-day.jpg
END:VEVENT
BEGIN:VEVENT
DTSTART;TZID=America/Anguilla:20260607T143000
DTEND;TZID=America/Anguilla:20260607T150000
DTSTAMP:20260423T090139
CREATED:20251109T201702Z
LAST-MODIFIED:20260213T203309Z
UID:100110471-1780842600-1780844400@sonestastmaarten.com
SUMMARY:Line Dance Class
DESCRIPTION:Join our Hype Team as we move and groove here at Sonesta Resort!
URL:https://sonestastmaarten.com/event/line-dance-class/2026-06-07/
LOCATION:The Oasis Pool
CATEGORIES:Maho Beach Resort
ATTACH;FMTTYPE=image/jpeg:https://sonestastmaarten.com/wp-content/uploads/maho-beach-exterior-day.jpg
END:VEVENT
BEGIN:VEVENT
DTSTART;TZID=America/Anguilla:20260614T143000
DTEND;TZID=America/Anguilla:20260614T150000
DTSTAMP:20260423T090139
CREATED:20251109T201702Z
LAST-MODIFIED:20260213T203309Z
UID:100110472-1781447400-1781449200@sonestastmaarten.com
SUMMARY:Line Dance Class
DESCRIPTION:Join our Hype Team as we move and groove here at Sonesta Resort!
URL:https://sonestastmaarten.com/event/line-dance-class/2026-06-14/
LOCATION:The Oasis Pool
CATEGORIES:Maho Beach Resort
ATTACH;FMTTYPE=image/jpeg:https://sonestastmaarten.com/wp-content/uploads/maho-beach-exterior-day.jpg
END:VEVENT
BEGIN:VEVENT
DTSTART;TZID=America/Anguilla:20260621T143000
DTEND;TZID=America/Anguilla:20260621T150000
DTSTAMP:20260423T090139
CREATED:20251109T201702Z
LAST-MODIFIED:20260213T203309Z
UID:100110473-1782052200-1782054000@sonestastmaarten.com
SUMMARY:Line Dance Class
DESCRIPTION:Join our Hype Team as we move and groove here at Sonesta Resort!
URL:https://sonestastmaarten.com/event/line-dance-class/2026-06-21/
LOCATION:The Oasis Pool
CATEGORIES:Maho Beach Resort
ATTACH;FMTTYPE=image/jpeg:https://sonestastmaarten.com/wp-content/uploads/maho-beach-exterior-day.jpg
END:VEVENT
BEGIN:VEVENT
DTSTART;TZID=America/Anguilla:20260628T143000
DTEND;TZID=America/Anguilla:20260628T150000
DTSTAMP:20260423T090139
CREATED:20251109T201702Z
LAST-MODIFIED:20260213T203309Z
UID:100110474-1782657000-1782658800@sonestastmaarten.com
SUMMARY:Line Dance Class
DESCRIPTION:Join our Hype Team as we move and groove here at Sonesta Resort!
URL:https://sonestastmaarten.com/event/line-dance-class/2026-06-28/
LOCATION:The Oasis Pool
CATEGORIES:Maho Beach Resort
ATTACH;FMTTYPE=image/jpeg:https://sonestastmaarten.com/wp-content/uploads/maho-beach-exterior-day.jpg
END:VEVENT
BEGIN:VEVENT
DTSTART;TZID=America/Anguilla:20260705T143000
DTEND;TZID=America/Anguilla:20260705T150000
DTSTAMP:20260423T090139
CREATED:20251109T201702Z
LAST-MODIFIED:20260213T203309Z
UID:100110475-1783261800-1783263600@sonestastmaarten.com
SUMMARY:Line Dance Class
DESCRIPTION:Join our Hype Team as we move and groove here at Sonesta Resort!
URL:https://sonestastmaarten.com/event/line-dance-class/2026-07-05/
LOCATION:The Oasis Pool
CATEGORIES:Maho Beach Resort
ATTACH;FMTTYPE=image/jpeg:https://sonestastmaarten.com/wp-content/uploads/maho-beach-exterior-day.jpg
END:VEVENT
BEGIN:VEVENT
DTSTART;TZID=America/Anguilla:20260712T143000
DTEND;TZID=America/Anguilla:20260712T150000
DTSTAMP:20260423T090139
CREATED:20251109T201702Z
LAST-MODIFIED:20260213T203309Z
UID:100110476-1783866600-1783868400@sonestastmaarten.com
SUMMARY:Line Dance Class
DESCRIPTION:Join our Hype Team as we move and groove here at Sonesta Resort!
URL:https://sonestastmaarten.com/event/line-dance-class/2026-07-12/
LOCATION:The Oasis Pool
CATEGORIES:Maho Beach Resort
ATTACH;FMTTYPE=image/jpeg:https://sonestastmaarten.com/wp-content/uploads/maho-beach-exterior-day.jpg
END:VEVENT
BEGIN:VEVENT
DTSTART;TZID=America/Anguilla:20260719T143000
DTEND;TZID=America/Anguilla:20260719T150000
DTSTAMP:20260423T090139
CREATED:20251109T201702Z
LAST-MODIFIED:20260213T203309Z
UID:100110477-1784471400-1784473200@sonestastmaarten.com
SUMMARY:Line Dance Class
DESCRIPTION:Join our Hype Team as we move and groove here at Sonesta Resort!
URL:https://sonestastmaarten.com/event/line-dance-class/2026-07-19/
LOCATION:The Oasis Pool
CATEGORIES:Maho Beach Resort
ATTACH;FMTTYPE=image/jpeg:https://sonestastmaarten.com/wp-content/uploads/maho-beach-exterior-day.jpg
END:VEVENT
BEGIN:VEVENT
DTSTART;TZID=America/Anguilla:20260726T143000
DTEND;TZID=America/Anguilla:20260726T150000
DTSTAMP:20260423T090139
CREATED:20251109T201702Z
LAST-MODIFIED:20260213T203309Z
UID:100110478-1785076200-1785078000@sonestastmaarten.com
SUMMARY:Line Dance Class
DESCRIPTION:Join our Hype Team as we move and groove here at Sonesta Resort!
URL:https://sonestastmaarten.com/event/line-dance-class/2026-07-26/
LOCATION:The Oasis Pool
CATEGORIES:Maho Beach Resort
ATTACH;FMTTYPE=image/jpeg:https://sonestastmaarten.com/wp-content/uploads/maho-beach-exterior-day.jpg
END:VEVENT
BEGIN:VEVENT
DTSTART;TZID=America/Anguilla:20260802T143000
DTEND;TZID=America/Anguilla:20260802T150000
DTSTAMP:20260423T090139
CREATED:20251109T201702Z
LAST-MODIFIED:20260213T203309Z
UID:100110479-1785681000-1785682800@sonestastmaarten.com
SUMMARY:Line Dance Class
DESCRIPTION:Join our Hype Team as we move and groove here at Sonesta Resort!
URL:https://sonestastmaarten.com/event/line-dance-class/2026-08-02/
LOCATION:The Oasis Pool
CATEGORIES:Maho Beach Resort
ATTACH;FMTTYPE=image/jpeg:https://sonestastmaarten.com/wp-content/uploads/maho-beach-exterior-day.jpg
END:VEVENT
BEGIN:VEVENT
DTSTART;TZID=America/Anguilla:20260809T143000
DTEND;TZID=America/Anguilla:20260809T150000
DTSTAMP:20260423T090139
CREATED:20251109T201702Z
LAST-MODIFIED:20260213T203309Z
UID:100110480-1786285800-1786287600@sonestastmaarten.com
SUMMARY:Line Dance Class
DESCRIPTION:Join our Hype Team as we move and groove here at Sonesta Resort!
URL:https://sonestastmaarten.com/event/line-dance-class/2026-08-09/
LOCATION:The Oasis Pool
CATEGORIES:Maho Beach Resort
ATTACH;FMTTYPE=image/jpeg:https://sonestastmaarten.com/wp-content/uploads/maho-beach-exterior-day.jpg
END:VEVENT
BEGIN:VEVENT
DTSTART;TZID=America/Anguilla:20260816T143000
DTEND;TZID=America/Anguilla:20260816T150000
DTSTAMP:20260423T090139
CREATED:20251109T201702Z
LAST-MODIFIED:20260213T203309Z
UID:100110481-1786890600-1786892400@sonestastmaarten.com
SUMMARY:Line Dance Class
DESCRIPTION:Join our Hype Team as we move and groove here at Sonesta Resort!
URL:https://sonestastmaarten.com/event/line-dance-class/2026-08-16/
LOCATION:The Oasis Pool
CATEGORIES:Maho Beach Resort
ATTACH;FMTTYPE=image/jpeg:https://sonestastmaarten.com/wp-content/uploads/maho-beach-exterior-day.jpg
END:VEVENT
BEGIN:VEVENT
DTSTART;TZID=America/Anguilla:20260823T143000
DTEND;TZID=America/Anguilla:20260823T150000
DTSTAMP:20260423T090139
CREATED:20251109T201702Z
LAST-MODIFIED:20260213T203309Z
UID:100110482-1787495400-1787497200@sonestastmaarten.com
SUMMARY:Line Dance Class
DESCRIPTION:Join our Hype Team as we move and groove here at Sonesta Resort!
URL:https://sonestastmaarten.com/event/line-dance-class/2026-08-23/
LOCATION:The Oasis Pool
CATEGORIES:Maho Beach Resort
ATTACH;FMTTYPE=image/jpeg:https://sonestastmaarten.com/wp-content/uploads/maho-beach-exterior-day.jpg
END:VEVENT
BEGIN:VEVENT
DTSTART;TZID=America/Anguilla:20260830T143000
DTEND;TZID=America/Anguilla:20260830T150000
DTSTAMP:20260423T090139
CREATED:20251109T201702Z
LAST-MODIFIED:20260213T203309Z
UID:100110483-1788100200-1788102000@sonestastmaarten.com
SUMMARY:Line Dance Class
DESCRIPTION:Join our Hype Team as we move and groove here at Sonesta Resort!
URL:https://sonestastmaarten.com/event/line-dance-class/2026-08-30/
LOCATION:The Oasis Pool
CATEGORIES:Maho Beach Resort
ATTACH;FMTTYPE=image/jpeg:https://sonestastmaarten.com/wp-content/uploads/maho-beach-exterior-day.jpg
END:VEVENT
BEGIN:VEVENT
DTSTART;TZID=America/Anguilla:20260906T143000
DTEND;TZID=America/Anguilla:20260906T150000
DTSTAMP:20260423T090139
CREATED:20251109T201702Z
LAST-MODIFIED:20260213T203309Z
UID:100110484-1788705000-1788706800@sonestastmaarten.com
SUMMARY:Line Dance Class
DESCRIPTION:Join our Hype Team as we move and groove here at Sonesta Resort!
URL:https://sonestastmaarten.com/event/line-dance-class/2026-09-06/
LOCATION:The Oasis Pool
CATEGORIES:Maho Beach Resort
ATTACH;FMTTYPE=image/jpeg:https://sonestastmaarten.com/wp-content/uploads/maho-beach-exterior-day.jpg
END:VEVENT
BEGIN:VEVENT
DTSTART;TZID=America/Anguilla:20260913T143000
DTEND;TZID=America/Anguilla:20260913T150000
DTSTAMP:20260423T090139
CREATED:20251109T201702Z
LAST-MODIFIED:20260213T203309Z
UID:100110485-1789309800-1789311600@sonestastmaarten.com
SUMMARY:Line Dance Class
DESCRIPTION:Join our Hype Team as we move and groove here at Sonesta Resort!
URL:https://sonestastmaarten.com/event/line-dance-class/2026-09-13/
LOCATION:The Oasis Pool
CATEGORIES:Maho Beach Resort
ATTACH;FMTTYPE=image/jpeg:https://sonestastmaarten.com/wp-content/uploads/maho-beach-exterior-day.jpg
END:VEVENT
BEGIN:VEVENT
DTSTART;TZID=America/Anguilla:20260920T143000
DTEND;TZID=America/Anguilla:20260920T150000
DTSTAMP:20260423T090139
CREATED:20251109T201702Z
LAST-MODIFIED:20260213T203309Z
UID:100110486-1789914600-1789916400@sonestastmaarten.com
SUMMARY:Line Dance Class
DESCRIPTION:Join our Hype Team as we move and groove here at Sonesta Resort!
URL:https://sonestastmaarten.com/event/line-dance-class/2026-09-20/
LOCATION:The Oasis Pool
CATEGORIES:Maho Beach Resort
ATTACH;FMTTYPE=image/jpeg:https://sonestastmaarten.com/wp-content/uploads/maho-beach-exterior-day.jpg
END:VEVENT
BEGIN:VEVENT
DTSTART;TZID=America/Anguilla:20260927T143000
DTEND;TZID=America/Anguilla:20260927T150000
DTSTAMP:20260423T090139
CREATED:20251109T201702Z
LAST-MODIFIED:20260213T203309Z
UID:100110487-1790519400-1790521200@sonestastmaarten.com
SUMMARY:Line Dance Class
DESCRIPTION:Join our Hype Team as we move and groove here at Sonesta Resort!
URL:https://sonestastmaarten.com/event/line-dance-class/2026-09-27/
LOCATION:The Oasis Pool
CATEGORIES:Maho Beach Resort
ATTACH;FMTTYPE=image/jpeg:https://sonestastmaarten.com/wp-content/uploads/maho-beach-exterior-day.jpg
END:VEVENT
BEGIN:VEVENT
DTSTART;TZID=America/Anguilla:20261004T143000
DTEND;TZID=America/Anguilla:20261004T150000
DTSTAMP:20260423T090139
CREATED:20251109T201702Z
LAST-MODIFIED:20260213T203309Z
UID:100110488-1791124200-1791126000@sonestastmaarten.com
SUMMARY:Line Dance Class
DESCRIPTION:Join our Hype Team as we move and groove here at Sonesta Resort!
URL:https://sonestastmaarten.com/event/line-dance-class/2026-10-04/
LOCATION:The Oasis Pool
CATEGORIES:Maho Beach Resort
ATTACH;FMTTYPE=image/jpeg:https://sonestastmaarten.com/wp-content/uploads/maho-beach-exterior-day.jpg
END:VEVENT
BEGIN:VEVENT
DTSTART;TZID=America/Anguilla:20261011T143000
DTEND;TZID=America/Anguilla:20261011T150000
DTSTAMP:20260423T090139
CREATED:20251109T201702Z
LAST-MODIFIED:20260213T203309Z
UID:100110489-1791729000-1791730800@sonestastmaarten.com
SUMMARY:Line Dance Class
DESCRIPTION:Join our Hype Team as we move and groove here at Sonesta Resort!
URL:https://sonestastmaarten.com/event/line-dance-class/2026-10-11/
LOCATION:The Oasis Pool
CATEGORIES:Maho Beach Resort
ATTACH;FMTTYPE=image/jpeg:https://sonestastmaarten.com/wp-content/uploads/maho-beach-exterior-day.jpg
END:VEVENT
BEGIN:VEVENT
DTSTART;TZID=America/Anguilla:20261018T143000
DTEND;TZID=America/Anguilla:20261018T150000
DTSTAMP:20260423T090139
CREATED:20251109T201702Z
LAST-MODIFIED:20260213T203309Z
UID:100110490-1792333800-1792335600@sonestastmaarten.com
SUMMARY:Line Dance Class
DESCRIPTION:Join our Hype Team as we move and groove here at Sonesta Resort!
URL:https://sonestastmaarten.com/event/line-dance-class/2026-10-18/
LOCATION:The Oasis Pool
CATEGORIES:Maho Beach Resort
ATTACH;FMTTYPE=image/jpeg:https://sonestastmaarten.com/wp-content/uploads/maho-beach-exterior-day.jpg
END:VEVENT
BEGIN:VEVENT
DTSTART;TZID=America/Anguilla:20261025T143000
DTEND;TZID=America/Anguilla:20261025T150000
DTSTAMP:20260423T090139
CREATED:20251109T201702Z
LAST-MODIFIED:20260213T203309Z
UID:100110491-1792938600-1792940400@sonestastmaarten.com
SUMMARY:Line Dance Class
DESCRIPTION:Join our Hype Team as we move and groove here at Sonesta Resort!
URL:https://sonestastmaarten.com/event/line-dance-class/2026-10-25/
LOCATION:The Oasis Pool
CATEGORIES:Maho Beach Resort
ATTACH;FMTTYPE=image/jpeg:https://sonestastmaarten.com/wp-content/uploads/maho-beach-exterior-day.jpg
END:VEVENT
BEGIN:VEVENT
DTSTART;TZID=America/Anguilla:20261101T143000
DTEND;TZID=America/Anguilla:20261101T150000
DTSTAMP:20260423T090139
CREATED:20251109T201702Z
LAST-MODIFIED:20260213T203309Z
UID:100110492-1793543400-1793545200@sonestastmaarten.com
SUMMARY:Line Dance Class
DESCRIPTION:Join our Hype Team as we move and groove here at Sonesta Resort!
URL:https://sonestastmaarten.com/event/line-dance-class/2026-11-01/
LOCATION:The Oasis Pool
CATEGORIES:Maho Beach Resort
ATTACH;FMTTYPE=image/jpeg:https://sonestastmaarten.com/wp-content/uploads/maho-beach-exterior-day.jpg
END:VEVENT
BEGIN:VEVENT
DTSTART;TZID=America/Anguilla:20261108T143000
DTEND;TZID=America/Anguilla:20261108T150000
DTSTAMP:20260423T090139
CREATED:20251109T201702Z
LAST-MODIFIED:20260213T203309Z
UID:100110493-1794148200-1794150000@sonestastmaarten.com
SUMMARY:Line Dance Class
DESCRIPTION:Join our Hype Team as we move and groove here at Sonesta Resort!
URL:https://sonestastmaarten.com/event/line-dance-class/2026-11-08/
LOCATION:The Oasis Pool
CATEGORIES:Maho Beach Resort
ATTACH;FMTTYPE=image/jpeg:https://sonestastmaarten.com/wp-content/uploads/maho-beach-exterior-day.jpg
END:VEVENT
BEGIN:VEVENT
DTSTART;TZID=America/Anguilla:20261115T143000
DTEND;TZID=America/Anguilla:20261115T150000
DTSTAMP:20260423T090139
CREATED:20251109T201702Z
LAST-MODIFIED:20260213T203309Z
UID:100110494-1794753000-1794754800@sonestastmaarten.com
SUMMARY:Line Dance Class
DESCRIPTION:Join our Hype Team as we move and groove here at Sonesta Resort!
URL:https://sonestastmaarten.com/event/line-dance-class/2026-11-15/
LOCATION:The Oasis Pool
CATEGORIES:Maho Beach Resort
ATTACH;FMTTYPE=image/jpeg:https://sonestastmaarten.com/wp-content/uploads/maho-beach-exterior-day.jpg
END:VEVENT
END:VCALENDAR