BEGIN:VCALENDAR
VERSION:2.0
PRODID:-//Sonesta Resorts Sint Maarten - ECPv6.15.17.1//NONSGML v1.0//EN
CALSCALE:GREGORIAN
METHOD:PUBLISH
X-WR-CALNAME:Sonesta Resorts Sint Maarten
X-ORIGINAL-URL:https://sonestastmaarten.com
X-WR-CALDESC:Events for Sonesta Resorts Sint Maarten
REFRESH-INTERVAL;VALUE=DURATION:PT1H
X-Robots-Tag:noindex
X-PUBLISHED-TTL:PT1H
BEGIN:VTIMEZONE
TZID:America/Anguilla
BEGIN:STANDARD
TZOFFSETFROM:-0400
TZOFFSETTO:-0400
TZNAME:AST
DTSTART:20250101T000000
END:STANDARD
END:VTIMEZONE
BEGIN:VEVENT
DTSTART;TZID=America/Anguilla:20260426T120000
DTEND;TZID=America/Anguilla:20260426T123000
DTSTAMP:20260423T162842
CREATED:20251109T200625Z
LAST-MODIFIED:20260213T203243Z
UID:100110413-1777204800-1777206600@sonestastmaarten.com
SUMMARY:Name That Tune
DESCRIPTION:Enjoy some fun under the sun! Join in the fun and partake in our mid-day activity Name That Tune…you may win a prize!
URL:https://sonestastmaarten.com/event/name-that-tune/2026-04-26/
LOCATION:The Oasis Pool
CATEGORIES:Maho Beach Resort
ATTACH;FMTTYPE=image/jpeg:https://sonestastmaarten.com/wp-content/uploads/maho-beach-exterior-day.jpg
END:VEVENT
BEGIN:VEVENT
DTSTART;TZID=America/Anguilla:20260503T120000
DTEND;TZID=America/Anguilla:20260503T123000
DTSTAMP:20260423T162842
CREATED:20251109T200625Z
LAST-MODIFIED:20260213T203243Z
UID:100110414-1777809600-1777811400@sonestastmaarten.com
SUMMARY:Name That Tune
DESCRIPTION:Enjoy some fun under the sun! Join in the fun and partake in our mid-day activity Name That Tune…you may win a prize!
URL:https://sonestastmaarten.com/event/name-that-tune/2026-05-03/
LOCATION:The Oasis Pool
CATEGORIES:Maho Beach Resort
ATTACH;FMTTYPE=image/jpeg:https://sonestastmaarten.com/wp-content/uploads/maho-beach-exterior-day.jpg
END:VEVENT
BEGIN:VEVENT
DTSTART;TZID=America/Anguilla:20260510T120000
DTEND;TZID=America/Anguilla:20260510T123000
DTSTAMP:20260423T162842
CREATED:20251109T200625Z
LAST-MODIFIED:20260213T203243Z
UID:100110415-1778414400-1778416200@sonestastmaarten.com
SUMMARY:Name That Tune
DESCRIPTION:Enjoy some fun under the sun! Join in the fun and partake in our mid-day activity Name That Tune…you may win a prize!
URL:https://sonestastmaarten.com/event/name-that-tune/2026-05-10/
LOCATION:The Oasis Pool
CATEGORIES:Maho Beach Resort
ATTACH;FMTTYPE=image/jpeg:https://sonestastmaarten.com/wp-content/uploads/maho-beach-exterior-day.jpg
END:VEVENT
BEGIN:VEVENT
DTSTART;TZID=America/Anguilla:20260517T120000
DTEND;TZID=America/Anguilla:20260517T123000
DTSTAMP:20260423T162842
CREATED:20251109T200625Z
LAST-MODIFIED:20260213T203243Z
UID:100110416-1779019200-1779021000@sonestastmaarten.com
SUMMARY:Name That Tune
DESCRIPTION:Enjoy some fun under the sun! Join in the fun and partake in our mid-day activity Name That Tune…you may win a prize!
URL:https://sonestastmaarten.com/event/name-that-tune/2026-05-17/
LOCATION:The Oasis Pool
CATEGORIES:Maho Beach Resort
ATTACH;FMTTYPE=image/jpeg:https://sonestastmaarten.com/wp-content/uploads/maho-beach-exterior-day.jpg
END:VEVENT
BEGIN:VEVENT
DTSTART;TZID=America/Anguilla:20260524T120000
DTEND;TZID=America/Anguilla:20260524T123000
DTSTAMP:20260423T162842
CREATED:20251109T200625Z
LAST-MODIFIED:20260213T203243Z
UID:100110417-1779624000-1779625800@sonestastmaarten.com
SUMMARY:Name That Tune
DESCRIPTION:Enjoy some fun under the sun! Join in the fun and partake in our mid-day activity Name That Tune…you may win a prize!
URL:https://sonestastmaarten.com/event/name-that-tune/2026-05-24/
LOCATION:The Oasis Pool
CATEGORIES:Maho Beach Resort
ATTACH;FMTTYPE=image/jpeg:https://sonestastmaarten.com/wp-content/uploads/maho-beach-exterior-day.jpg
END:VEVENT
BEGIN:VEVENT
DTSTART;TZID=America/Anguilla:20260531T120000
DTEND;TZID=America/Anguilla:20260531T123000
DTSTAMP:20260423T162842
CREATED:20251109T200625Z
LAST-MODIFIED:20260213T203243Z
UID:100110418-1780228800-1780230600@sonestastmaarten.com
SUMMARY:Name That Tune
DESCRIPTION:Enjoy some fun under the sun! Join in the fun and partake in our mid-day activity Name That Tune…you may win a prize!
URL:https://sonestastmaarten.com/event/name-that-tune/2026-05-31/
LOCATION:The Oasis Pool
CATEGORIES:Maho Beach Resort
ATTACH;FMTTYPE=image/jpeg:https://sonestastmaarten.com/wp-content/uploads/maho-beach-exterior-day.jpg
END:VEVENT
BEGIN:VEVENT
DTSTART;TZID=America/Anguilla:20260607T120000
DTEND;TZID=America/Anguilla:20260607T123000
DTSTAMP:20260423T162842
CREATED:20251109T200625Z
LAST-MODIFIED:20260213T203243Z
UID:100110419-1780833600-1780835400@sonestastmaarten.com
SUMMARY:Name That Tune
DESCRIPTION:Enjoy some fun under the sun! Join in the fun and partake in our mid-day activity Name That Tune…you may win a prize!
URL:https://sonestastmaarten.com/event/name-that-tune/2026-06-07/
LOCATION:The Oasis Pool
CATEGORIES:Maho Beach Resort
ATTACH;FMTTYPE=image/jpeg:https://sonestastmaarten.com/wp-content/uploads/maho-beach-exterior-day.jpg
END:VEVENT
BEGIN:VEVENT
DTSTART;TZID=America/Anguilla:20260614T120000
DTEND;TZID=America/Anguilla:20260614T123000
DTSTAMP:20260423T162842
CREATED:20251109T200625Z
LAST-MODIFIED:20260213T203243Z
UID:100110420-1781438400-1781440200@sonestastmaarten.com
SUMMARY:Name That Tune
DESCRIPTION:Enjoy some fun under the sun! Join in the fun and partake in our mid-day activity Name That Tune…you may win a prize!
URL:https://sonestastmaarten.com/event/name-that-tune/2026-06-14/
LOCATION:The Oasis Pool
CATEGORIES:Maho Beach Resort
ATTACH;FMTTYPE=image/jpeg:https://sonestastmaarten.com/wp-content/uploads/maho-beach-exterior-day.jpg
END:VEVENT
BEGIN:VEVENT
DTSTART;TZID=America/Anguilla:20260621T120000
DTEND;TZID=America/Anguilla:20260621T123000
DTSTAMP:20260423T162842
CREATED:20251109T200625Z
LAST-MODIFIED:20260213T203243Z
UID:100110421-1782043200-1782045000@sonestastmaarten.com
SUMMARY:Name That Tune
DESCRIPTION:Enjoy some fun under the sun! Join in the fun and partake in our mid-day activity Name That Tune…you may win a prize!
URL:https://sonestastmaarten.com/event/name-that-tune/2026-06-21/
LOCATION:The Oasis Pool
CATEGORIES:Maho Beach Resort
ATTACH;FMTTYPE=image/jpeg:https://sonestastmaarten.com/wp-content/uploads/maho-beach-exterior-day.jpg
END:VEVENT
BEGIN:VEVENT
DTSTART;TZID=America/Anguilla:20260628T120000
DTEND;TZID=America/Anguilla:20260628T123000
DTSTAMP:20260423T162842
CREATED:20251109T200625Z
LAST-MODIFIED:20260213T203243Z
UID:100110422-1782648000-1782649800@sonestastmaarten.com
SUMMARY:Name That Tune
DESCRIPTION:Enjoy some fun under the sun! Join in the fun and partake in our mid-day activity Name That Tune…you may win a prize!
URL:https://sonestastmaarten.com/event/name-that-tune/2026-06-28/
LOCATION:The Oasis Pool
CATEGORIES:Maho Beach Resort
ATTACH;FMTTYPE=image/jpeg:https://sonestastmaarten.com/wp-content/uploads/maho-beach-exterior-day.jpg
END:VEVENT
BEGIN:VEVENT
DTSTART;TZID=America/Anguilla:20260705T120000
DTEND;TZID=America/Anguilla:20260705T123000
DTSTAMP:20260423T162842
CREATED:20251109T200625Z
LAST-MODIFIED:20260213T203243Z
UID:100110423-1783252800-1783254600@sonestastmaarten.com
SUMMARY:Name That Tune
DESCRIPTION:Enjoy some fun under the sun! Join in the fun and partake in our mid-day activity Name That Tune…you may win a prize!
URL:https://sonestastmaarten.com/event/name-that-tune/2026-07-05/
LOCATION:The Oasis Pool
CATEGORIES:Maho Beach Resort
ATTACH;FMTTYPE=image/jpeg:https://sonestastmaarten.com/wp-content/uploads/maho-beach-exterior-day.jpg
END:VEVENT
BEGIN:VEVENT
DTSTART;TZID=America/Anguilla:20260712T120000
DTEND;TZID=America/Anguilla:20260712T123000
DTSTAMP:20260423T162842
CREATED:20251109T200625Z
LAST-MODIFIED:20260213T203243Z
UID:100110424-1783857600-1783859400@sonestastmaarten.com
SUMMARY:Name That Tune
DESCRIPTION:Enjoy some fun under the sun! Join in the fun and partake in our mid-day activity Name That Tune…you may win a prize!
URL:https://sonestastmaarten.com/event/name-that-tune/2026-07-12/
LOCATION:The Oasis Pool
CATEGORIES:Maho Beach Resort
ATTACH;FMTTYPE=image/jpeg:https://sonestastmaarten.com/wp-content/uploads/maho-beach-exterior-day.jpg
END:VEVENT
BEGIN:VEVENT
DTSTART;TZID=America/Anguilla:20260719T120000
DTEND;TZID=America/Anguilla:20260719T123000
DTSTAMP:20260423T162842
CREATED:20251109T200625Z
LAST-MODIFIED:20260213T203243Z
UID:100110425-1784462400-1784464200@sonestastmaarten.com
SUMMARY:Name That Tune
DESCRIPTION:Enjoy some fun under the sun! Join in the fun and partake in our mid-day activity Name That Tune…you may win a prize!
URL:https://sonestastmaarten.com/event/name-that-tune/2026-07-19/
LOCATION:The Oasis Pool
CATEGORIES:Maho Beach Resort
ATTACH;FMTTYPE=image/jpeg:https://sonestastmaarten.com/wp-content/uploads/maho-beach-exterior-day.jpg
END:VEVENT
BEGIN:VEVENT
DTSTART;TZID=America/Anguilla:20260726T120000
DTEND;TZID=America/Anguilla:20260726T123000
DTSTAMP:20260423T162842
CREATED:20251109T200625Z
LAST-MODIFIED:20260213T203243Z
UID:100110426-1785067200-1785069000@sonestastmaarten.com
SUMMARY:Name That Tune
DESCRIPTION:Enjoy some fun under the sun! Join in the fun and partake in our mid-day activity Name That Tune…you may win a prize!
URL:https://sonestastmaarten.com/event/name-that-tune/2026-07-26/
LOCATION:The Oasis Pool
CATEGORIES:Maho Beach Resort
ATTACH;FMTTYPE=image/jpeg:https://sonestastmaarten.com/wp-content/uploads/maho-beach-exterior-day.jpg
END:VEVENT
BEGIN:VEVENT
DTSTART;TZID=America/Anguilla:20260802T120000
DTEND;TZID=America/Anguilla:20260802T123000
DTSTAMP:20260423T162842
CREATED:20251109T200625Z
LAST-MODIFIED:20260213T203243Z
UID:100110427-1785672000-1785673800@sonestastmaarten.com
SUMMARY:Name That Tune
DESCRIPTION:Enjoy some fun under the sun! Join in the fun and partake in our mid-day activity Name That Tune…you may win a prize!
URL:https://sonestastmaarten.com/event/name-that-tune/2026-08-02/
LOCATION:The Oasis Pool
CATEGORIES:Maho Beach Resort
ATTACH;FMTTYPE=image/jpeg:https://sonestastmaarten.com/wp-content/uploads/maho-beach-exterior-day.jpg
END:VEVENT
BEGIN:VEVENT
DTSTART;TZID=America/Anguilla:20260809T120000
DTEND;TZID=America/Anguilla:20260809T123000
DTSTAMP:20260423T162842
CREATED:20251109T200625Z
LAST-MODIFIED:20260213T203243Z
UID:100110428-1786276800-1786278600@sonestastmaarten.com
SUMMARY:Name That Tune
DESCRIPTION:Enjoy some fun under the sun! Join in the fun and partake in our mid-day activity Name That Tune…you may win a prize!
URL:https://sonestastmaarten.com/event/name-that-tune/2026-08-09/
LOCATION:The Oasis Pool
CATEGORIES:Maho Beach Resort
ATTACH;FMTTYPE=image/jpeg:https://sonestastmaarten.com/wp-content/uploads/maho-beach-exterior-day.jpg
END:VEVENT
BEGIN:VEVENT
DTSTART;TZID=America/Anguilla:20260816T120000
DTEND;TZID=America/Anguilla:20260816T123000
DTSTAMP:20260423T162842
CREATED:20251109T200625Z
LAST-MODIFIED:20260213T203243Z
UID:100110429-1786881600-1786883400@sonestastmaarten.com
SUMMARY:Name That Tune
DESCRIPTION:Enjoy some fun under the sun! Join in the fun and partake in our mid-day activity Name That Tune…you may win a prize!
URL:https://sonestastmaarten.com/event/name-that-tune/2026-08-16/
LOCATION:The Oasis Pool
CATEGORIES:Maho Beach Resort
ATTACH;FMTTYPE=image/jpeg:https://sonestastmaarten.com/wp-content/uploads/maho-beach-exterior-day.jpg
END:VEVENT
BEGIN:VEVENT
DTSTART;TZID=America/Anguilla:20260823T120000
DTEND;TZID=America/Anguilla:20260823T123000
DTSTAMP:20260423T162842
CREATED:20251109T200625Z
LAST-MODIFIED:20260213T203243Z
UID:100110430-1787486400-1787488200@sonestastmaarten.com
SUMMARY:Name That Tune
DESCRIPTION:Enjoy some fun under the sun! Join in the fun and partake in our mid-day activity Name That Tune…you may win a prize!
URL:https://sonestastmaarten.com/event/name-that-tune/2026-08-23/
LOCATION:The Oasis Pool
CATEGORIES:Maho Beach Resort
ATTACH;FMTTYPE=image/jpeg:https://sonestastmaarten.com/wp-content/uploads/maho-beach-exterior-day.jpg
END:VEVENT
BEGIN:VEVENT
DTSTART;TZID=America/Anguilla:20260830T120000
DTEND;TZID=America/Anguilla:20260830T123000
DTSTAMP:20260423T162842
CREATED:20251109T200625Z
LAST-MODIFIED:20260213T203243Z
UID:100110431-1788091200-1788093000@sonestastmaarten.com
SUMMARY:Name That Tune
DESCRIPTION:Enjoy some fun under the sun! Join in the fun and partake in our mid-day activity Name That Tune…you may win a prize!
URL:https://sonestastmaarten.com/event/name-that-tune/2026-08-30/
LOCATION:The Oasis Pool
CATEGORIES:Maho Beach Resort
ATTACH;FMTTYPE=image/jpeg:https://sonestastmaarten.com/wp-content/uploads/maho-beach-exterior-day.jpg
END:VEVENT
BEGIN:VEVENT
DTSTART;TZID=America/Anguilla:20260906T120000
DTEND;TZID=America/Anguilla:20260906T123000
DTSTAMP:20260423T162842
CREATED:20251109T200625Z
LAST-MODIFIED:20260213T203243Z
UID:100110432-1788696000-1788697800@sonestastmaarten.com
SUMMARY:Name That Tune
DESCRIPTION:Enjoy some fun under the sun! Join in the fun and partake in our mid-day activity Name That Tune…you may win a prize!
URL:https://sonestastmaarten.com/event/name-that-tune/2026-09-06/
LOCATION:The Oasis Pool
CATEGORIES:Maho Beach Resort
ATTACH;FMTTYPE=image/jpeg:https://sonestastmaarten.com/wp-content/uploads/maho-beach-exterior-day.jpg
END:VEVENT
BEGIN:VEVENT
DTSTART;TZID=America/Anguilla:20260913T120000
DTEND;TZID=America/Anguilla:20260913T123000
DTSTAMP:20260423T162842
CREATED:20251109T200625Z
LAST-MODIFIED:20260213T203243Z
UID:100110433-1789300800-1789302600@sonestastmaarten.com
SUMMARY:Name That Tune
DESCRIPTION:Enjoy some fun under the sun! Join in the fun and partake in our mid-day activity Name That Tune…you may win a prize!
URL:https://sonestastmaarten.com/event/name-that-tune/2026-09-13/
LOCATION:The Oasis Pool
CATEGORIES:Maho Beach Resort
ATTACH;FMTTYPE=image/jpeg:https://sonestastmaarten.com/wp-content/uploads/maho-beach-exterior-day.jpg
END:VEVENT
BEGIN:VEVENT
DTSTART;TZID=America/Anguilla:20260920T120000
DTEND;TZID=America/Anguilla:20260920T123000
DTSTAMP:20260423T162842
CREATED:20251109T200625Z
LAST-MODIFIED:20260213T203243Z
UID:100110434-1789905600-1789907400@sonestastmaarten.com
SUMMARY:Name That Tune
DESCRIPTION:Enjoy some fun under the sun! Join in the fun and partake in our mid-day activity Name That Tune…you may win a prize!
URL:https://sonestastmaarten.com/event/name-that-tune/2026-09-20/
LOCATION:The Oasis Pool
CATEGORIES:Maho Beach Resort
ATTACH;FMTTYPE=image/jpeg:https://sonestastmaarten.com/wp-content/uploads/maho-beach-exterior-day.jpg
END:VEVENT
BEGIN:VEVENT
DTSTART;TZID=America/Anguilla:20260927T120000
DTEND;TZID=America/Anguilla:20260927T123000
DTSTAMP:20260423T162842
CREATED:20251109T200625Z
LAST-MODIFIED:20260213T203243Z
UID:100110435-1790510400-1790512200@sonestastmaarten.com
SUMMARY:Name That Tune
DESCRIPTION:Enjoy some fun under the sun! Join in the fun and partake in our mid-day activity Name That Tune…you may win a prize!
URL:https://sonestastmaarten.com/event/name-that-tune/2026-09-27/
LOCATION:The Oasis Pool
CATEGORIES:Maho Beach Resort
ATTACH;FMTTYPE=image/jpeg:https://sonestastmaarten.com/wp-content/uploads/maho-beach-exterior-day.jpg
END:VEVENT
BEGIN:VEVENT
DTSTART;TZID=America/Anguilla:20261004T120000
DTEND;TZID=America/Anguilla:20261004T123000
DTSTAMP:20260423T162842
CREATED:20251109T200625Z
LAST-MODIFIED:20260213T203243Z
UID:100110436-1791115200-1791117000@sonestastmaarten.com
SUMMARY:Name That Tune
DESCRIPTION:Enjoy some fun under the sun! Join in the fun and partake in our mid-day activity Name That Tune…you may win a prize!
URL:https://sonestastmaarten.com/event/name-that-tune/2026-10-04/
LOCATION:The Oasis Pool
CATEGORIES:Maho Beach Resort
ATTACH;FMTTYPE=image/jpeg:https://sonestastmaarten.com/wp-content/uploads/maho-beach-exterior-day.jpg
END:VEVENT
BEGIN:VEVENT
DTSTART;TZID=America/Anguilla:20261011T120000
DTEND;TZID=America/Anguilla:20261011T123000
DTSTAMP:20260423T162842
CREATED:20251109T200625Z
LAST-MODIFIED:20260213T203243Z
UID:100110437-1791720000-1791721800@sonestastmaarten.com
SUMMARY:Name That Tune
DESCRIPTION:Enjoy some fun under the sun! Join in the fun and partake in our mid-day activity Name That Tune…you may win a prize!
URL:https://sonestastmaarten.com/event/name-that-tune/2026-10-11/
LOCATION:The Oasis Pool
CATEGORIES:Maho Beach Resort
ATTACH;FMTTYPE=image/jpeg:https://sonestastmaarten.com/wp-content/uploads/maho-beach-exterior-day.jpg
END:VEVENT
BEGIN:VEVENT
DTSTART;TZID=America/Anguilla:20261018T120000
DTEND;TZID=America/Anguilla:20261018T123000
DTSTAMP:20260423T162842
CREATED:20251109T200625Z
LAST-MODIFIED:20260213T203243Z
UID:100110438-1792324800-1792326600@sonestastmaarten.com
SUMMARY:Name That Tune
DESCRIPTION:Enjoy some fun under the sun! Join in the fun and partake in our mid-day activity Name That Tune…you may win a prize!
URL:https://sonestastmaarten.com/event/name-that-tune/2026-10-18/
LOCATION:The Oasis Pool
CATEGORIES:Maho Beach Resort
ATTACH;FMTTYPE=image/jpeg:https://sonestastmaarten.com/wp-content/uploads/maho-beach-exterior-day.jpg
END:VEVENT
BEGIN:VEVENT
DTSTART;TZID=America/Anguilla:20261025T120000
DTEND;TZID=America/Anguilla:20261025T123000
DTSTAMP:20260423T162842
CREATED:20251109T200625Z
LAST-MODIFIED:20260213T203243Z
UID:100110439-1792929600-1792931400@sonestastmaarten.com
SUMMARY:Name That Tune
DESCRIPTION:Enjoy some fun under the sun! Join in the fun and partake in our mid-day activity Name That Tune…you may win a prize!
URL:https://sonestastmaarten.com/event/name-that-tune/2026-10-25/
LOCATION:The Oasis Pool
CATEGORIES:Maho Beach Resort
ATTACH;FMTTYPE=image/jpeg:https://sonestastmaarten.com/wp-content/uploads/maho-beach-exterior-day.jpg
END:VEVENT
BEGIN:VEVENT
DTSTART;TZID=America/Anguilla:20261101T120000
DTEND;TZID=America/Anguilla:20261101T123000
DTSTAMP:20260423T162842
CREATED:20251109T200625Z
LAST-MODIFIED:20260213T203243Z
UID:100110440-1793534400-1793536200@sonestastmaarten.com
SUMMARY:Name That Tune
DESCRIPTION:Enjoy some fun under the sun! Join in the fun and partake in our mid-day activity Name That Tune…you may win a prize!
URL:https://sonestastmaarten.com/event/name-that-tune/2026-11-01/
LOCATION:The Oasis Pool
CATEGORIES:Maho Beach Resort
ATTACH;FMTTYPE=image/jpeg:https://sonestastmaarten.com/wp-content/uploads/maho-beach-exterior-day.jpg
END:VEVENT
BEGIN:VEVENT
DTSTART;TZID=America/Anguilla:20261108T120000
DTEND;TZID=America/Anguilla:20261108T123000
DTSTAMP:20260423T162842
CREATED:20251109T200625Z
LAST-MODIFIED:20260213T203243Z
UID:100110441-1794139200-1794141000@sonestastmaarten.com
SUMMARY:Name That Tune
DESCRIPTION:Enjoy some fun under the sun! Join in the fun and partake in our mid-day activity Name That Tune…you may win a prize!
URL:https://sonestastmaarten.com/event/name-that-tune/2026-11-08/
LOCATION:The Oasis Pool
CATEGORIES:Maho Beach Resort
ATTACH;FMTTYPE=image/jpeg:https://sonestastmaarten.com/wp-content/uploads/maho-beach-exterior-day.jpg
END:VEVENT
BEGIN:VEVENT
DTSTART;TZID=America/Anguilla:20261115T120000
DTEND;TZID=America/Anguilla:20261115T123000
DTSTAMP:20260423T162842
CREATED:20251109T200625Z
LAST-MODIFIED:20260213T203243Z
UID:100110442-1794744000-1794745800@sonestastmaarten.com
SUMMARY:Name That Tune
DESCRIPTION:Enjoy some fun under the sun! Join in the fun and partake in our mid-day activity Name That Tune…you may win a prize!
URL:https://sonestastmaarten.com/event/name-that-tune/2026-11-15/
LOCATION:The Oasis Pool
CATEGORIES:Maho Beach Resort
ATTACH;FMTTYPE=image/jpeg:https://sonestastmaarten.com/wp-content/uploads/maho-beach-exterior-day.jpg
END:VEVENT
END:VCALENDAR