BEGIN:VCALENDAR
VERSION:2.0
PRODID:-//Sonesta Resorts Sint Maarten - ECPv6.15.17.1//NONSGML v1.0//EN
CALSCALE:GREGORIAN
METHOD:PUBLISH
X-WR-CALNAME:Sonesta Resorts Sint Maarten
X-ORIGINAL-URL:https://sonestastmaarten.com
X-WR-CALDESC:Events for Sonesta Resorts Sint Maarten
REFRESH-INTERVAL;VALUE=DURATION:PT1H
X-Robots-Tag:noindex
X-PUBLISHED-TTL:PT1H
BEGIN:VTIMEZONE
TZID:America/Anguilla
BEGIN:STANDARD
TZOFFSETFROM:-0400
TZOFFSETTO:-0400
TZNAME:AST
DTSTART:20250101T000000
END:STANDARD
END:VTIMEZONE
BEGIN:VEVENT
DTSTART;TZID=America/Anguilla:20260419T130000
DTEND;TZID=America/Anguilla:20260419T180000
DTSTAMP:20260419T155554
CREATED:20250819T164419Z
LAST-MODIFIED:20260210T152242Z
UID:100114103-1776603600-1776621600@sonestastmaarten.com
SUMMARY:Sonesta Kids Crew
DESCRIPTION:The Sonesta Kids Crew welcomes children ages 3–12 for exciting group activities! Join our energetic Sonesta Kids Crew for scavenger hunts\, dance routines\, resort safaris\, puzzles\, and more.
URL:https://sonestastmaarten.com/event/beach-house-kids-club-2/2026-04-19/
LOCATION:The Beach House
CATEGORIES:Maho Beach Resort
ATTACH;FMTTYPE=image/jpeg:https://sonestastmaarten.com/wp-content/uploads/kids-club-at-maho-beach.jpg
END:VEVENT
BEGIN:VEVENT
DTSTART;TZID=America/Anguilla:20260420T100000
DTEND;TZID=America/Anguilla:20260420T120000
DTSTAMP:20260419T155554
CREATED:20250819T163813Z
LAST-MODIFIED:20260210T152229Z
UID:100115207-1776679200-1776686400@sonestastmaarten.com
SUMMARY:Sonesta Kids Crew
DESCRIPTION:The Sonesta Kids Crew welcomes children ages 3–12 for exciting group activities! Join our energetic Sonesta Kids Crew for scavenger hunts\, dance routines\, resort safaris\, puzzles\, and more.
URL:https://sonestastmaarten.com/event/beach-house-kids-club/2026-04-20/
LOCATION:The Beach House
CATEGORIES:Maho Beach Resort
ATTACH;FMTTYPE=image/jpeg:https://sonestastmaarten.com/wp-content/uploads/kids-club-at-maho-beach.jpg
END:VEVENT
BEGIN:VEVENT
DTSTART;TZID=America/Anguilla:20260420T130000
DTEND;TZID=America/Anguilla:20260420T180000
DTSTAMP:20260419T155554
CREATED:20250819T164419Z
LAST-MODIFIED:20260210T152242Z
UID:100115255-1776690000-1776708000@sonestastmaarten.com
SUMMARY:Sonesta Kids Crew
DESCRIPTION:The Sonesta Kids Crew welcomes children ages 3–12 for exciting group activities! Join our energetic Sonesta Kids Crew for scavenger hunts\, dance routines\, resort safaris\, puzzles\, and more.
URL:https://sonestastmaarten.com/event/beach-house-kids-club-2/2026-04-20/
LOCATION:The Beach House
CATEGORIES:Maho Beach Resort
ATTACH;FMTTYPE=image/jpeg:https://sonestastmaarten.com/wp-content/uploads/kids-club-at-maho-beach.jpg
END:VEVENT
BEGIN:VEVENT
DTSTART;TZID=America/Anguilla:20260420T190000
DTEND;TZID=America/Anguilla:20260420T213000
DTSTAMP:20260419T155554
CREATED:20250819T164742Z
LAST-MODIFIED:20260210T152258Z
UID:100115548-1776711600-1776720600@sonestastmaarten.com
SUMMARY:Sonesta Kids Crew
DESCRIPTION:The Sonesta Kids Crew welcomes children ages 3–12 for exciting group activities! Join our energetic Sonesta Kids Crew for scavenger hunts\, dance routines\, resort safaris\, puzzles\, and more.
URL:https://sonestastmaarten.com/event/beach-house-kids-club-3/2026-04-20/
LOCATION:The Beach House
CATEGORIES:Maho Beach Resort
ATTACH;FMTTYPE=image/jpeg:https://sonestastmaarten.com/wp-content/uploads/kids-club-at-maho-beach.jpg
END:VEVENT
BEGIN:VEVENT
DTSTART;TZID=America/Anguilla:20260421T100000
DTEND;TZID=America/Anguilla:20260421T120000
DTSTAMP:20260419T155554
CREATED:20250819T163813Z
LAST-MODIFIED:20260210T152229Z
UID:100115208-1776765600-1776772800@sonestastmaarten.com
SUMMARY:Sonesta Kids Crew
DESCRIPTION:The Sonesta Kids Crew welcomes children ages 3–12 for exciting group activities! Join our energetic Sonesta Kids Crew for scavenger hunts\, dance routines\, resort safaris\, puzzles\, and more.
URL:https://sonestastmaarten.com/event/beach-house-kids-club/2026-04-21/
LOCATION:The Beach House
CATEGORIES:Maho Beach Resort
ATTACH;FMTTYPE=image/jpeg:https://sonestastmaarten.com/wp-content/uploads/kids-club-at-maho-beach.jpg
END:VEVENT
BEGIN:VEVENT
DTSTART;TZID=America/Anguilla:20260421T130000
DTEND;TZID=America/Anguilla:20260421T180000
DTSTAMP:20260419T155554
CREATED:20250819T164419Z
LAST-MODIFIED:20260210T152242Z
UID:100115256-1776776400-1776794400@sonestastmaarten.com
SUMMARY:Sonesta Kids Crew
DESCRIPTION:The Sonesta Kids Crew welcomes children ages 3–12 for exciting group activities! Join our energetic Sonesta Kids Crew for scavenger hunts\, dance routines\, resort safaris\, puzzles\, and more.
URL:https://sonestastmaarten.com/event/beach-house-kids-club-2/2026-04-21/
LOCATION:The Beach House
CATEGORIES:Maho Beach Resort
ATTACH;FMTTYPE=image/jpeg:https://sonestastmaarten.com/wp-content/uploads/kids-club-at-maho-beach.jpg
END:VEVENT
BEGIN:VEVENT
DTSTART;TZID=America/Anguilla:20260421T190000
DTEND;TZID=America/Anguilla:20260421T213000
DTSTAMP:20260419T155554
CREATED:20250819T164742Z
LAST-MODIFIED:20260210T152258Z
UID:100115549-1776798000-1776807000@sonestastmaarten.com
SUMMARY:Sonesta Kids Crew
DESCRIPTION:The Sonesta Kids Crew welcomes children ages 3–12 for exciting group activities! Join our energetic Sonesta Kids Crew for scavenger hunts\, dance routines\, resort safaris\, puzzles\, and more.
URL:https://sonestastmaarten.com/event/beach-house-kids-club-3/2026-04-21/
LOCATION:The Beach House
CATEGORIES:Maho Beach Resort
ATTACH;FMTTYPE=image/jpeg:https://sonestastmaarten.com/wp-content/uploads/kids-club-at-maho-beach.jpg
END:VEVENT
BEGIN:VEVENT
DTSTART;TZID=America/Anguilla:20260422T100000
DTEND;TZID=America/Anguilla:20260422T120000
DTSTAMP:20260419T155554
CREATED:20250819T163813Z
LAST-MODIFIED:20260210T152229Z
UID:100115209-1776852000-1776859200@sonestastmaarten.com
SUMMARY:Sonesta Kids Crew
DESCRIPTION:The Sonesta Kids Crew welcomes children ages 3–12 for exciting group activities! Join our energetic Sonesta Kids Crew for scavenger hunts\, dance routines\, resort safaris\, puzzles\, and more.
URL:https://sonestastmaarten.com/event/beach-house-kids-club/2026-04-22/
LOCATION:The Beach House
CATEGORIES:Maho Beach Resort
ATTACH;FMTTYPE=image/jpeg:https://sonestastmaarten.com/wp-content/uploads/kids-club-at-maho-beach.jpg
END:VEVENT
BEGIN:VEVENT
DTSTART;TZID=America/Anguilla:20260422T130000
DTEND;TZID=America/Anguilla:20260422T150000
DTSTAMP:20260419T155554
CREATED:20250819T165134Z
LAST-MODIFIED:20260210T152314Z
UID:100116843-1776862800-1776870000@sonestastmaarten.com
SUMMARY:Sonesta Kids Crew
DESCRIPTION:The Sonesta Kids Crew welcomes children ages 3–12 for exciting group activities! Join our energetic Sonesta Kids Crew for scavenger hunts\, dance routines\, resort safaris\, puzzles\, and more.
URL:https://sonestastmaarten.com/event/beach-house-kids-club-4/2026-04-22/
LOCATION:The Beach House
CATEGORIES:Maho Beach Resort
ATTACH;FMTTYPE=image/jpeg:https://sonestastmaarten.com/wp-content/uploads/kids-club-at-maho-beach.jpg
END:VEVENT
BEGIN:VEVENT
DTSTART;TZID=America/Anguilla:20260422T161500
DTEND;TZID=America/Anguilla:20260422T180000
DTSTAMP:20260419T155554
CREATED:20250819T165328Z
LAST-MODIFIED:20260210T152329Z
UID:100116860-1776874500-1776880800@sonestastmaarten.com
SUMMARY:Sonesta Kids Crew
DESCRIPTION:The Sonesta Kids Crew welcomes children ages 3–12 for exciting group activities! Join our energetic Sonesta Kids Crew for scavenger hunts\, dance routines\, resort safaris\, puzzles\, and more.
URL:https://sonestastmaarten.com/event/beach-house-kids-club-5/2026-04-22/
LOCATION:The Beach House
CATEGORIES:Maho Beach Resort
ATTACH;FMTTYPE=image/jpeg:https://sonestastmaarten.com/wp-content/uploads/kids-club-at-maho-beach.jpg
END:VEVENT
BEGIN:VEVENT
DTSTART;TZID=America/Anguilla:20260423T100000
DTEND;TZID=America/Anguilla:20260423T120000
DTSTAMP:20260419T155554
CREATED:20250819T163813Z
LAST-MODIFIED:20260210T152229Z
UID:100115324-1776938400-1776945600@sonestastmaarten.com
SUMMARY:Sonesta Kids Crew
DESCRIPTION:The Sonesta Kids Crew welcomes children ages 3–12 for exciting group activities! Join our energetic Sonesta Kids Crew for scavenger hunts\, dance routines\, resort safaris\, puzzles\, and more.
URL:https://sonestastmaarten.com/event/beach-house-kids-club/2026-04-23/
LOCATION:The Beach House
CATEGORIES:Maho Beach Resort
ATTACH;FMTTYPE=image/jpeg:https://sonestastmaarten.com/wp-content/uploads/kids-club-at-maho-beach.jpg
END:VEVENT
BEGIN:VEVENT
DTSTART;TZID=America/Anguilla:20260423T130000
DTEND;TZID=America/Anguilla:20260423T180000
DTSTAMP:20260419T155554
CREATED:20250819T164419Z
LAST-MODIFIED:20260210T152242Z
UID:100115257-1776949200-1776967200@sonestastmaarten.com
SUMMARY:Sonesta Kids Crew
DESCRIPTION:The Sonesta Kids Crew welcomes children ages 3–12 for exciting group activities! Join our energetic Sonesta Kids Crew for scavenger hunts\, dance routines\, resort safaris\, puzzles\, and more.
URL:https://sonestastmaarten.com/event/beach-house-kids-club-2/2026-04-23/
LOCATION:The Beach House
CATEGORIES:Maho Beach Resort
ATTACH;FMTTYPE=image/jpeg:https://sonestastmaarten.com/wp-content/uploads/kids-club-at-maho-beach.jpg
END:VEVENT
BEGIN:VEVENT
DTSTART;TZID=America/Anguilla:20260423T190000
DTEND;TZID=America/Anguilla:20260423T213000
DTSTAMP:20260419T155554
CREATED:20250819T164742Z
LAST-MODIFIED:20260210T152258Z
UID:100115550-1776970800-1776979800@sonestastmaarten.com
SUMMARY:Sonesta Kids Crew
DESCRIPTION:The Sonesta Kids Crew welcomes children ages 3–12 for exciting group activities! Join our energetic Sonesta Kids Crew for scavenger hunts\, dance routines\, resort safaris\, puzzles\, and more.
URL:https://sonestastmaarten.com/event/beach-house-kids-club-3/2026-04-23/
LOCATION:The Beach House
CATEGORIES:Maho Beach Resort
ATTACH;FMTTYPE=image/jpeg:https://sonestastmaarten.com/wp-content/uploads/kids-club-at-maho-beach.jpg
END:VEVENT
BEGIN:VEVENT
DTSTART;TZID=America/Anguilla:20260424T100000
DTEND;TZID=America/Anguilla:20260424T120000
DTSTAMP:20260419T155554
CREATED:20250819T163813Z
LAST-MODIFIED:20260210T152229Z
UID:100115325-1777024800-1777032000@sonestastmaarten.com
SUMMARY:Sonesta Kids Crew
DESCRIPTION:The Sonesta Kids Crew welcomes children ages 3–12 for exciting group activities! Join our energetic Sonesta Kids Crew for scavenger hunts\, dance routines\, resort safaris\, puzzles\, and more.
URL:https://sonestastmaarten.com/event/beach-house-kids-club/2026-04-24/
LOCATION:The Beach House
CATEGORIES:Maho Beach Resort
ATTACH;FMTTYPE=image/jpeg:https://sonestastmaarten.com/wp-content/uploads/kids-club-at-maho-beach.jpg
END:VEVENT
BEGIN:VEVENT
DTSTART;TZID=America/Anguilla:20260424T130000
DTEND;TZID=America/Anguilla:20260424T180000
DTSTAMP:20260419T155554
CREATED:20250819T164419Z
LAST-MODIFIED:20260210T152242Z
UID:100115509-1777035600-1777053600@sonestastmaarten.com
SUMMARY:Sonesta Kids Crew
DESCRIPTION:The Sonesta Kids Crew welcomes children ages 3–12 for exciting group activities! Join our energetic Sonesta Kids Crew for scavenger hunts\, dance routines\, resort safaris\, puzzles\, and more.
URL:https://sonestastmaarten.com/event/beach-house-kids-club-2/2026-04-24/
LOCATION:The Beach House
CATEGORIES:Maho Beach Resort
ATTACH;FMTTYPE=image/jpeg:https://sonestastmaarten.com/wp-content/uploads/kids-club-at-maho-beach.jpg
END:VEVENT
BEGIN:VEVENT
DTSTART;TZID=America/Anguilla:20260424T190000
DTEND;TZID=America/Anguilla:20260424T213000
DTSTAMP:20260419T155554
CREATED:20250819T164742Z
LAST-MODIFIED:20260210T152258Z
UID:100115551-1777057200-1777066200@sonestastmaarten.com
SUMMARY:Sonesta Kids Crew
DESCRIPTION:The Sonesta Kids Crew welcomes children ages 3–12 for exciting group activities! Join our energetic Sonesta Kids Crew for scavenger hunts\, dance routines\, resort safaris\, puzzles\, and more.
URL:https://sonestastmaarten.com/event/beach-house-kids-club-3/2026-04-24/
LOCATION:The Beach House
CATEGORIES:Maho Beach Resort
ATTACH;FMTTYPE=image/jpeg:https://sonestastmaarten.com/wp-content/uploads/kids-club-at-maho-beach.jpg
END:VEVENT
BEGIN:VEVENT
DTSTART;TZID=America/Anguilla:20260425T100000
DTEND;TZID=America/Anguilla:20260425T120000
DTSTAMP:20260419T155554
CREATED:20250819T163813Z
LAST-MODIFIED:20260210T152229Z
UID:100115326-1777111200-1777118400@sonestastmaarten.com
SUMMARY:Sonesta Kids Crew
DESCRIPTION:The Sonesta Kids Crew welcomes children ages 3–12 for exciting group activities! Join our energetic Sonesta Kids Crew for scavenger hunts\, dance routines\, resort safaris\, puzzles\, and more.
URL:https://sonestastmaarten.com/event/beach-house-kids-club/2026-04-25/
LOCATION:The Beach House
CATEGORIES:Maho Beach Resort
ATTACH;FMTTYPE=image/jpeg:https://sonestastmaarten.com/wp-content/uploads/kids-club-at-maho-beach.jpg
END:VEVENT
BEGIN:VEVENT
DTSTART;TZID=America/Anguilla:20260425T130000
DTEND;TZID=America/Anguilla:20260425T180000
DTSTAMP:20260419T155554
CREATED:20250819T164419Z
LAST-MODIFIED:20260210T152242Z
UID:100115510-1777122000-1777140000@sonestastmaarten.com
SUMMARY:Sonesta Kids Crew
DESCRIPTION:The Sonesta Kids Crew welcomes children ages 3–12 for exciting group activities! Join our energetic Sonesta Kids Crew for scavenger hunts\, dance routines\, resort safaris\, puzzles\, and more.
URL:https://sonestastmaarten.com/event/beach-house-kids-club-2/2026-04-25/
LOCATION:The Beach House
CATEGORIES:Maho Beach Resort
ATTACH;FMTTYPE=image/jpeg:https://sonestastmaarten.com/wp-content/uploads/kids-club-at-maho-beach.jpg
END:VEVENT
BEGIN:VEVENT
DTSTART;TZID=America/Anguilla:20260425T190000
DTEND;TZID=America/Anguilla:20260425T220000
DTSTAMP:20260419T155554
CREATED:20250819T165745Z
LAST-MODIFIED:20260210T152343Z
UID:100118067-1777143600-1777154400@sonestastmaarten.com
SUMMARY:Sonesta Kids Crew
DESCRIPTION:The Sonesta Kids Crew welcomes children ages 3–12 for exciting group activities! Join our energetic Sonesta Kids Crew for scavenger hunts\, dance routines\, resort safaris\, puzzles\, and more.
URL:https://sonestastmaarten.com/event/beach-house-kids-club-6/2026-04-25/
LOCATION:The Beach House
CATEGORIES:Maho Beach Resort
ATTACH;FMTTYPE=image/jpeg:https://sonestastmaarten.com/wp-content/uploads/2022/07/beach-house.jpg
END:VEVENT
BEGIN:VEVENT
DTSTART;TZID=America/Anguilla:20260426T100000
DTEND;TZID=America/Anguilla:20260426T120000
DTSTAMP:20260419T155554
CREATED:20250819T163813Z
LAST-MODIFIED:20260210T152229Z
UID:100115755-1777197600-1777204800@sonestastmaarten.com
SUMMARY:Sonesta Kids Crew
DESCRIPTION:The Sonesta Kids Crew welcomes children ages 3–12 for exciting group activities! Join our energetic Sonesta Kids Crew for scavenger hunts\, dance routines\, resort safaris\, puzzles\, and more.
URL:https://sonestastmaarten.com/event/beach-house-kids-club/2026-04-26/
LOCATION:The Beach House
CATEGORIES:Maho Beach Resort
ATTACH;FMTTYPE=image/jpeg:https://sonestastmaarten.com/wp-content/uploads/kids-club-at-maho-beach.jpg
END:VEVENT
BEGIN:VEVENT
DTSTART;TZID=America/Anguilla:20260426T130000
DTEND;TZID=America/Anguilla:20260426T180000
DTSTAMP:20260419T155554
CREATED:20250819T164419Z
LAST-MODIFIED:20260210T152242Z
UID:100115511-1777208400-1777226400@sonestastmaarten.com
SUMMARY:Sonesta Kids Crew
DESCRIPTION:The Sonesta Kids Crew welcomes children ages 3–12 for exciting group activities! Join our energetic Sonesta Kids Crew for scavenger hunts\, dance routines\, resort safaris\, puzzles\, and more.
URL:https://sonestastmaarten.com/event/beach-house-kids-club-2/2026-04-26/
LOCATION:The Beach House
CATEGORIES:Maho Beach Resort
ATTACH;FMTTYPE=image/jpeg:https://sonestastmaarten.com/wp-content/uploads/kids-club-at-maho-beach.jpg
END:VEVENT
BEGIN:VEVENT
DTSTART;TZID=America/Anguilla:20260427T100000
DTEND;TZID=America/Anguilla:20260427T120000
DTSTAMP:20260419T155554
CREATED:20250819T163813Z
LAST-MODIFIED:20260210T152229Z
UID:100115756-1777284000-1777291200@sonestastmaarten.com
SUMMARY:Sonesta Kids Crew
DESCRIPTION:The Sonesta Kids Crew welcomes children ages 3–12 for exciting group activities! Join our energetic Sonesta Kids Crew for scavenger hunts\, dance routines\, resort safaris\, puzzles\, and more.
URL:https://sonestastmaarten.com/event/beach-house-kids-club/2026-04-27/
LOCATION:The Beach House
CATEGORIES:Maho Beach Resort
ATTACH;FMTTYPE=image/jpeg:https://sonestastmaarten.com/wp-content/uploads/kids-club-at-maho-beach.jpg
END:VEVENT
BEGIN:VEVENT
DTSTART;TZID=America/Anguilla:20260427T130000
DTEND;TZID=America/Anguilla:20260427T180000
DTSTAMP:20260419T155554
CREATED:20250819T164419Z
LAST-MODIFIED:20260210T152242Z
UID:100115811-1777294800-1777312800@sonestastmaarten.com
SUMMARY:Sonesta Kids Crew
DESCRIPTION:The Sonesta Kids Crew welcomes children ages 3–12 for exciting group activities! Join our energetic Sonesta Kids Crew for scavenger hunts\, dance routines\, resort safaris\, puzzles\, and more.
URL:https://sonestastmaarten.com/event/beach-house-kids-club-2/2026-04-27/
LOCATION:The Beach House
CATEGORIES:Maho Beach Resort
ATTACH;FMTTYPE=image/jpeg:https://sonestastmaarten.com/wp-content/uploads/kids-club-at-maho-beach.jpg
END:VEVENT
BEGIN:VEVENT
DTSTART;TZID=America/Anguilla:20260427T190000
DTEND;TZID=America/Anguilla:20260427T213000
DTSTAMP:20260419T155554
CREATED:20250819T164742Z
LAST-MODIFIED:20260210T152258Z
UID:100115552-1777316400-1777325400@sonestastmaarten.com
SUMMARY:Sonesta Kids Crew
DESCRIPTION:The Sonesta Kids Crew welcomes children ages 3–12 for exciting group activities! Join our energetic Sonesta Kids Crew for scavenger hunts\, dance routines\, resort safaris\, puzzles\, and more.
URL:https://sonestastmaarten.com/event/beach-house-kids-club-3/2026-04-27/
LOCATION:The Beach House
CATEGORIES:Maho Beach Resort
ATTACH;FMTTYPE=image/jpeg:https://sonestastmaarten.com/wp-content/uploads/kids-club-at-maho-beach.jpg
END:VEVENT
BEGIN:VEVENT
DTSTART;TZID=America/Anguilla:20260428T100000
DTEND;TZID=America/Anguilla:20260428T120000
DTSTAMP:20260419T155554
CREATED:20250819T163813Z
LAST-MODIFIED:20260210T152229Z
UID:100115757-1777370400-1777377600@sonestastmaarten.com
SUMMARY:Sonesta Kids Crew
DESCRIPTION:The Sonesta Kids Crew welcomes children ages 3–12 for exciting group activities! Join our energetic Sonesta Kids Crew for scavenger hunts\, dance routines\, resort safaris\, puzzles\, and more.
URL:https://sonestastmaarten.com/event/beach-house-kids-club/2026-04-28/
LOCATION:The Beach House
CATEGORIES:Maho Beach Resort
ATTACH;FMTTYPE=image/jpeg:https://sonestastmaarten.com/wp-content/uploads/kids-club-at-maho-beach.jpg
END:VEVENT
BEGIN:VEVENT
DTSTART;TZID=America/Anguilla:20260428T130000
DTEND;TZID=America/Anguilla:20260428T180000
DTSTAMP:20260419T155554
CREATED:20250819T164419Z
LAST-MODIFIED:20260210T152242Z
UID:100115812-1777381200-1777399200@sonestastmaarten.com
SUMMARY:Sonesta Kids Crew
DESCRIPTION:The Sonesta Kids Crew welcomes children ages 3–12 for exciting group activities! Join our energetic Sonesta Kids Crew for scavenger hunts\, dance routines\, resort safaris\, puzzles\, and more.
URL:https://sonestastmaarten.com/event/beach-house-kids-club-2/2026-04-28/
LOCATION:The Beach House
CATEGORIES:Maho Beach Resort
ATTACH;FMTTYPE=image/jpeg:https://sonestastmaarten.com/wp-content/uploads/kids-club-at-maho-beach.jpg
END:VEVENT
BEGIN:VEVENT
DTSTART;TZID=America/Anguilla:20260428T190000
DTEND;TZID=America/Anguilla:20260428T213000
DTSTAMP:20260419T155554
CREATED:20250819T164742Z
LAST-MODIFIED:20260210T152258Z
UID:100115553-1777402800-1777411800@sonestastmaarten.com
SUMMARY:Sonesta Kids Crew
DESCRIPTION:The Sonesta Kids Crew welcomes children ages 3–12 for exciting group activities! Join our energetic Sonesta Kids Crew for scavenger hunts\, dance routines\, resort safaris\, puzzles\, and more.
URL:https://sonestastmaarten.com/event/beach-house-kids-club-3/2026-04-28/
LOCATION:The Beach House
CATEGORIES:Maho Beach Resort
ATTACH;FMTTYPE=image/jpeg:https://sonestastmaarten.com/wp-content/uploads/kids-club-at-maho-beach.jpg
END:VEVENT
BEGIN:VEVENT
DTSTART;TZID=America/Anguilla:20260429T100000
DTEND;TZID=America/Anguilla:20260429T120000
DTSTAMP:20260419T155554
CREATED:20250819T163813Z
LAST-MODIFIED:20260210T152229Z
UID:100115758-1777456800-1777464000@sonestastmaarten.com
SUMMARY:Sonesta Kids Crew
DESCRIPTION:The Sonesta Kids Crew welcomes children ages 3–12 for exciting group activities! Join our energetic Sonesta Kids Crew for scavenger hunts\, dance routines\, resort safaris\, puzzles\, and more.
URL:https://sonestastmaarten.com/event/beach-house-kids-club/2026-04-29/
LOCATION:The Beach House
CATEGORIES:Maho Beach Resort
ATTACH;FMTTYPE=image/jpeg:https://sonestastmaarten.com/wp-content/uploads/kids-club-at-maho-beach.jpg
END:VEVENT
BEGIN:VEVENT
DTSTART;TZID=America/Anguilla:20260429T130000
DTEND;TZID=America/Anguilla:20260429T150000
DTSTAMP:20260419T155554
CREATED:20250819T165134Z
LAST-MODIFIED:20260210T152314Z
UID:100116844-1777467600-1777474800@sonestastmaarten.com
SUMMARY:Sonesta Kids Crew
DESCRIPTION:The Sonesta Kids Crew welcomes children ages 3–12 for exciting group activities! Join our energetic Sonesta Kids Crew for scavenger hunts\, dance routines\, resort safaris\, puzzles\, and more.
URL:https://sonestastmaarten.com/event/beach-house-kids-club-4/2026-04-29/
LOCATION:The Beach House
CATEGORIES:Maho Beach Resort
ATTACH;FMTTYPE=image/jpeg:https://sonestastmaarten.com/wp-content/uploads/kids-club-at-maho-beach.jpg
END:VEVENT
BEGIN:VEVENT
DTSTART;TZID=America/Anguilla:20260429T161500
DTEND;TZID=America/Anguilla:20260429T180000
DTSTAMP:20260419T155554
CREATED:20250819T165328Z
LAST-MODIFIED:20260210T152329Z
UID:100116861-1777479300-1777485600@sonestastmaarten.com
SUMMARY:Sonesta Kids Crew
DESCRIPTION:The Sonesta Kids Crew welcomes children ages 3–12 for exciting group activities! Join our energetic Sonesta Kids Crew for scavenger hunts\, dance routines\, resort safaris\, puzzles\, and more.
URL:https://sonestastmaarten.com/event/beach-house-kids-club-5/2026-04-29/
LOCATION:The Beach House
CATEGORIES:Maho Beach Resort
ATTACH;FMTTYPE=image/jpeg:https://sonestastmaarten.com/wp-content/uploads/kids-club-at-maho-beach.jpg
END:VEVENT
END:VCALENDAR