BEGIN:VCALENDAR
VERSION:2.0
PRODID:-//Sonesta Resorts Sint Maarten - ECPv6.15.17.1//NONSGML v1.0//EN
CALSCALE:GREGORIAN
METHOD:PUBLISH
X-WR-CALNAME:Sonesta Resorts Sint Maarten
X-ORIGINAL-URL:https://sonestastmaarten.com
X-WR-CALDESC:Events for Sonesta Resorts Sint Maarten
REFRESH-INTERVAL;VALUE=DURATION:PT1H
X-Robots-Tag:noindex
X-PUBLISHED-TTL:PT1H
BEGIN:VTIMEZONE
TZID:America/Anguilla
BEGIN:STANDARD
TZOFFSETFROM:-0400
TZOFFSETTO:-0400
TZNAME:AST
DTSTART:20250101T000000
END:STANDARD
END:VTIMEZONE
BEGIN:VEVENT
DTSTART;TZID=America/Anguilla:20260421T200000
DTEND;TZID=America/Anguilla:20260421T230000
DTSTAMP:20260419T085139
CREATED:20250820T114134Z
LAST-MODIFIED:20260209T170242Z
UID:100115868-1776801600-1776812400@sonestastmaarten.com
SUMMARY:Karaoke Night with Ebony
DESCRIPTION:It’s your turn to be the singing sensation you always knew you could be! Join us at the Latitude Bar and sing your heart out with your host!
URL:https://sonestastmaarten.com/event/karaoke-night-ebony-2/2026-04-21/
LOCATION:The Latitude Lobby Bar\, Maho Beach Lobby
CATEGORIES:Maho Beach Resort,Ocean Point Resort
ATTACH;FMTTYPE=image/png:https://sonestastmaarten.com/wp-content/uploads/Karaoke-Night.png
END:VEVENT
BEGIN:VEVENT
DTSTART;TZID=America/Anguilla:20260422T223000
DTEND;TZID=America/Anguilla:20260423T003000
DTSTAMP:20260419T085139
CREATED:20250820T100618Z
LAST-MODIFIED:20251115T164321Z
UID:100116879-1776897000-1776904200@sonestastmaarten.com
SUMMARY:Karaoke Night with Ebony
DESCRIPTION:It’s your turn to be the singing sensation you always knew you could be! Join us at the Latitude Bar and sing your heart out with your host!
URL:https://sonestastmaarten.com/event/karaoke-night-ebony/2026-04-22/
LOCATION:The Village Tavern\, Sint Maarten
CATEGORIES:Maho Beach Resort,Ocean Point Resort
ATTACH;FMTTYPE=image/jpeg:https://sonestastmaarten.com/wp-content/uploads/Karaoke-lifestyle-Scpl-Stk.jpg
END:VEVENT
BEGIN:VEVENT
DTSTART;TZID=America/Anguilla:20260424T223000
DTEND;TZID=America/Anguilla:20260425T003000
DTSTAMP:20260419T085139
CREATED:20250820T162808Z
LAST-MODIFIED:20260313T155853Z
UID:100117938-1777069800-1777077000@sonestastmaarten.com
SUMMARY:Karaoke Night with Ebony
DESCRIPTION:It’s your turn to be the singing sensation you always knew you could be! Join us at the Village Tavern and sing your heart out with your host!
URL:https://sonestastmaarten.com/event/karaoke-night-with-ebony/2026-04-24/
LOCATION:The Village Tavern\, Sint Maarten
CATEGORIES:Maho Beach Resort,Ocean Point Resort
ATTACH;FMTTYPE=image/jpeg:https://sonestastmaarten.com/wp-content/uploads/Karaoke-lifestyle-Scpl-Stk.jpg
END:VEVENT
BEGIN:VEVENT
DTSTART;TZID=America/Anguilla:20260428T200000
DTEND;TZID=America/Anguilla:20260428T230000
DTSTAMP:20260419T085139
CREATED:20250820T114134Z
LAST-MODIFIED:20260209T170242Z
UID:100115869-1777406400-1777417200@sonestastmaarten.com
SUMMARY:Karaoke Night with Ebony
DESCRIPTION:It’s your turn to be the singing sensation you always knew you could be! Join us at the Latitude Bar and sing your heart out with your host!
URL:https://sonestastmaarten.com/event/karaoke-night-ebony-2/2026-04-28/
LOCATION:The Latitude Lobby Bar\, Maho Beach Lobby
CATEGORIES:Maho Beach Resort,Ocean Point Resort
ATTACH;FMTTYPE=image/png:https://sonestastmaarten.com/wp-content/uploads/Karaoke-Night.png
END:VEVENT
BEGIN:VEVENT
DTSTART;TZID=America/Anguilla:20260429T223000
DTEND;TZID=America/Anguilla:20260430T003000
DTSTAMP:20260419T085139
CREATED:20250820T100618Z
LAST-MODIFIED:20251115T164321Z
UID:100116880-1777501800-1777509000@sonestastmaarten.com
SUMMARY:Karaoke Night with Ebony
DESCRIPTION:It’s your turn to be the singing sensation you always knew you could be! Join us at the Latitude Bar and sing your heart out with your host!
URL:https://sonestastmaarten.com/event/karaoke-night-ebony/2026-04-29/
LOCATION:The Village Tavern\, Sint Maarten
CATEGORIES:Maho Beach Resort,Ocean Point Resort
ATTACH;FMTTYPE=image/jpeg:https://sonestastmaarten.com/wp-content/uploads/Karaoke-lifestyle-Scpl-Stk.jpg
END:VEVENT
BEGIN:VEVENT
DTSTART;TZID=America/Anguilla:20260501T223000
DTEND;TZID=America/Anguilla:20260502T003000
DTSTAMP:20260419T085139
CREATED:20250820T162808Z
LAST-MODIFIED:20260313T155853Z
UID:100117939-1777674600-1777681800@sonestastmaarten.com
SUMMARY:Karaoke Night with Ebony
DESCRIPTION:It’s your turn to be the singing sensation you always knew you could be! Join us at the Village Tavern and sing your heart out with your host!
URL:https://sonestastmaarten.com/event/karaoke-night-with-ebony/2026-05-01/
LOCATION:The Village Tavern\, Sint Maarten
CATEGORIES:Maho Beach Resort,Ocean Point Resort
ATTACH;FMTTYPE=image/jpeg:https://sonestastmaarten.com/wp-content/uploads/Karaoke-lifestyle-Scpl-Stk.jpg
END:VEVENT
BEGIN:VEVENT
DTSTART;TZID=America/Anguilla:20260508T223000
DTEND;TZID=America/Anguilla:20260509T003000
DTSTAMP:20260419T085139
CREATED:20250820T162808Z
LAST-MODIFIED:20260313T155853Z
UID:100117940-1778279400-1778286600@sonestastmaarten.com
SUMMARY:Karaoke Night with Ebony
DESCRIPTION:It’s your turn to be the singing sensation you always knew you could be! Join us at the Village Tavern and sing your heart out with your host!
URL:https://sonestastmaarten.com/event/karaoke-night-with-ebony/2026-05-08/
LOCATION:The Village Tavern\, Sint Maarten
CATEGORIES:Maho Beach Resort,Ocean Point Resort
ATTACH;FMTTYPE=image/jpeg:https://sonestastmaarten.com/wp-content/uploads/Karaoke-lifestyle-Scpl-Stk.jpg
END:VEVENT
END:VCALENDAR