BEGIN:VCALENDAR
VERSION:2.0
PRODID:-//Sonesta Resorts Sint Maarten - ECPv6.15.17.1//NONSGML v1.0//EN
CALSCALE:GREGORIAN
METHOD:PUBLISH
X-WR-CALNAME:Sonesta Resorts Sint Maarten
X-ORIGINAL-URL:https://sonestastmaarten.com
X-WR-CALDESC:Events for Sonesta Resorts Sint Maarten
REFRESH-INTERVAL;VALUE=DURATION:PT1H
X-Robots-Tag:noindex
X-PUBLISHED-TTL:PT1H
BEGIN:VTIMEZONE
TZID:America/Anguilla
BEGIN:STANDARD
TZOFFSETFROM:-0400
TZOFFSETTO:-0400
TZNAME:AST
DTSTART:20240101T000000
END:STANDARD
END:VTIMEZONE
BEGIN:VEVENT
DTSTART;TZID=America/Anguilla:20251124T190000
DTEND;TZID=America/Anguilla:20251124T213000
DTSTAMP:20260422T190737
CREATED:20250819T164742Z
LAST-MODIFIED:20260210T152258Z
UID:100102535-1764010800-1764019800@sonestastmaarten.com
SUMMARY:Sonesta Kids Crew
DESCRIPTION:The Sonesta Kids Crew welcomes children ages 3–12 for exciting group activities! Join our energetic Sonesta Kids Crew for scavenger hunts\, dance routines\, resort safaris\, puzzles\, and more.
URL:https://sonestastmaarten.com/event/beach-house-kids-club-3/2025-11-24/
LOCATION:The Beach House
CATEGORIES:Maho Beach Resort
ATTACH;FMTTYPE=image/jpeg:https://sonestastmaarten.com/wp-content/uploads/kids-club-at-maho-beach.jpg
END:VEVENT
BEGIN:VEVENT
DTSTART;TZID=America/Anguilla:20251124T180000
DTEND;TZID=America/Anguilla:20251125T010000
DTSTAMP:20260422T190737
CREATED:20251110T174757Z
LAST-MODIFIED:20260205T195025Z
UID:100100048-1764007200-1764032400@sonestastmaarten.com
SUMMARY:The Village Tavern Bar
DESCRIPTION:Enjoy live entertainment and sports on big screens at our bar located upstairs in Maho Village. Late-night pub fare served from 10:00 PM – 12:30 AM.
URL:https://sonestastmaarten.com/event/the-village-tavern-bar/2025-11-24/
LOCATION:The Village Tavern\, Sint Maarten
CATEGORIES:MB Dining Hours
ATTACH;FMTTYPE=image/png:https://sonestastmaarten.com/wp-content/uploads/village_tavern.png
END:VEVENT
BEGIN:VEVENT
DTSTART;TZID=America/Anguilla:20251124T180000
DTEND;TZID=America/Anguilla:20251124T220000
DTSTAMP:20260422T190737
CREATED:20251121T180829Z
LAST-MODIFIED:20251121T180829Z
UID:100100382-1764007200-1764021600@sonestastmaarten.com
SUMMARY:La Fontana Restaurant
DESCRIPTION:Waterfront Italian restaurant on Via Maho featuring authentic specialties including homemade pasta\, carpaccio\, seafood dishes\, and Parmesan chicken.
URL:https://sonestastmaarten.com/event/la-fontana-2/2025-11-24/
LOCATION:La Fontana Restaurant
CATEGORIES:MB Dining Hours
ATTACH;FMTTYPE=image/png:https://sonestastmaarten.com/wp-content/uploads/la-fontana.png
END:VEVENT
BEGIN:VEVENT
DTSTART;TZID=America/Anguilla:20251124T180000
DTEND;TZID=America/Anguilla:20251124T220000
DTSTAMP:20260422T190737
CREATED:20251112T205237Z
LAST-MODIFIED:20260205T194605Z
UID:100101096-1764007200-1764021600@sonestastmaarten.com
SUMMARY:Ocean Terrace (European Theme Dinner)
DESCRIPTION:Buffet dinner with tonight’s culinary theme European!
URL:https://sonestastmaarten.com/event/ocean-terrace-european-theme-dinner/2025-11-24/
LOCATION:Ocean Terrace
CATEGORIES:MB Dining Hours
ATTACH;FMTTYPE=image/png:https://sonestastmaarten.com/wp-content/uploads/ocean-terrace.png
END:VEVENT
BEGIN:VEVENT
DTSTART;TZID=America/Anguilla:20251124T180000
DTEND;TZID=America/Anguilla:20251124T220000
DTSTAMP:20260422T190737
CREATED:20250928T164103Z
LAST-MODIFIED:20251226T183655Z
UID:100103958-1764007200-1764021600@sonestastmaarten.com
SUMMARY:Portofino Bar
DESCRIPTION:
URL:https://sonestastmaarten.com/event/portofino-bar/2025-11-24/
LOCATION:Portofino Restaurant
CATEGORIES:OP Dining Hours
ATTACH;FMTTYPE=image/png:https://sonestastmaarten.com/wp-content/uploads/portofino-restaurant.png
END:VEVENT
BEGIN:VEVENT
DTSTART;TZID=America/Anguilla:20251124T180000
DTEND;TZID=America/Anguilla:20251124T220000
DTSTAMP:20260422T190737
CREATED:20250927T083820Z
LAST-MODIFIED:20260103T161041Z
UID:100101023-1764007200-1764021600@sonestastmaarten.com
SUMMARY:Portofino Restaurant
DESCRIPTION:Intimate al fresco dining overlooking Maho Bay with a modern take on classic Northern Italian cuisine. This romantic venue offers an à la carte five-course dinner menu in an elegant Caribbean setting.
URL:https://sonestastmaarten.com/event/portofino-restaurant/2025-11-24/
LOCATION:Portofino Restaurant
CATEGORIES:OP Dining Hours
ATTACH;FMTTYPE=image/png:https://sonestastmaarten.com/wp-content/uploads/portofino-restaurant.png
END:VEVENT
BEGIN:VEVENT
DTSTART;TZID=America/Anguilla:20251124T180000
DTEND;TZID=America/Anguilla:20251124T220000
DTSTAMP:20260422T190737
CREATED:20250927T083411Z
LAST-MODIFIED:20260103T161507Z
UID:100100760-1764007200-1764021600@sonestastmaarten.com
SUMMARY:Jing's Kitchen
DESCRIPTION:Asian fare restaurant upstairs in Maho Village with hand-painted murals in a contemporary chic setting.
URL:https://sonestastmaarten.com/event/jings-kitchen/2025-11-24/
LOCATION:Jing’s Kitchen
CATEGORIES:MB Dining Hours
ATTACH;FMTTYPE=image/png:https://sonestastmaarten.com/wp-content/uploads/jings.png
END:VEVENT
BEGIN:VEVENT
DTSTART;TZID=America/Anguilla:20251124T180000
DTEND;TZID=America/Anguilla:20251124T220000
DTSTAMP:20260422T190737
CREATED:20250927T082806Z
LAST-MODIFIED:20251117T092030Z
UID:100100379-1764007200-1764021600@sonestastmaarten.com
SUMMARY:La Fontana Restaurant
DESCRIPTION:Waterfront Italian restaurant on Via Maho featuring authentic specialties including homemade pasta\, carpaccio\, seafood dishes\, and Parmesan chicken.
URL:https://sonestastmaarten.com/event/la-fontana/2025-11-24/
LOCATION:La Fontana Restaurant
CATEGORIES:MB Dining Hours
ATTACH;FMTTYPE=image/png:https://sonestastmaarten.com/wp-content/uploads/la-fontana.png
END:VEVENT
BEGIN:VEVENT
DTSTART;TZID=America/Anguilla:20251124T180000
DTEND;TZID=America/Anguilla:20251124T220000
DTSTAMP:20260422T190737
CREATED:20250927T081852Z
LAST-MODIFIED:20251219T181018Z
UID:100099376-1764007200-1764021600@sonestastmaarten.com
SUMMARY:Azul Restaurant
DESCRIPTION:Fine dining experience with a daily changing five-course menu featuring Mediterranean-inspired cuisine including appetizer\, salad\, soup\, entrée\, and dessert with seasonal ingredients.
URL:https://sonestastmaarten.com/event/azul-restaurant-3/2025-11-24/
LOCATION:The Azul Restaurant
CATEGORIES:OP Dining Hours
ATTACH;FMTTYPE=image/png:https://sonestastmaarten.com/wp-content/uploads/azul-restaurant.png
END:VEVENT
BEGIN:VEVENT
DTSTART;TZID=America/Anguilla:20251124T173000
DTEND;TZID=America/Anguilla:20251125T050000
DTSTAMP:20260422T190737
CREATED:20251112T151547Z
LAST-MODIFIED:20251125T173234Z
UID:100100686-1764005400-1764046800@sonestastmaarten.com
SUMMARY:Ultimate Club Floors Room Service
DESCRIPTION:Room Service for late night cravings. Savor a curated menu and enjoy meals in the comfort of your room.
URL:https://sonestastmaarten.com/event/ultimate-club-floors-room-service/2025-11-24/
LOCATION:Room Service
CATEGORIES:Ultimate Dining Hours
END:VEVENT
END:VCALENDAR