BEGIN:VCALENDAR
VERSION:2.0
PRODID:-//Sonesta Resorts Sint Maarten - ECPv6.15.17.1//NONSGML v1.0//EN
CALSCALE:GREGORIAN
METHOD:PUBLISH
X-WR-CALNAME:Sonesta Resorts Sint Maarten
X-ORIGINAL-URL:https://sonestastmaarten.com
X-WR-CALDESC:Events for Sonesta Resorts Sint Maarten
REFRESH-INTERVAL;VALUE=DURATION:PT1H
X-Robots-Tag:noindex
X-PUBLISHED-TTL:PT1H
BEGIN:VTIMEZONE
TZID:America/Anguilla
BEGIN:STANDARD
TZOFFSETFROM:-0400
TZOFFSETTO:-0400
TZNAME:AST
DTSTART:20260101T000000
END:STANDARD
END:VTIMEZONE
BEGIN:VEVENT
DTSTART;TZID=America/Anguilla:20270327T200000
DTEND;TZID=America/Anguilla:20270327T213000
DTSTAMP:20260422T102157
CREATED:20250820T085606Z
LAST-MODIFIED:20260320T161030Z
UID:100114753-1806177600-1806183000@sonestastmaarten.com
SUMMARY:Family Movie Night
DESCRIPTION:After a fun-filled day under the sun\, it’s time to relax and watch family favorites on the big screen. Grab a seat and enjoy a heartwarming movie perfect for the entire family.
URL:https://sonestastmaarten.com/event/family-movie-night/2027-03-27/
LOCATION:The Beach House
CATEGORIES:Maho Beach Resort
ATTACH;FMTTYPE=image/jpeg:https://sonestastmaarten.com/wp-content/uploads/2022/07/beach-house.jpg
END:VEVENT
BEGIN:VEVENT
DTSTART;VALUE=DATE:20270328
DTEND;VALUE=DATE:20270330
DTSTAMP:20260422T102157
CREATED:20251023T074705Z
LAST-MODIFIED:20260402T143114Z
UID:100116321-1806195600-1806281999@sonestastmaarten.com
SUMMARY:Table Tennis
DESCRIPTION:Serve up some fun with ping pong! All equipment provided for competitive matches or casual rallies.
URL:https://sonestastmaarten.com/event/table-tennis-2/2027-03-28/
LOCATION:Outside Sonesta Kids Crew
CATEGORIES:Maho Beach Resort
ATTACH;FMTTYPE=image/jpeg:https://sonestastmaarten.com/wp-content/uploads/table-tennis.jpg
END:VEVENT
BEGIN:VEVENT
DTSTART;TZID=America/Anguilla:20270328T113000
DTEND;TZID=America/Anguilla:20270328T120000
DTSTAMP:20260422T102157
CREATED:20250825T144954Z
LAST-MODIFIED:20260320T160936Z
UID:100114594-1806233400-1806235200@sonestastmaarten.com
SUMMARY:Trivia Challenge: Fresh Prince & Movie Quotes
DESCRIPTION:Test your knowledge of classic TV and cinema! From the Banks family antics in Bel-Air to iconic movie one-liners\, see how well you know your favorite quotes. Can you name the scene\, episode\, or film?
URL:https://sonestastmaarten.com/event/trivia-challenge-fresh-prince/2027-03-28/
LOCATION:The Oasis Pool
CATEGORIES:Maho Beach Resort
ATTACH;FMTTYPE=image/jpeg:https://sonestastmaarten.com/wp-content/uploads/oasis-pool.jpg
END:VEVENT
BEGIN:VEVENT
DTSTART;TZID=America/Anguilla:20270328T134500
DTEND;TZID=America/Anguilla:20270328T143000
DTSTAMP:20260422T102157
CREATED:20250825T150545Z
LAST-MODIFIED:20260320T160949Z
UID:100114647-1806241500-1806244200@sonestastmaarten.com
SUMMARY:Crazy Game Segment
DESCRIPTION:Join our Hype Team! Every day and enjoy some Fun in the sun in and around the Oasis Pool for your favorite games
URL:https://sonestastmaarten.com/event/name-that-tune-2/2027-03-28/
LOCATION:The Oasis Pool
CATEGORIES:Maho Beach Resort
ATTACH;FMTTYPE=image/jpeg:https://sonestastmaarten.com/wp-content/uploads/oasis-pool.jpg
END:VEVENT
BEGIN:VEVENT
DTSTART;TZID=America/Anguilla:20270328T150000
DTEND;TZID=America/Anguilla:20270328T170000
DTSTAMP:20260422T102157
CREATED:20250820T164236Z
LAST-MODIFIED:20260320T161010Z
UID:100114700-1806246000-1806253200@sonestastmaarten.com
SUMMARY:Poolside Live Music with Magic Singer
DESCRIPTION:Whether relaxing under the sun\, cocktail in hand\, or swimming in our pool\, our live music program featuring talented local musicians will fill your days with eclectic beats.
URL:https://sonestastmaarten.com/event/poolside-live-music-with-magic/2027-03-28/
LOCATION:The Oasis Pool
CATEGORIES:Maho Beach Resort
ATTACH;FMTTYPE=image/jpeg:https://sonestastmaarten.com/wp-content/uploads/entertainment_mb.jpg
END:VEVENT
BEGIN:VEVENT
DTSTART;TZID=America/Anguilla:20270328T210000
DTEND;TZID=America/Anguilla:20270328T230000
DTSTAMP:20260422T102157
CREATED:20250820T164819Z
LAST-MODIFIED:20260320T160906Z
UID:100114541-1806267600-1806274800@sonestastmaarten.com
SUMMARY:Karaoke Night with Ebony
DESCRIPTION:It’s your turn to be the singing sensation you always knew you could be! Join us at the Latitude Bar and sing your heart out with your host!
URL:https://sonestastmaarten.com/event/karaoke-night-with-ebony-2/2027-03-28/
LOCATION:The Latitude Lobby Bar\, Maho Beach Lobby
CATEGORIES:Maho Beach Resort,Ocean Point Resort
ATTACH;FMTTYPE=image/jpeg:https://sonestastmaarten.com/wp-content/uploads/Karaoke-lifestyle-Scpl-Stk.jpg
END:VEVENT
BEGIN:VEVENT
DTSTART;VALUE=DATE:20270329
DTEND;VALUE=DATE:20270331
DTSTAMP:20260422T102157
CREATED:20251023T074705Z
LAST-MODIFIED:20260402T143114Z
UID:100116322-1806282000-1806368399@sonestastmaarten.com
SUMMARY:Table Tennis
DESCRIPTION:Serve up some fun with ping pong! All equipment provided for competitive matches or casual rallies.
URL:https://sonestastmaarten.com/event/table-tennis-2/2027-03-29/
LOCATION:Outside Sonesta Kids Crew
CATEGORIES:Maho Beach Resort
ATTACH;FMTTYPE=image/jpeg:https://sonestastmaarten.com/wp-content/uploads/table-tennis.jpg
END:VEVENT
BEGIN:VEVENT
DTSTART;TZID=America/Anguilla:20270329T113000
DTEND;TZID=America/Anguilla:20270329T120000
DTSTAMP:20260422T102157
CREATED:20250819T123233Z
LAST-MODIFIED:20260420T145618Z
UID:100118891-1806319800-1806321600@sonestastmaarten.com
SUMMARY:Trivia Challenge: Sports & Superhero
DESCRIPTION:Test your knowledge with Sports & Superhero Trivia! From famous athletes to legendary heroes\, see if you have what it takes to claim the trivia crown.
URL:https://sonestastmaarten.com/event/trivia-challenge-sports-superhero/2027-03-29/
LOCATION:The Oasis Pool
CATEGORIES:Maho Beach Resort
ATTACH;FMTTYPE=image/jpeg:https://sonestastmaarten.com/wp-content/uploads/maho-beach-exterior-day.jpg
END:VEVENT
BEGIN:VEVENT
DTSTART;TZID=America/Anguilla:20270329T120000
DTEND;TZID=America/Anguilla:20270329T123000
DTSTAMP:20260422T102157
CREATED:20250825T145800Z
LAST-MODIFIED:20260420T145630Z
UID:100118943-1806321600-1806323400@sonestastmaarten.com
SUMMARY:Flip Cup Contest
DESCRIPTION:Join us for a high-energy Flip Cup Contest! Gather your friends\, test your speed and coordination\, and see who can flip their cup the fastest!
URL:https://sonestastmaarten.com/event/flip-cup-contest/2027-03-29/
LOCATION:The Oasis Pool
CATEGORIES:Maho Beach Resort
ATTACH;FMTTYPE=image/jpeg:https://sonestastmaarten.com/wp-content/uploads/oasis-pool.jpg
END:VEVENT
BEGIN:VEVENT
DTSTART;TZID=America/Anguilla:20270329T134500
DTEND;TZID=America/Anguilla:20270329T141500
DTSTAMP:20260422T102157
CREATED:20250825T153006Z
LAST-MODIFIED:20260420T145642Z
UID:100118995-1806327900-1806329700@sonestastmaarten.com
SUMMARY:Belly Flop Contest
DESCRIPTION:Make a splash and show off your biggest\, boldest belly flops! Compete for laughs\, cheers\, and ultimate bragging rights as judges score on style\, splash\, and crowd reaction.
URL:https://sonestastmaarten.com/event/belly-flop-contest/2027-03-29/
LOCATION:The Oasis Pool
CATEGORIES:Maho Beach Resort
ATTACH;FMTTYPE=image/jpeg:https://sonestastmaarten.com/wp-content/uploads/maho-beach-exterior-day.jpg
END:VEVENT
BEGIN:VEVENT
DTSTART;VALUE=DATE:20270330
DTEND;VALUE=DATE:20270401
DTSTAMP:20260422T102157
CREATED:20251023T074705Z
LAST-MODIFIED:20260402T143114Z
UID:100116323-1806368400-1806454799@sonestastmaarten.com
SUMMARY:Table Tennis
DESCRIPTION:Serve up some fun with ping pong! All equipment provided for competitive matches or casual rallies.
URL:https://sonestastmaarten.com/event/table-tennis-2/2027-03-30/
LOCATION:Outside Sonesta Kids Crew
CATEGORIES:Maho Beach Resort
ATTACH;FMTTYPE=image/jpeg:https://sonestastmaarten.com/wp-content/uploads/table-tennis.jpg
END:VEVENT
BEGIN:VEVENT
DTSTART;TZID=America/Anguilla:20270330T110000
DTEND;TZID=America/Anguilla:20270330T113000
DTSTAMP:20260422T102157
CREATED:20260301T164826Z
LAST-MODIFIED:20260412T155718Z
UID:100116749-1806404400-1806406200@sonestastmaarten.com
SUMMARY:SunFit: Shallow Water Aerobics
DESCRIPTION:A low impact but high intensity water aerobics class where no swimming skills are needed. Improve flexibility\, strength\, and endurance while water resistance cushions joints\, all to motivating music.
URL:https://sonestastmaarten.com/event/sunfit-shallow-water-aerobics-5/2027-03-30/
LOCATION:The Point Pool
CATEGORIES:Ocean Point Resort
ATTACH;FMTTYPE=image/jpeg:https://sonestastmaarten.com/wp-content/uploads/OP_Pool_Point_2024_008.jpg
END:VEVENT
BEGIN:VEVENT
DTSTART;TZID=America/Anguilla:20270330T153000
DTEND;TZID=America/Anguilla:20270330T173000
DTSTAMP:20260422T102157
CREATED:20250927T084345Z
LAST-MODIFIED:20260420T144506Z
UID:100118505-1806420600-1806427800@sonestastmaarten.com
SUMMARY:Point Pool Snacks
DESCRIPTION:Light poolside refreshments served at The Point Pool during late afternoon hours.
URL:https://sonestastmaarten.com/event/point-pool-snacks/2027-03-30/
LOCATION:The Point Pool
CATEGORIES:OP Dining Hours
ATTACH;FMTTYPE=image/png:https://sonestastmaarten.com/wp-content/uploads/one-zero-poolbar.png
END:VEVENT
BEGIN:VEVENT
DTSTART;TZID=America/Anguilla:20270330T173000
DTEND;TZID=America/Anguilla:20270330T230000
DTSTAMP:20260422T102157
CREATED:20250928T163944Z
LAST-MODIFIED:20260420T144629Z
UID:100118659-1806427800-1806447600@sonestastmaarten.com
SUMMARY:Bluefin Bar
DESCRIPTION:Rooftop bar above Azul with front-row sunset views\, serving light bites and libations in an exclusive setting perfect for golden hour.
URL:https://sonestastmaarten.com/event/bluefin-bar-2/2027-03-30/
LOCATION:Bluefin Restaurant
CATEGORIES:OP Dining Hours
ATTACH;FMTTYPE=image/png:https://sonestastmaarten.com/wp-content/uploads/bluefin-logo.png
END:VEVENT
BEGIN:VEVENT
DTSTART;TZID=America/Anguilla:20270330T180000
DTEND;TZID=America/Anguilla:20270330T220000
DTSTAMP:20260422T102157
CREATED:20250927T083633Z
LAST-MODIFIED:20260420T144651Z
UID:100118819-1806429600-1806444000@sonestastmaarten.com
SUMMARY:Bluefin Restaurant
DESCRIPTION:Healthy poke-inspired dining featuring sustainably sourced fish with specialty and build-your-own bowls for a fresh dinner experience.
URL:https://sonestastmaarten.com/event/bluefin-restaurant/2027-03-30/
LOCATION:Bluefin Restaurant
CATEGORIES:OP Dining Hours
ATTACH;FMTTYPE=image/png:https://sonestastmaarten.com/wp-content/uploads/bluefin-logo.png
END:VEVENT
BEGIN:VEVENT
DTSTART;VALUE=DATE:20270331
DTEND;VALUE=DATE:20270402
DTSTAMP:20260422T102157
CREATED:20251023T074705Z
LAST-MODIFIED:20260402T143114Z
UID:100116324-1806454800-1806541199@sonestastmaarten.com
SUMMARY:Table Tennis
DESCRIPTION:Serve up some fun with ping pong! All equipment provided for competitive matches or casual rallies.
URL:https://sonestastmaarten.com/event/table-tennis-2/2027-03-31/
LOCATION:Outside Sonesta Kids Crew
CATEGORIES:Maho Beach Resort
ATTACH;FMTTYPE=image/jpeg:https://sonestastmaarten.com/wp-content/uploads/table-tennis.jpg
END:VEVENT
BEGIN:VEVENT
DTSTART;VALUE=DATE:20270401
DTEND;VALUE=DATE:20270403
DTSTAMP:20260422T102157
CREATED:20251023T074705Z
LAST-MODIFIED:20260402T143114Z
UID:100116325-1806541200-1806627599@sonestastmaarten.com
SUMMARY:Table Tennis
DESCRIPTION:Serve up some fun with ping pong! All equipment provided for competitive matches or casual rallies.
URL:https://sonestastmaarten.com/event/table-tennis-2/2027-04-01/
LOCATION:Outside Sonesta Kids Crew
CATEGORIES:Maho Beach Resort
ATTACH;FMTTYPE=image/jpeg:https://sonestastmaarten.com/wp-content/uploads/table-tennis.jpg
END:VEVENT
BEGIN:VEVENT
DTSTART;TZID=America/Anguilla:20270401T110000
DTEND;TZID=America/Anguilla:20270401T113000
DTSTAMP:20260422T102157
CREATED:20260301T164826Z
LAST-MODIFIED:20260412T155718Z
UID:100117514-1806577200-1806579000@sonestastmaarten.com
SUMMARY:SunFit: Shallow Water Aerobics
DESCRIPTION:A low impact but high intensity water aerobics class where no swimming skills are needed. Improve flexibility\, strength\, and endurance while water resistance cushions joints\, all to motivating music.
URL:https://sonestastmaarten.com/event/sunfit-shallow-water-aerobics-5/2027-04-01/
LOCATION:The Point Pool
CATEGORIES:Ocean Point Resort
ATTACH;FMTTYPE=image/jpeg:https://sonestastmaarten.com/wp-content/uploads/OP_Pool_Point_2024_008.jpg
END:VEVENT
BEGIN:VEVENT
DTSTART;TZID=America/Anguilla:20270401T120000
DTEND;TZID=America/Anguilla:20270401T123000
DTSTAMP:20260422T102157
CREATED:20251219T160844Z
LAST-MODIFIED:20260320T161521Z
UID:100114971-1806580800-1806582600@sonestastmaarten.com
SUMMARY:Name That Tune: 80's & 90's Music
DESCRIPTION:Think you know your 80s and 90s hits? Name That Tune challenges players to recognize iconic songs in seconds—sing along and relive the classics.
URL:https://sonestastmaarten.com/event/name-that-tune-80-2-2/2027-04-01/
LOCATION:The Oasis Pool
CATEGORIES:Maho Beach Resort
ATTACH;FMTTYPE=image/jpeg:https://sonestastmaarten.com/wp-content/uploads/maho-beach-exterior-day.jpg
END:VEVENT
BEGIN:VEVENT
DTSTART;TZID=America/Anguilla:20270401T143000
DTEND;TZID=America/Anguilla:20270401T150000
DTSTAMP:20260422T102157
CREATED:20260201T190212Z
LAST-MODIFIED:20260412T161519Z
UID:100117856-1806589800-1806591600@sonestastmaarten.com
SUMMARY:Throwback Line Dances
DESCRIPTION:A fun\, high-energy dance session featuring classic line dances from past decades. Easy to follow\, crowd-friendly\, and perfect for getting everyone on the dance floor
URL:https://sonestastmaarten.com/event/throwback-line-dances/2027-04-01/
LOCATION:The Oasis Pool
CATEGORIES:Maho Beach Resort
ATTACH;FMTTYPE=image/jpeg:https://sonestastmaarten.com/wp-content/uploads/maho-beach-exterior-day.jpg
END:VEVENT
BEGIN:VEVENT
DTSTART;TZID=America/Anguilla:20270401T153000
DTEND;TZID=America/Anguilla:20270401T173000
DTSTAMP:20260422T102157
CREATED:20250927T084345Z
LAST-MODIFIED:20260420T144506Z
UID:100118506-1806593400-1806600600@sonestastmaarten.com
SUMMARY:Point Pool Snacks
DESCRIPTION:Light poolside refreshments served at The Point Pool during late afternoon hours.
URL:https://sonestastmaarten.com/event/point-pool-snacks/2027-04-01/
LOCATION:The Point Pool
CATEGORIES:OP Dining Hours
ATTACH;FMTTYPE=image/png:https://sonestastmaarten.com/wp-content/uploads/one-zero-poolbar.png
END:VEVENT
BEGIN:VEVENT
DTSTART;TZID=America/Anguilla:20270401T173000
DTEND;TZID=America/Anguilla:20270401T230000
DTSTAMP:20260422T102157
CREATED:20250928T163944Z
LAST-MODIFIED:20260420T144629Z
UID:100118660-1806600600-1806620400@sonestastmaarten.com
SUMMARY:Bluefin Bar
DESCRIPTION:Rooftop bar above Azul with front-row sunset views\, serving light bites and libations in an exclusive setting perfect for golden hour.
URL:https://sonestastmaarten.com/event/bluefin-bar-2/2027-04-01/
LOCATION:Bluefin Restaurant
CATEGORIES:OP Dining Hours
ATTACH;FMTTYPE=image/png:https://sonestastmaarten.com/wp-content/uploads/bluefin-logo.png
END:VEVENT
BEGIN:VEVENT
DTSTART;TZID=America/Anguilla:20270401T180000
DTEND;TZID=America/Anguilla:20270401T220000
DTSTAMP:20260422T102157
CREATED:20250927T083633Z
LAST-MODIFIED:20260420T144651Z
UID:100118820-1806602400-1806616800@sonestastmaarten.com
SUMMARY:Bluefin Restaurant
DESCRIPTION:Healthy poke-inspired dining featuring sustainably sourced fish with specialty and build-your-own bowls for a fresh dinner experience.
URL:https://sonestastmaarten.com/event/bluefin-restaurant/2027-04-01/
LOCATION:Bluefin Restaurant
CATEGORIES:OP Dining Hours
ATTACH;FMTTYPE=image/png:https://sonestastmaarten.com/wp-content/uploads/bluefin-logo.png
END:VEVENT
BEGIN:VEVENT
DTSTART;VALUE=DATE:20270402
DTEND;VALUE=DATE:20270404
DTSTAMP:20260422T102157
CREATED:20251023T074705Z
LAST-MODIFIED:20260402T143114Z
UID:100116326-1806627600-1806713999@sonestastmaarten.com
SUMMARY:Table Tennis
DESCRIPTION:Serve up some fun with ping pong! All equipment provided for competitive matches or casual rallies.
URL:https://sonestastmaarten.com/event/table-tennis-2/2027-04-02/
LOCATION:Outside Sonesta Kids Crew
CATEGORIES:Maho Beach Resort
ATTACH;FMTTYPE=image/jpeg:https://sonestastmaarten.com/wp-content/uploads/table-tennis.jpg
END:VEVENT
BEGIN:VEVENT
DTSTART;TZID=America/Anguilla:20270402T203000
DTEND;TZID=America/Anguilla:20270402T223000
DTSTAMP:20260422T102157
CREATED:20250819T113705Z
LAST-MODIFIED:20260412T161230Z
UID:100117749-1806697800-1806705000@sonestastmaarten.com
SUMMARY:White Hot Dance Party with DJ Spin
DESCRIPTION:Get ready for the ultimate all-white party under the stars! Dress to impress in your best white attire and dance the night away as DJ Spin brings the hottest beats.
URL:https://sonestastmaarten.com/event/dance-party/2027-04-02/
LOCATION:The Piazza at La Fontana
CATEGORIES:Maho Beach Resort,Ocean Point Resort
ATTACH;FMTTYPE=image/png:https://sonestastmaarten.com/wp-content/uploads/White-Hot-Dacne-Party.png
END:VEVENT
BEGIN:VEVENT
DTSTART;VALUE=DATE:20270403
DTEND;VALUE=DATE:20270405
DTSTAMP:20260422T102157
CREATED:20251023T074705Z
LAST-MODIFIED:20260402T143114Z
UID:100116327-1806714000-1806800399@sonestastmaarten.com
SUMMARY:Table Tennis
DESCRIPTION:Serve up some fun with ping pong! All equipment provided for competitive matches or casual rallies.
URL:https://sonestastmaarten.com/event/table-tennis-2/2027-04-03/
LOCATION:Outside Sonesta Kids Crew
CATEGORIES:Maho Beach Resort
ATTACH;FMTTYPE=image/jpeg:https://sonestastmaarten.com/wp-content/uploads/table-tennis.jpg
END:VEVENT
BEGIN:VEVENT
DTSTART;TZID=America/Anguilla:20270403T150000
DTEND;TZID=America/Anguilla:20270403T170000
DTSTAMP:20260422T102157
CREATED:20250820T163603Z
LAST-MODIFIED:20260320T161101Z
UID:100114861-1806764400-1806771600@sonestastmaarten.com
SUMMARY:Poolside Live Music with The Love Connection
DESCRIPTION:Whether relaxing under the sun\, cocktail in hand\, or swimming in our pool\, our live music program featuring talented local musicians will fill your days with eclectic beats.
URL:https://sonestastmaarten.com/event/live-music-with-love-connection/2027-04-03/
LOCATION:The Oasis Pool
CATEGORIES:Maho Beach Resort
ATTACH;FMTTYPE=image/jpeg:https://sonestastmaarten.com/wp-content/uploads/MB_Entertainment_2024_03.jpg
END:VEVENT
BEGIN:VEVENT
DTSTART;TZID=America/Anguilla:20270403T153000
DTEND;TZID=America/Anguilla:20270403T173000
DTSTAMP:20260422T102157
CREATED:20250927T084345Z
LAST-MODIFIED:20260420T144506Z
UID:100118507-1806766200-1806773400@sonestastmaarten.com
SUMMARY:Point Pool Snacks
DESCRIPTION:Light poolside refreshments served at The Point Pool during late afternoon hours.
URL:https://sonestastmaarten.com/event/point-pool-snacks/2027-04-03/
LOCATION:The Point Pool
CATEGORIES:OP Dining Hours
ATTACH;FMTTYPE=image/png:https://sonestastmaarten.com/wp-content/uploads/one-zero-poolbar.png
END:VEVENT
BEGIN:VEVENT
DTSTART;TZID=America/Anguilla:20270403T173000
DTEND;TZID=America/Anguilla:20270403T230000
DTSTAMP:20260422T102157
CREATED:20250928T163944Z
LAST-MODIFIED:20260420T144629Z
UID:100118661-1806773400-1806793200@sonestastmaarten.com
SUMMARY:Bluefin Bar
DESCRIPTION:Rooftop bar above Azul with front-row sunset views\, serving light bites and libations in an exclusive setting perfect for golden hour.
URL:https://sonestastmaarten.com/event/bluefin-bar-2/2027-04-03/
LOCATION:Bluefin Restaurant
CATEGORIES:OP Dining Hours
ATTACH;FMTTYPE=image/png:https://sonestastmaarten.com/wp-content/uploads/bluefin-logo.png
END:VEVENT
BEGIN:VEVENT
DTSTART;TZID=America/Anguilla:20270403T180000
DTEND;TZID=America/Anguilla:20270403T220000
DTSTAMP:20260422T102157
CREATED:20250927T083633Z
LAST-MODIFIED:20260420T144651Z
UID:100118821-1806775200-1806789600@sonestastmaarten.com
SUMMARY:Bluefin Restaurant
DESCRIPTION:Healthy poke-inspired dining featuring sustainably sourced fish with specialty and build-your-own bowls for a fresh dinner experience.
URL:https://sonestastmaarten.com/event/bluefin-restaurant/2027-04-03/
LOCATION:Bluefin Restaurant
CATEGORIES:OP Dining Hours
ATTACH;FMTTYPE=image/png:https://sonestastmaarten.com/wp-content/uploads/bluefin-logo.png
END:VEVENT
END:VCALENDAR