BEGIN:VCALENDAR
VERSION:2.0
PRODID:-//Sonesta Resorts Sint Maarten - ECPv6.15.17.1//NONSGML v1.0//EN
CALSCALE:GREGORIAN
METHOD:PUBLISH
X-WR-CALNAME:Sonesta Resorts Sint Maarten
X-ORIGINAL-URL:https://sonestastmaarten.com
X-WR-CALDESC:Events for Sonesta Resorts Sint Maarten
REFRESH-INTERVAL;VALUE=DURATION:PT1H
X-Robots-Tag:noindex
X-PUBLISHED-TTL:PT1H
BEGIN:VTIMEZONE
TZID:America/Anguilla
BEGIN:STANDARD
TZOFFSETFROM:-0400
TZOFFSETTO:-0400
TZNAME:AST
DTSTART:20260101T000000
END:STANDARD
END:VTIMEZONE
BEGIN:VEVENT
DTSTART;TZID=America/Anguilla:20270210T140000
DTEND;TZID=America/Anguilla:20270210T170000
DTSTAMP:20260422T203651
CREATED:20260103T161306Z
LAST-MODIFIED:20260320T155656Z
UID:100114313-1802268000-1802278800@sonestastmaarten.com
SUMMARY:Bluefin Bar & Light Bites
DESCRIPTION:Enjoy stunning ocean and sunset views from this bar located above Azul Restaurant. Light bites served 2:00 PM – 5:00 PM\, with libations available throughout – your perfect golden hour destination.
URL:https://sonestastmaarten.com/event/bluefin-bar-3/2027-02-10/
LOCATION:Bluefin Restaurant
CATEGORIES:OP Dining Hours
ATTACH;FMTTYPE=image/png:https://sonestastmaarten.com/wp-content/uploads/bluefin-logo.png
END:VEVENT
BEGIN:VEVENT
DTSTART;TZID=America/Anguilla:20270210T140000
DTEND;TZID=America/Anguilla:20270210T180000
DTSTAMP:20260422T203651
CREATED:20251117T093638Z
LAST-MODIFIED:20260205T194202Z
UID:100108422-1802268000-1802282400@sonestastmaarten.com
SUMMARY:Oasis Snack Shack
DESCRIPTION:Freshly cooked burgers and hotdogs served hot and delicious at Oasis Snack Shack
URL:https://sonestastmaarten.com/event/oasis-snack-shack-2/2027-02-10/
LOCATION:The Oasis Pool
CATEGORIES:MB Dining Hours
END:VEVENT
BEGIN:VEVENT
DTSTART;TZID=America/Anguilla:20270210T143000
DTEND;TZID=America/Anguilla:20270210T150000
DTSTAMP:20260422T203651
CREATED:20260212T150254Z
LAST-MODIFIED:20260307T190545Z
UID:100112526-1802269800-1802271600@sonestastmaarten.com
SUMMARY:Soca Dance Class
DESCRIPTION:Join our Hype Team as we teach you move and groove to the Soca music!
URL:https://sonestastmaarten.com/event/soca-dance-class-4-2/2027-02-10/
LOCATION:The Oasis Pool
CATEGORIES:Maho Beach Resort
ATTACH;FMTTYPE=image/jpeg:https://sonestastmaarten.com/wp-content/uploads/oasis-pool.jpg
END:VEVENT
BEGIN:VEVENT
DTSTART;TZID=America/Anguilla:20270210T170000
DTEND;TZID=America/Anguilla:20270211T010000
DTSTAMP:20260422T203651
CREATED:20251110T181642Z
LAST-MODIFIED:20260205T192755Z
UID:100107662-1802278800-1802307600@sonestastmaarten.com
SUMMARY:The Cloud 9 Rooftop Experience
DESCRIPTION:Experience stunning Caribbean views and spectacular sunsets from the world’s best plane-spotting venue. Enjoy premium cocktails\, fine wines\, and spirits. Bar snacks served 5:30 PM – 12:30 AM.
URL:https://sonestastmaarten.com/event/the-cloud-9-rooftop-experience/2027-02-10/
LOCATION:Cloud 9
CATEGORIES:OP Dining Hours,Ultimate Dining Hours
ATTACH;FMTTYPE=image/png:https://sonestastmaarten.com/wp-content/uploads/Cloud9_Logo.png
END:VEVENT
BEGIN:VEVENT
DTSTART;TZID=America/Anguilla:20270210T180000
DTEND;TZID=America/Anguilla:20270210T220000
DTSTAMP:20260422T203651
CREATED:20251226T182801Z
LAST-MODIFIED:20260205T194649Z
UID:100108586-1802282400-1802296800@sonestastmaarten.com
SUMMARY:Ocean Terrace (American Theme)
DESCRIPTION:Buffet dinner with tonight’s culinary theme American!
URL:https://sonestastmaarten.com/event/ocean-terrace-nye-gala-dinner/2027-02-10/
LOCATION:Ocean Terrace
CATEGORIES:MB Dining Hours
ATTACH;FMTTYPE=image/png:https://sonestastmaarten.com/wp-content/uploads/ocean-terrace.png
END:VEVENT
BEGIN:VEVENT
DTSTART;TZID=America/Anguilla:20270210T190000
DTEND;TZID=America/Anguilla:20270210T210000
DTSTAMP:20260422T203651
CREATED:20251226T165940Z
LAST-MODIFIED:20260206T180924Z
UID:100109588-1802286000-1802293200@sonestastmaarten.com
SUMMARY:Live Dinner Music with Jeremie
DESCRIPTION:Experience the magic of live music by the ocean’s edge! Let soothing sounds serenade you while you savor delectable cuisine\, creating unforgettable moments by the sea.
URL:https://sonestastmaarten.com/event/live-dinner-music-with-jeremie-3/2027-02-10/
LOCATION:The Azul Restaurant
CATEGORIES:Ocean Point Resort
ATTACH;FMTTYPE=image/jpeg:https://sonestastmaarten.com/wp-content/uploads/azulrestaurant.jpg
END:VEVENT
BEGIN:VEVENT
DTSTART;TZID=America/Anguilla:20270210T210000
DTEND;TZID=America/Anguilla:20270211T000000
DTSTAMP:20260422T203651
CREATED:20251110T143719Z
LAST-MODIFIED:20260205T192900Z
UID:100107828-1802293200-1802304000@sonestastmaarten.com
SUMMARY:Live Music with Alexia
DESCRIPTION:Experience live music in style at Cloud 9 Ultimate Lounge\, with the best view of the island. Unwind with smooth tunes\, signature cocktails\, and a stunning panoramic backdrop. Whether you’re catching the sunset or enjoying the night breeze\, it’s the perfect setting to relax and vibe to the rhythm of the island.
URL:https://sonestastmaarten.com/event/live-music-at-cloud-9-ultimate-lounge-with-alexia/2027-02-10/
LOCATION:Cloud 9
CATEGORIES:Ocean Point Resort,Ultimate Club
ATTACH;FMTTYPE=image/jpeg:https://sonestastmaarten.com/wp-content/uploads/cloud9.jpg
END:VEVENT
BEGIN:VEVENT
DTSTART;VALUE=DATE:20270211
DTEND;VALUE=DATE:20270213
DTSTAMP:20260422T203651
CREATED:20251023T074705Z
LAST-MODIFIED:20260402T143114Z
UID:100116276-1802307600-1802393999@sonestastmaarten.com
SUMMARY:Table Tennis
DESCRIPTION:Serve up some fun with ping pong! All equipment provided for competitive matches or casual rallies.
URL:https://sonestastmaarten.com/event/table-tennis-2/2027-02-11/
LOCATION:Outside Sonesta Kids Crew
CATEGORIES:Maho Beach Resort
ATTACH;FMTTYPE=image/jpeg:https://sonestastmaarten.com/wp-content/uploads/table-tennis.jpg
END:VEVENT
BEGIN:VEVENT
DTSTART;VALUE=DATE:20270211
DTEND;VALUE=DATE:20270213
DTSTAMP:20260422T203651
CREATED:20251104T162823Z
LAST-MODIFIED:20260205T192738Z
UID:100107289-1802307600-1802393999@sonestastmaarten.com
SUMMARY:24 Hour Room-Service
DESCRIPTION:All-day menu featuring salads\, pizzas\, sandwiches\, burgers\, and entrees including grilled chicken and pan-seared fish available for in-room dining.
URL:https://sonestastmaarten.com/event/24-hour-room-service/2027-02-11/
LOCATION:Room Service
CATEGORIES:OP Dining Hours
END:VEVENT
BEGIN:VEVENT
DTSTART;TZID=America/Anguilla:20270211T110000
DTEND;TZID=America/Anguilla:20270211T113000
DTSTAMP:20260422T203651
CREATED:20260301T164826Z
LAST-MODIFIED:20260412T155718Z
UID:100117507-1802343600-1802345400@sonestastmaarten.com
SUMMARY:SunFit: Shallow Water Aerobics
DESCRIPTION:A low impact but high intensity water aerobics class where no swimming skills are needed. Improve flexibility\, strength\, and endurance while water resistance cushions joints\, all to motivating music.
URL:https://sonestastmaarten.com/event/sunfit-shallow-water-aerobics-5/2027-02-11/
LOCATION:The Point Pool
CATEGORIES:Ocean Point Resort
ATTACH;FMTTYPE=image/jpeg:https://sonestastmaarten.com/wp-content/uploads/OP_Pool_Point_2024_008.jpg
END:VEVENT
BEGIN:VEVENT
DTSTART;TZID=America/Anguilla:20270211T113000
DTEND;TZID=America/Anguilla:20270211T120000
DTSTAMP:20260422T203651
CREATED:20251219T155414Z
LAST-MODIFIED:20260320T161458Z
UID:100114912-1802345400-1802347200@sonestastmaarten.com
SUMMARY:Trivia Challenge: 80's / 90's & 80's / 90's Movie Trivia
DESCRIPTION:A fun and interactive trivia experience featuring iconic movies and music from the 80s and 90s. Test your knowledge\, relive the classics\, and enjoy a nostalgic throwback to two unforgettable decades
URL:https://sonestastmaarten.com/event/name-that-tune-80-3/2027-02-11/
LOCATION:The Oasis Pool
CATEGORIES:Maho Beach Resort
ATTACH;FMTTYPE=image/jpeg:https://sonestastmaarten.com/wp-content/uploads/oasis-pool.jpg
END:VEVENT
BEGIN:VEVENT
DTSTART;TZID=America/Anguilla:20270211T120000
DTEND;TZID=America/Anguilla:20270211T123000
DTSTAMP:20260422T203652
CREATED:20251219T160844Z
LAST-MODIFIED:20260320T161521Z
UID:100114964-1802347200-1802349000@sonestastmaarten.com
SUMMARY:Name That Tune: 80's & 90's Music
DESCRIPTION:Think you know your 80s and 90s hits? Name That Tune challenges players to recognize iconic songs in seconds—sing along and relive the classics.
URL:https://sonestastmaarten.com/event/name-that-tune-80-2-2/2027-02-11/
LOCATION:The Oasis Pool
CATEGORIES:Maho Beach Resort
ATTACH;FMTTYPE=image/jpeg:https://sonestastmaarten.com/wp-content/uploads/maho-beach-exterior-day.jpg
END:VEVENT
BEGIN:VEVENT
DTSTART;TZID=America/Anguilla:20270211T140000
DTEND;TZID=America/Anguilla:20270211T180000
DTSTAMP:20260422T203652
CREATED:20251117T093638Z
LAST-MODIFIED:20260205T194202Z
UID:100108423-1802354400-1802368800@sonestastmaarten.com
SUMMARY:Oasis Snack Shack
DESCRIPTION:Freshly cooked burgers and hotdogs served hot and delicious at Oasis Snack Shack
URL:https://sonestastmaarten.com/event/oasis-snack-shack-2/2027-02-11/
LOCATION:The Oasis Pool
CATEGORIES:MB Dining Hours
END:VEVENT
BEGIN:VEVENT
DTSTART;TZID=America/Anguilla:20270211T143000
DTEND;TZID=America/Anguilla:20270211T150000
DTSTAMP:20260422T203652
CREATED:20260201T190212Z
LAST-MODIFIED:20260412T161519Z
UID:100117849-1802356200-1802358000@sonestastmaarten.com
SUMMARY:Throwback Line Dances
DESCRIPTION:A fun\, high-energy dance session featuring classic line dances from past decades. Easy to follow\, crowd-friendly\, and perfect for getting everyone on the dance floor
URL:https://sonestastmaarten.com/event/throwback-line-dances/2027-02-11/
LOCATION:The Oasis Pool
CATEGORIES:Maho Beach Resort
ATTACH;FMTTYPE=image/jpeg:https://sonestastmaarten.com/wp-content/uploads/maho-beach-exterior-day.jpg
END:VEVENT
BEGIN:VEVENT
DTSTART;TZID=America/Anguilla:20270211T153000
DTEND;TZID=America/Anguilla:20270211T173000
DTSTAMP:20260422T203652
CREATED:20250927T084345Z
LAST-MODIFIED:20260420T144506Z
UID:100118485-1802359800-1802367000@sonestastmaarten.com
SUMMARY:Point Pool Snacks
DESCRIPTION:Light poolside refreshments served at The Point Pool during late afternoon hours.
URL:https://sonestastmaarten.com/event/point-pool-snacks/2027-02-11/
LOCATION:The Point Pool
CATEGORIES:OP Dining Hours
ATTACH;FMTTYPE=image/png:https://sonestastmaarten.com/wp-content/uploads/one-zero-poolbar.png
END:VEVENT
BEGIN:VEVENT
DTSTART;TZID=America/Anguilla:20270211T170000
DTEND;TZID=America/Anguilla:20270212T010000
DTSTAMP:20260422T203652
CREATED:20251110T181642Z
LAST-MODIFIED:20260205T192755Z
UID:100107663-1802365200-1802394000@sonestastmaarten.com
SUMMARY:The Cloud 9 Rooftop Experience
DESCRIPTION:Experience stunning Caribbean views and spectacular sunsets from the world’s best plane-spotting venue. Enjoy premium cocktails\, fine wines\, and spirits. Bar snacks served 5:30 PM – 12:30 AM.
URL:https://sonestastmaarten.com/event/the-cloud-9-rooftop-experience/2027-02-11/
LOCATION:Cloud 9
CATEGORIES:OP Dining Hours,Ultimate Dining Hours
ATTACH;FMTTYPE=image/png:https://sonestastmaarten.com/wp-content/uploads/Cloud9_Logo.png
END:VEVENT
BEGIN:VEVENT
DTSTART;TZID=America/Anguilla:20270211T173000
DTEND;TZID=America/Anguilla:20270211T230000
DTSTAMP:20260422T203652
CREATED:20250928T163944Z
LAST-MODIFIED:20260420T144629Z
UID:100118639-1802367000-1802386800@sonestastmaarten.com
SUMMARY:Bluefin Bar
DESCRIPTION:Rooftop bar above Azul with front-row sunset views\, serving light bites and libations in an exclusive setting perfect for golden hour.
URL:https://sonestastmaarten.com/event/bluefin-bar-2/2027-02-11/
LOCATION:Bluefin Restaurant
CATEGORIES:OP Dining Hours
ATTACH;FMTTYPE=image/png:https://sonestastmaarten.com/wp-content/uploads/bluefin-logo.png
END:VEVENT
BEGIN:VEVENT
DTSTART;TZID=America/Anguilla:20270211T180000
DTEND;TZID=America/Anguilla:20270211T220000
DTSTAMP:20260422T203652
CREATED:20250927T083633Z
LAST-MODIFIED:20260420T144651Z
UID:100118799-1802368800-1802383200@sonestastmaarten.com
SUMMARY:Bluefin Restaurant
DESCRIPTION:Healthy poke-inspired dining featuring sustainably sourced fish with specialty and build-your-own bowls for a fresh dinner experience.
URL:https://sonestastmaarten.com/event/bluefin-restaurant/2027-02-11/
LOCATION:Bluefin Restaurant
CATEGORIES:OP Dining Hours
ATTACH;FMTTYPE=image/png:https://sonestastmaarten.com/wp-content/uploads/bluefin-logo.png
END:VEVENT
BEGIN:VEVENT
DTSTART;TZID=America/Anguilla:20270211T180000
DTEND;TZID=America/Anguilla:20270211T220000
DTSTAMP:20260422T203652
CREATED:20260220T152802Z
LAST-MODIFIED:20260220T152803Z
UID:100111038-1802368800-1802383200@sonestastmaarten.com
SUMMARY:Ocean Terrace (Caribbean Theme Dinner)
DESCRIPTION:Buffet dinner with tonight’s culinary theme Caribbean!
URL:https://sonestastmaarten.com/event/ocean-terrace-caribbean-theme-dinner-2-2/2027-02-11/
LOCATION:Ocean Terrace
CATEGORIES:MB Dining Hours
ATTACH;FMTTYPE=image/png:https://sonestastmaarten.com/wp-content/uploads/ocean-terrace.png
END:VEVENT
BEGIN:VEVENT
DTSTART;VALUE=DATE:20270212
DTEND;VALUE=DATE:20270214
DTSTAMP:20260422T203652
CREATED:20251023T074705Z
LAST-MODIFIED:20260402T143114Z
UID:100116277-1802394000-1802480399@sonestastmaarten.com
SUMMARY:Table Tennis
DESCRIPTION:Serve up some fun with ping pong! All equipment provided for competitive matches or casual rallies.
URL:https://sonestastmaarten.com/event/table-tennis-2/2027-02-12/
LOCATION:Outside Sonesta Kids Crew
CATEGORIES:Maho Beach Resort
ATTACH;FMTTYPE=image/jpeg:https://sonestastmaarten.com/wp-content/uploads/table-tennis.jpg
END:VEVENT
BEGIN:VEVENT
DTSTART;VALUE=DATE:20270212
DTEND;VALUE=DATE:20270214
DTSTAMP:20260422T203652
CREATED:20251104T162823Z
LAST-MODIFIED:20260205T192738Z
UID:100107290-1802394000-1802480399@sonestastmaarten.com
SUMMARY:24 Hour Room-Service
DESCRIPTION:All-day menu featuring salads\, pizzas\, sandwiches\, burgers\, and entrees including grilled chicken and pan-seared fish available for in-room dining.
URL:https://sonestastmaarten.com/event/24-hour-room-service/2027-02-12/
LOCATION:Room Service
CATEGORIES:OP Dining Hours
END:VEVENT
BEGIN:VEVENT
DTSTART;TZID=America/Anguilla:20270212T093000
DTEND;TZID=America/Anguilla:20270212T100000
DTSTAMP:20260422T203652
CREATED:20260103T194019Z
LAST-MODIFIED:20260412T160452Z
UID:100117692-1802424600-1802426400@sonestastmaarten.com
SUMMARY:Kickboxing
DESCRIPTION:Kickboxing is a high-energy workout that combines punches\, kicks\, and cardio to build strength\, speed\, and endurance.
URL:https://sonestastmaarten.com/event/vinyasa-yoga-2/2027-02-12/
LOCATION:The Waterfront Stage\, Sint Maarten
CATEGORIES:Maho Beach Resort,Ocean Point Resort
ATTACH;FMTTYPE=image/jpeg:https://sonestastmaarten.com/wp-content/uploads/2022/07/spa_hotel_11.jpg
END:VEVENT
BEGIN:VEVENT
DTSTART;TZID=America/Anguilla:20270212T120000
DTEND;TZID=America/Anguilla:20270212T123000
DTSTAMP:20260422T203652
CREATED:20251109T194144Z
LAST-MODIFIED:20260213T203215Z
UID:100110403-1802433600-1802435400@sonestastmaarten.com
SUMMARY:Name That Tune: R&B Edition
DESCRIPTION:Get ready to groove and test your music skills in our Name That Tune: R&B Edition! From smooth classics to modern hits\, see how fast you can guess the song or artist. Sing along\, vibe to the rhythm\, and enjoy a soulful time filled with fun and nostalgia!
URL:https://sonestastmaarten.com/event/name-that-tune-rb-edition/2027-02-12/
LOCATION:The Oasis Pool
CATEGORIES:Maho Beach Resort
ATTACH;FMTTYPE=image/jpeg:https://sonestastmaarten.com/wp-content/uploads/maho-beach-exterior-day.jpg
END:VEVENT
BEGIN:VEVENT
DTSTART;TZID=America/Anguilla:20270212T140000
DTEND;TZID=America/Anguilla:20270212T170000
DTSTAMP:20260422T203652
CREATED:20260103T161306Z
LAST-MODIFIED:20260320T155656Z
UID:100114314-1802440800-1802451600@sonestastmaarten.com
SUMMARY:Bluefin Bar & Light Bites
DESCRIPTION:Enjoy stunning ocean and sunset views from this bar located above Azul Restaurant. Light bites served 2:00 PM – 5:00 PM\, with libations available throughout – your perfect golden hour destination.
URL:https://sonestastmaarten.com/event/bluefin-bar-3/2027-02-12/
LOCATION:Bluefin Restaurant
CATEGORIES:OP Dining Hours
ATTACH;FMTTYPE=image/png:https://sonestastmaarten.com/wp-content/uploads/bluefin-logo.png
END:VEVENT
BEGIN:VEVENT
DTSTART;TZID=America/Anguilla:20270212T140000
DTEND;TZID=America/Anguilla:20270212T180000
DTSTAMP:20260422T203652
CREATED:20251117T093638Z
LAST-MODIFIED:20260205T194202Z
UID:100108424-1802440800-1802455200@sonestastmaarten.com
SUMMARY:Oasis Snack Shack
DESCRIPTION:Freshly cooked burgers and hotdogs served hot and delicious at Oasis Snack Shack
URL:https://sonestastmaarten.com/event/oasis-snack-shack-2/2027-02-12/
LOCATION:The Oasis Pool
CATEGORIES:MB Dining Hours
END:VEVENT
BEGIN:VEVENT
DTSTART;TZID=America/Anguilla:20270212T170000
DTEND;TZID=America/Anguilla:20270213T010000
DTSTAMP:20260422T203652
CREATED:20251110T181642Z
LAST-MODIFIED:20260205T192755Z
UID:100107664-1802451600-1802480400@sonestastmaarten.com
SUMMARY:The Cloud 9 Rooftop Experience
DESCRIPTION:Experience stunning Caribbean views and spectacular sunsets from the world’s best plane-spotting venue. Enjoy premium cocktails\, fine wines\, and spirits. Bar snacks served 5:30 PM – 12:30 AM.
URL:https://sonestastmaarten.com/event/the-cloud-9-rooftop-experience/2027-02-12/
LOCATION:Cloud 9
CATEGORIES:OP Dining Hours,Ultimate Dining Hours
ATTACH;FMTTYPE=image/png:https://sonestastmaarten.com/wp-content/uploads/Cloud9_Logo.png
END:VEVENT
BEGIN:VEVENT
DTSTART;TZID=America/Anguilla:20270212T180000
DTEND;TZID=America/Anguilla:20270212T220000
DTSTAMP:20260422T203652
CREATED:20260220T152753Z
LAST-MODIFIED:20260220T153307Z
UID:100111193-1802455200-1802469600@sonestastmaarten.com
SUMMARY:Ocean Terrace (Gala Theme Dinner)
DESCRIPTION:Buffet dinner with tonight’s culinary theme Gala.
URL:https://sonestastmaarten.com/event/ocean-terrace-gala-theme-dinner-2-2/2027-02-12/
LOCATION:Ocean Terrace
CATEGORIES:MB Dining Hours
ATTACH;FMTTYPE=image/png:https://sonestastmaarten.com/wp-content/uploads/ocean-terrace.png
END:VEVENT
BEGIN:VEVENT
DTSTART;TZID=America/Anguilla:20270212T203000
DTEND;TZID=America/Anguilla:20270212T223000
DTSTAMP:20260422T203652
CREATED:20250819T113705Z
LAST-MODIFIED:20260412T161230Z
UID:100117742-1802464200-1802471400@sonestastmaarten.com
SUMMARY:White Hot Dance Party with DJ Spin
DESCRIPTION:Get ready for the ultimate all-white party under the stars! Dress to impress in your best white attire and dance the night away as DJ Spin brings the hottest beats.
URL:https://sonestastmaarten.com/event/dance-party/2027-02-12/
LOCATION:The Piazza at La Fontana
CATEGORIES:Maho Beach Resort,Ocean Point Resort
ATTACH;FMTTYPE=image/png:https://sonestastmaarten.com/wp-content/uploads/White-Hot-Dacne-Party.png
END:VEVENT
BEGIN:VEVENT
DTSTART;TZID=America/Anguilla:20270212T210000
DTEND;TZID=America/Anguilla:20270213T000000
DTSTAMP:20260422T203652
CREATED:20251110T143719Z
LAST-MODIFIED:20260205T192900Z
UID:100107829-1802466000-1802476800@sonestastmaarten.com
SUMMARY:Live Music with Alexia
DESCRIPTION:Experience live music in style at Cloud 9 Ultimate Lounge\, with the best view of the island. Unwind with smooth tunes\, signature cocktails\, and a stunning panoramic backdrop. Whether you’re catching the sunset or enjoying the night breeze\, it’s the perfect setting to relax and vibe to the rhythm of the island.
URL:https://sonestastmaarten.com/event/live-music-at-cloud-9-ultimate-lounge-with-alexia/2027-02-12/
LOCATION:Cloud 9
CATEGORIES:Ocean Point Resort,Ultimate Club
ATTACH;FMTTYPE=image/jpeg:https://sonestastmaarten.com/wp-content/uploads/cloud9.jpg
END:VEVENT
BEGIN:VEVENT
DTSTART;VALUE=DATE:20270213
DTEND;VALUE=DATE:20270215
DTSTAMP:20260422T203652
CREATED:20251023T074705Z
LAST-MODIFIED:20260402T143114Z
UID:100116278-1802480400-1802566799@sonestastmaarten.com
SUMMARY:Table Tennis
DESCRIPTION:Serve up some fun with ping pong! All equipment provided for competitive matches or casual rallies.
URL:https://sonestastmaarten.com/event/table-tennis-2/2027-02-13/
LOCATION:Outside Sonesta Kids Crew
CATEGORIES:Maho Beach Resort
ATTACH;FMTTYPE=image/jpeg:https://sonestastmaarten.com/wp-content/uploads/table-tennis.jpg
END:VEVENT
END:VCALENDAR