BEGIN:VCALENDAR
VERSION:2.0
PRODID:-//Sonesta Resorts Sint Maarten - ECPv6.15.17.1//NONSGML v1.0//EN
CALSCALE:GREGORIAN
METHOD:PUBLISH
X-WR-CALNAME:Sonesta Resorts Sint Maarten
X-ORIGINAL-URL:https://sonestastmaarten.com
X-WR-CALDESC:Events for Sonesta Resorts Sint Maarten
REFRESH-INTERVAL;VALUE=DURATION:PT1H
X-Robots-Tag:noindex
X-PUBLISHED-TTL:PT1H
BEGIN:VTIMEZONE
TZID:America/Anguilla
BEGIN:STANDARD
TZOFFSETFROM:-0400
TZOFFSETTO:-0400
TZNAME:AST
DTSTART:20260101T000000
END:STANDARD
END:VTIMEZONE
BEGIN:VEVENT
DTSTART;TZID=America/Anguilla:20270302T153000
DTEND;TZID=America/Anguilla:20270302T173000
DTSTAMP:20260422T175418
CREATED:20250927T084345Z
LAST-MODIFIED:20260420T144506Z
UID:100118493-1804001400-1804008600@sonestastmaarten.com
SUMMARY:Point Pool Snacks
DESCRIPTION:Light poolside refreshments served at The Point Pool during late afternoon hours.
URL:https://sonestastmaarten.com/event/point-pool-snacks/2027-03-02/
LOCATION:The Point Pool
CATEGORIES:OP Dining Hours
ATTACH;FMTTYPE=image/png:https://sonestastmaarten.com/wp-content/uploads/one-zero-poolbar.png
END:VEVENT
BEGIN:VEVENT
DTSTART;TZID=America/Anguilla:20270302T173000
DTEND;TZID=America/Anguilla:20270302T230000
DTSTAMP:20260422T175418
CREATED:20250928T163944Z
LAST-MODIFIED:20260420T144629Z
UID:100118647-1804008600-1804028400@sonestastmaarten.com
SUMMARY:Bluefin Bar
DESCRIPTION:Rooftop bar above Azul with front-row sunset views\, serving light bites and libations in an exclusive setting perfect for golden hour.
URL:https://sonestastmaarten.com/event/bluefin-bar-2/2027-03-02/
LOCATION:Bluefin Restaurant
CATEGORIES:OP Dining Hours
ATTACH;FMTTYPE=image/png:https://sonestastmaarten.com/wp-content/uploads/bluefin-logo.png
END:VEVENT
BEGIN:VEVENT
DTSTART;TZID=America/Anguilla:20270302T180000
DTEND;TZID=America/Anguilla:20270302T220000
DTSTAMP:20260422T175418
CREATED:20250927T083633Z
LAST-MODIFIED:20260420T144651Z
UID:100118807-1804010400-1804024800@sonestastmaarten.com
SUMMARY:Bluefin Restaurant
DESCRIPTION:Healthy poke-inspired dining featuring sustainably sourced fish with specialty and build-your-own bowls for a fresh dinner experience.
URL:https://sonestastmaarten.com/event/bluefin-restaurant/2027-03-02/
LOCATION:Bluefin Restaurant
CATEGORIES:OP Dining Hours
ATTACH;FMTTYPE=image/png:https://sonestastmaarten.com/wp-content/uploads/bluefin-logo.png
END:VEVENT
BEGIN:VEVENT
DTSTART;TZID=America/Anguilla:20270302T190000
DTEND;TZID=America/Anguilla:20270302T210000
DTSTAMP:20260422T175418
CREATED:20260116T185946Z
LAST-MODIFIED:20260326T151503Z
UID:100115465-1804014000-1804021200@sonestastmaarten.com
SUMMARY:Live Dinner Music with Alban The Guitarist
DESCRIPTION:Join us for a Dinner Music Performance that will serenade your senses and elevate your dining experience. Enjoy an unforgettable evening where cuisine and music dance in perfect harmony.
URL:https://sonestastmaarten.com/event/live-dinner-music-with-alban-the-guitarist-2/2027-03-02/
LOCATION:The Piazza at La Fontana
CATEGORIES:Maho Beach Resort,Ocean Point Resort
ATTACH;FMTTYPE=image/jpeg:https://sonestastmaarten.com/wp-content/uploads/MB_Entertainment-001.jpg
END:VEVENT
BEGIN:VEVENT
DTSTART;VALUE=DATE:20270303
DTEND;VALUE=DATE:20270305
DTSTAMP:20260422T175418
CREATED:20251023T074705Z
LAST-MODIFIED:20260402T143114Z
UID:100116296-1804035600-1804121999@sonestastmaarten.com
SUMMARY:Table Tennis
DESCRIPTION:Serve up some fun with ping pong! All equipment provided for competitive matches or casual rallies.
URL:https://sonestastmaarten.com/event/table-tennis-2/2027-03-03/
LOCATION:Outside Sonesta Kids Crew
CATEGORIES:Maho Beach Resort
ATTACH;FMTTYPE=image/jpeg:https://sonestastmaarten.com/wp-content/uploads/table-tennis.jpg
END:VEVENT
BEGIN:VEVENT
DTSTART;TZID=America/Anguilla:20270303T140000
DTEND;TZID=America/Anguilla:20270303T170000
DTSTAMP:20260422T175418
CREATED:20260103T161306Z
LAST-MODIFIED:20260320T155656Z
UID:100114325-1804082400-1804093200@sonestastmaarten.com
SUMMARY:Bluefin Bar & Light Bites
DESCRIPTION:Enjoy stunning ocean and sunset views from this bar located above Azul Restaurant. Light bites served 2:00 PM – 5:00 PM\, with libations available throughout – your perfect golden hour destination.
URL:https://sonestastmaarten.com/event/bluefin-bar-3/2027-03-03/
LOCATION:Bluefin Restaurant
CATEGORIES:OP Dining Hours
ATTACH;FMTTYPE=image/png:https://sonestastmaarten.com/wp-content/uploads/bluefin-logo.png
END:VEVENT
BEGIN:VEVENT
DTSTART;TZID=America/Anguilla:20270303T143000
DTEND;TZID=America/Anguilla:20270303T150000
DTSTAMP:20260422T175418
CREATED:20260212T150254Z
LAST-MODIFIED:20260307T190545Z
UID:100112532-1804084200-1804086000@sonestastmaarten.com
SUMMARY:Soca Dance Class
DESCRIPTION:Join our Hype Team as we teach you move and groove to the Soca music!
URL:https://sonestastmaarten.com/event/soca-dance-class-4-2/2027-03-03/
LOCATION:The Oasis Pool
CATEGORIES:Maho Beach Resort
ATTACH;FMTTYPE=image/jpeg:https://sonestastmaarten.com/wp-content/uploads/oasis-pool.jpg
END:VEVENT
BEGIN:VEVENT
DTSTART;VALUE=DATE:20270304
DTEND;VALUE=DATE:20270306
DTSTAMP:20260422T175418
CREATED:20251023T074705Z
LAST-MODIFIED:20260402T143114Z
UID:100116297-1804122000-1804208399@sonestastmaarten.com
SUMMARY:Table Tennis
DESCRIPTION:Serve up some fun with ping pong! All equipment provided for competitive matches or casual rallies.
URL:https://sonestastmaarten.com/event/table-tennis-2/2027-03-04/
LOCATION:Outside Sonesta Kids Crew
CATEGORIES:Maho Beach Resort
ATTACH;FMTTYPE=image/jpeg:https://sonestastmaarten.com/wp-content/uploads/table-tennis.jpg
END:VEVENT
BEGIN:VEVENT
DTSTART;TZID=America/Anguilla:20270304T110000
DTEND;TZID=America/Anguilla:20270304T113000
DTSTAMP:20260422T175418
CREATED:20260301T164826Z
LAST-MODIFIED:20260412T155718Z
UID:100117510-1804158000-1804159800@sonestastmaarten.com
SUMMARY:SunFit: Shallow Water Aerobics
DESCRIPTION:A low impact but high intensity water aerobics class where no swimming skills are needed. Improve flexibility\, strength\, and endurance while water resistance cushions joints\, all to motivating music.
URL:https://sonestastmaarten.com/event/sunfit-shallow-water-aerobics-5/2027-03-04/
LOCATION:The Point Pool
CATEGORIES:Ocean Point Resort
ATTACH;FMTTYPE=image/jpeg:https://sonestastmaarten.com/wp-content/uploads/OP_Pool_Point_2024_008.jpg
END:VEVENT
BEGIN:VEVENT
DTSTART;TZID=America/Anguilla:20270304T113000
DTEND;TZID=America/Anguilla:20270304T120000
DTSTAMP:20260422T175418
CREATED:20251219T155414Z
LAST-MODIFIED:20260320T161458Z
UID:100114915-1804159800-1804161600@sonestastmaarten.com
SUMMARY:Trivia Challenge: 80's / 90's & 80's / 90's Movie Trivia
DESCRIPTION:A fun and interactive trivia experience featuring iconic movies and music from the 80s and 90s. Test your knowledge\, relive the classics\, and enjoy a nostalgic throwback to two unforgettable decades
URL:https://sonestastmaarten.com/event/name-that-tune-80-3/2027-03-04/
LOCATION:The Oasis Pool
CATEGORIES:Maho Beach Resort
ATTACH;FMTTYPE=image/jpeg:https://sonestastmaarten.com/wp-content/uploads/oasis-pool.jpg
END:VEVENT
BEGIN:VEVENT
DTSTART;TZID=America/Anguilla:20270304T120000
DTEND;TZID=America/Anguilla:20270304T123000
DTSTAMP:20260422T175418
CREATED:20251219T160844Z
LAST-MODIFIED:20260320T161521Z
UID:100114967-1804161600-1804163400@sonestastmaarten.com
SUMMARY:Name That Tune: 80's & 90's Music
DESCRIPTION:Think you know your 80s and 90s hits? Name That Tune challenges players to recognize iconic songs in seconds—sing along and relive the classics.
URL:https://sonestastmaarten.com/event/name-that-tune-80-2-2/2027-03-04/
LOCATION:The Oasis Pool
CATEGORIES:Maho Beach Resort
ATTACH;FMTTYPE=image/jpeg:https://sonestastmaarten.com/wp-content/uploads/maho-beach-exterior-day.jpg
END:VEVENT
BEGIN:VEVENT
DTSTART;TZID=America/Anguilla:20270304T143000
DTEND;TZID=America/Anguilla:20270304T150000
DTSTAMP:20260422T175418
CREATED:20260201T190212Z
LAST-MODIFIED:20260412T161519Z
UID:100117852-1804170600-1804172400@sonestastmaarten.com
SUMMARY:Throwback Line Dances
DESCRIPTION:A fun\, high-energy dance session featuring classic line dances from past decades. Easy to follow\, crowd-friendly\, and perfect for getting everyone on the dance floor
URL:https://sonestastmaarten.com/event/throwback-line-dances/2027-03-04/
LOCATION:The Oasis Pool
CATEGORIES:Maho Beach Resort
ATTACH;FMTTYPE=image/jpeg:https://sonestastmaarten.com/wp-content/uploads/maho-beach-exterior-day.jpg
END:VEVENT
BEGIN:VEVENT
DTSTART;TZID=America/Anguilla:20270304T153000
DTEND;TZID=America/Anguilla:20270304T173000
DTSTAMP:20260422T175418
CREATED:20250927T084345Z
LAST-MODIFIED:20260420T144506Z
UID:100118494-1804174200-1804181400@sonestastmaarten.com
SUMMARY:Point Pool Snacks
DESCRIPTION:Light poolside refreshments served at The Point Pool during late afternoon hours.
URL:https://sonestastmaarten.com/event/point-pool-snacks/2027-03-04/
LOCATION:The Point Pool
CATEGORIES:OP Dining Hours
ATTACH;FMTTYPE=image/png:https://sonestastmaarten.com/wp-content/uploads/one-zero-poolbar.png
END:VEVENT
BEGIN:VEVENT
DTSTART;TZID=America/Anguilla:20270304T173000
DTEND;TZID=America/Anguilla:20270304T230000
DTSTAMP:20260422T175418
CREATED:20250928T163944Z
LAST-MODIFIED:20260420T144629Z
UID:100118648-1804181400-1804201200@sonestastmaarten.com
SUMMARY:Bluefin Bar
DESCRIPTION:Rooftop bar above Azul with front-row sunset views\, serving light bites and libations in an exclusive setting perfect for golden hour.
URL:https://sonestastmaarten.com/event/bluefin-bar-2/2027-03-04/
LOCATION:Bluefin Restaurant
CATEGORIES:OP Dining Hours
ATTACH;FMTTYPE=image/png:https://sonestastmaarten.com/wp-content/uploads/bluefin-logo.png
END:VEVENT
BEGIN:VEVENT
DTSTART;TZID=America/Anguilla:20270304T180000
DTEND;TZID=America/Anguilla:20270304T220000
DTSTAMP:20260422T175418
CREATED:20250927T083633Z
LAST-MODIFIED:20260420T144651Z
UID:100118808-1804183200-1804197600@sonestastmaarten.com
SUMMARY:Bluefin Restaurant
DESCRIPTION:Healthy poke-inspired dining featuring sustainably sourced fish with specialty and build-your-own bowls for a fresh dinner experience.
URL:https://sonestastmaarten.com/event/bluefin-restaurant/2027-03-04/
LOCATION:Bluefin Restaurant
CATEGORIES:OP Dining Hours
ATTACH;FMTTYPE=image/png:https://sonestastmaarten.com/wp-content/uploads/bluefin-logo.png
END:VEVENT
BEGIN:VEVENT
DTSTART;VALUE=DATE:20270305
DTEND;VALUE=DATE:20270307
DTSTAMP:20260422T175418
CREATED:20251023T074705Z
LAST-MODIFIED:20260402T143114Z
UID:100116298-1804208400-1804294799@sonestastmaarten.com
SUMMARY:Table Tennis
DESCRIPTION:Serve up some fun with ping pong! All equipment provided for competitive matches or casual rallies.
URL:https://sonestastmaarten.com/event/table-tennis-2/2027-03-05/
LOCATION:Outside Sonesta Kids Crew
CATEGORIES:Maho Beach Resort
ATTACH;FMTTYPE=image/jpeg:https://sonestastmaarten.com/wp-content/uploads/table-tennis.jpg
END:VEVENT
BEGIN:VEVENT
DTSTART;TZID=America/Anguilla:20270305T093000
DTEND;TZID=America/Anguilla:20270305T100000
DTSTAMP:20260422T175418
CREATED:20260103T194019Z
LAST-MODIFIED:20260412T160452Z
UID:100117695-1804239000-1804240800@sonestastmaarten.com
SUMMARY:Kickboxing
DESCRIPTION:Kickboxing is a high-energy workout that combines punches\, kicks\, and cardio to build strength\, speed\, and endurance.
URL:https://sonestastmaarten.com/event/vinyasa-yoga-2/2027-03-05/
LOCATION:The Waterfront Stage\, Sint Maarten
CATEGORIES:Maho Beach Resort,Ocean Point Resort
ATTACH;FMTTYPE=image/jpeg:https://sonestastmaarten.com/wp-content/uploads/2022/07/spa_hotel_11.jpg
END:VEVENT
BEGIN:VEVENT
DTSTART;TZID=America/Anguilla:20270305T140000
DTEND;TZID=America/Anguilla:20270305T170000
DTSTAMP:20260422T175418
CREATED:20260103T161306Z
LAST-MODIFIED:20260320T155656Z
UID:100114326-1804255200-1804266000@sonestastmaarten.com
SUMMARY:Bluefin Bar & Light Bites
DESCRIPTION:Enjoy stunning ocean and sunset views from this bar located above Azul Restaurant. Light bites served 2:00 PM – 5:00 PM\, with libations available throughout – your perfect golden hour destination.
URL:https://sonestastmaarten.com/event/bluefin-bar-3/2027-03-05/
LOCATION:Bluefin Restaurant
CATEGORIES:OP Dining Hours
ATTACH;FMTTYPE=image/png:https://sonestastmaarten.com/wp-content/uploads/bluefin-logo.png
END:VEVENT
BEGIN:VEVENT
DTSTART;TZID=America/Anguilla:20270305T203000
DTEND;TZID=America/Anguilla:20270305T223000
DTSTAMP:20260422T175418
CREATED:20250819T113705Z
LAST-MODIFIED:20260412T161230Z
UID:100117745-1804278600-1804285800@sonestastmaarten.com
SUMMARY:White Hot Dance Party with DJ Spin
DESCRIPTION:Get ready for the ultimate all-white party under the stars! Dress to impress in your best white attire and dance the night away as DJ Spin brings the hottest beats.
URL:https://sonestastmaarten.com/event/dance-party/2027-03-05/
LOCATION:The Piazza at La Fontana
CATEGORIES:Maho Beach Resort,Ocean Point Resort
ATTACH;FMTTYPE=image/png:https://sonestastmaarten.com/wp-content/uploads/White-Hot-Dacne-Party.png
END:VEVENT
BEGIN:VEVENT
DTSTART;VALUE=DATE:20270306
DTEND;VALUE=DATE:20270308
DTSTAMP:20260422T175418
CREATED:20251023T074705Z
LAST-MODIFIED:20260402T143114Z
UID:100116299-1804294800-1804381199@sonestastmaarten.com
SUMMARY:Table Tennis
DESCRIPTION:Serve up some fun with ping pong! All equipment provided for competitive matches or casual rallies.
URL:https://sonestastmaarten.com/event/table-tennis-2/2027-03-06/
LOCATION:Outside Sonesta Kids Crew
CATEGORIES:Maho Beach Resort
ATTACH;FMTTYPE=image/jpeg:https://sonestastmaarten.com/wp-content/uploads/table-tennis.jpg
END:VEVENT
BEGIN:VEVENT
DTSTART;TZID=America/Anguilla:20270306T120000
DTEND;TZID=America/Anguilla:20270306T123000
DTSTAMP:20260422T175418
CREATED:20260212T150230Z
LAST-MODIFIED:20260307T190942Z
UID:100112636-1804334400-1804336200@sonestastmaarten.com
SUMMARY:Name That Tune: Disney Edition
DESCRIPTION:Sing along and test your Disney knowledge! Guess songs and movies from your favorite Disney classics and new hits. Fun for all ages with laughter and nostalgia guaranteed!
URL:https://sonestastmaarten.com/event/name-that-tune-disney-2/2027-03-06/
LOCATION:The Oasis Pool
CATEGORIES:Maho Beach Resort
ATTACH;FMTTYPE=image/jpeg:https://sonestastmaarten.com/wp-content/uploads/oasis-pool.jpg
END:VEVENT
BEGIN:VEVENT
DTSTART;TZID=America/Anguilla:20270306T134500
DTEND;TZID=America/Anguilla:20270306T143000
DTSTAMP:20260422T175418
CREATED:20260212T150241Z
LAST-MODIFIED:20260307T190625Z
UID:100112584-1804340700-1804343400@sonestastmaarten.com
SUMMARY:Deck Olympics
DESCRIPTION:Time for some friendly competition! Join your team for pool-area Olympic games featuring relay races\, team challenges\, and water activities. Fun\, laughter\, and prizes await!
URL:https://sonestastmaarten.com/event/deck-olympics-3/2027-03-06/
LOCATION:The Oasis Pool
CATEGORIES:Maho Beach Resort
ATTACH;FMTTYPE=image/jpeg:https://sonestastmaarten.com/wp-content/uploads/MB_Pool_Oasis_new.jpg
END:VEVENT
BEGIN:VEVENT
DTSTART;TZID=America/Anguilla:20270306T150000
DTEND;TZID=America/Anguilla:20270306T170000
DTSTAMP:20260422T175418
CREATED:20250820T163603Z
LAST-MODIFIED:20260320T161101Z
UID:100114857-1804345200-1804352400@sonestastmaarten.com
SUMMARY:Poolside Live Music with The Love Connection
DESCRIPTION:Whether relaxing under the sun\, cocktail in hand\, or swimming in our pool\, our live music program featuring talented local musicians will fill your days with eclectic beats.
URL:https://sonestastmaarten.com/event/live-music-with-love-connection/2027-03-06/
LOCATION:The Oasis Pool
CATEGORIES:Maho Beach Resort
ATTACH;FMTTYPE=image/jpeg:https://sonestastmaarten.com/wp-content/uploads/MB_Entertainment_2024_03.jpg
END:VEVENT
BEGIN:VEVENT
DTSTART;TZID=America/Anguilla:20270306T153000
DTEND;TZID=America/Anguilla:20270306T173000
DTSTAMP:20260422T175418
CREATED:20250927T084345Z
LAST-MODIFIED:20260420T144506Z
UID:100118495-1804347000-1804354200@sonestastmaarten.com
SUMMARY:Point Pool Snacks
DESCRIPTION:Light poolside refreshments served at The Point Pool during late afternoon hours.
URL:https://sonestastmaarten.com/event/point-pool-snacks/2027-03-06/
LOCATION:The Point Pool
CATEGORIES:OP Dining Hours
ATTACH;FMTTYPE=image/png:https://sonestastmaarten.com/wp-content/uploads/one-zero-poolbar.png
END:VEVENT
BEGIN:VEVENT
DTSTART;TZID=America/Anguilla:20270306T173000
DTEND;TZID=America/Anguilla:20270306T230000
DTSTAMP:20260422T175418
CREATED:20250928T163944Z
LAST-MODIFIED:20260420T144629Z
UID:100118649-1804354200-1804374000@sonestastmaarten.com
SUMMARY:Bluefin Bar
DESCRIPTION:Rooftop bar above Azul with front-row sunset views\, serving light bites and libations in an exclusive setting perfect for golden hour.
URL:https://sonestastmaarten.com/event/bluefin-bar-2/2027-03-06/
LOCATION:Bluefin Restaurant
CATEGORIES:OP Dining Hours
ATTACH;FMTTYPE=image/png:https://sonestastmaarten.com/wp-content/uploads/bluefin-logo.png
END:VEVENT
BEGIN:VEVENT
DTSTART;TZID=America/Anguilla:20270306T180000
DTEND;TZID=America/Anguilla:20270306T220000
DTSTAMP:20260422T175418
CREATED:20250927T083633Z
LAST-MODIFIED:20260420T144651Z
UID:100118809-1804356000-1804370400@sonestastmaarten.com
SUMMARY:Bluefin Restaurant
DESCRIPTION:Healthy poke-inspired dining featuring sustainably sourced fish with specialty and build-your-own bowls for a fresh dinner experience.
URL:https://sonestastmaarten.com/event/bluefin-restaurant/2027-03-06/
LOCATION:Bluefin Restaurant
CATEGORIES:OP Dining Hours
ATTACH;FMTTYPE=image/png:https://sonestastmaarten.com/wp-content/uploads/bluefin-logo.png
END:VEVENT
BEGIN:VEVENT
DTSTART;TZID=America/Anguilla:20270306T193000
DTEND;TZID=America/Anguilla:20270306T213000
DTSTAMP:20260422T175418
CREATED:20250904T120025Z
LAST-MODIFIED:20260320T161045Z
UID:100114803-1804361400-1804368600@sonestastmaarten.com
SUMMARY:Dinner Steel Pan with Brendon
DESCRIPTION:Let tropical rhythms enhance your dining experience! Brendon brings authentic Caribbean steel pan music to life with captivating island beats that capture the true spirit of the Caribbean while you enjoy your meal.
URL:https://sonestastmaarten.com/event/dinner-steel-pan-with-brendon/2027-03-06/
LOCATION:The Piazza at La Fontana
CATEGORIES:Maho Beach Resort,Ocean Point Resort
ATTACH;FMTTYPE=image/jpeg:https://sonestastmaarten.com/wp-content/uploads/SXM_Entertainment_SteelPan.jpg
END:VEVENT
BEGIN:VEVENT
DTSTART;TZID=America/Anguilla:20270306T200000
DTEND;TZID=America/Anguilla:20270306T213000
DTSTAMP:20260422T175418
CREATED:20250820T085606Z
LAST-MODIFIED:20260320T161030Z
UID:100114750-1804363200-1804368600@sonestastmaarten.com
SUMMARY:Family Movie Night
DESCRIPTION:After a fun-filled day under the sun\, it’s time to relax and watch family favorites on the big screen. Grab a seat and enjoy a heartwarming movie perfect for the entire family.
URL:https://sonestastmaarten.com/event/family-movie-night/2027-03-06/
LOCATION:The Beach House
CATEGORIES:Maho Beach Resort
ATTACH;FMTTYPE=image/jpeg:https://sonestastmaarten.com/wp-content/uploads/2022/07/beach-house.jpg
END:VEVENT
BEGIN:VEVENT
DTSTART;VALUE=DATE:20270307
DTEND;VALUE=DATE:20270309
DTSTAMP:20260422T175418
CREATED:20251023T074705Z
LAST-MODIFIED:20260402T143114Z
UID:100116300-1804381200-1804467599@sonestastmaarten.com
SUMMARY:Table Tennis
DESCRIPTION:Serve up some fun with ping pong! All equipment provided for competitive matches or casual rallies.
URL:https://sonestastmaarten.com/event/table-tennis-2/2027-03-07/
LOCATION:Outside Sonesta Kids Crew
CATEGORIES:Maho Beach Resort
ATTACH;FMTTYPE=image/jpeg:https://sonestastmaarten.com/wp-content/uploads/table-tennis.jpg
END:VEVENT
BEGIN:VEVENT
DTSTART;TZID=America/Anguilla:20270307T113000
DTEND;TZID=America/Anguilla:20270307T120000
DTSTAMP:20260422T175418
CREATED:20250825T144954Z
LAST-MODIFIED:20260320T160936Z
UID:100114591-1804419000-1804420800@sonestastmaarten.com
SUMMARY:Trivia Challenge: Fresh Prince & Movie Quotes
DESCRIPTION:Test your knowledge of classic TV and cinema! From the Banks family antics in Bel-Air to iconic movie one-liners\, see how well you know your favorite quotes. Can you name the scene\, episode\, or film?
URL:https://sonestastmaarten.com/event/trivia-challenge-fresh-prince/2027-03-07/
LOCATION:The Oasis Pool
CATEGORIES:Maho Beach Resort
ATTACH;FMTTYPE=image/jpeg:https://sonestastmaarten.com/wp-content/uploads/oasis-pool.jpg
END:VEVENT
END:VCALENDAR