BEGIN:VCALENDAR
VERSION:2.0
PRODID:-//Sonesta Resorts Sint Maarten - ECPv6.15.17.1//NONSGML v1.0//EN
CALSCALE:GREGORIAN
METHOD:PUBLISH
X-WR-CALNAME:Sonesta Resorts Sint Maarten
X-ORIGINAL-URL:https://sonestastmaarten.com
X-WR-CALDESC:Events for Sonesta Resorts Sint Maarten
REFRESH-INTERVAL;VALUE=DURATION:PT1H
X-Robots-Tag:noindex
X-PUBLISHED-TTL:PT1H
BEGIN:VTIMEZONE
TZID:America/Anguilla
BEGIN:STANDARD
TZOFFSETFROM:-0400
TZOFFSETTO:-0400
TZNAME:AST
DTSTART:20260101T000000
END:STANDARD
END:VTIMEZONE
BEGIN:VEVENT
DTSTART;TZID=America/Anguilla:20270313T200000
DTEND;TZID=America/Anguilla:20270313T213000
DTSTAMP:20260422T185253
CREATED:20250820T085606Z
LAST-MODIFIED:20260320T161030Z
UID:100114751-1804968000-1804973400@sonestastmaarten.com
SUMMARY:Family Movie Night
DESCRIPTION:After a fun-filled day under the sun\, it’s time to relax and watch family favorites on the big screen. Grab a seat and enjoy a heartwarming movie perfect for the entire family.
URL:https://sonestastmaarten.com/event/family-movie-night/2027-03-13/
LOCATION:The Beach House
CATEGORIES:Maho Beach Resort
ATTACH;FMTTYPE=image/jpeg:https://sonestastmaarten.com/wp-content/uploads/2022/07/beach-house.jpg
END:VEVENT
BEGIN:VEVENT
DTSTART;VALUE=DATE:20270314
DTEND;VALUE=DATE:20270316
DTSTAMP:20260422T185253
CREATED:20251023T074705Z
LAST-MODIFIED:20260402T143114Z
UID:100116307-1804986000-1805072399@sonestastmaarten.com
SUMMARY:Table Tennis
DESCRIPTION:Serve up some fun with ping pong! All equipment provided for competitive matches or casual rallies.
URL:https://sonestastmaarten.com/event/table-tennis-2/2027-03-14/
LOCATION:Outside Sonesta Kids Crew
CATEGORIES:Maho Beach Resort
ATTACH;FMTTYPE=image/jpeg:https://sonestastmaarten.com/wp-content/uploads/table-tennis.jpg
END:VEVENT
BEGIN:VEVENT
DTSTART;TZID=America/Anguilla:20270314T113000
DTEND;TZID=America/Anguilla:20270314T120000
DTSTAMP:20260422T185254
CREATED:20250825T144954Z
LAST-MODIFIED:20260320T160936Z
UID:100114592-1805023800-1805025600@sonestastmaarten.com
SUMMARY:Trivia Challenge: Fresh Prince & Movie Quotes
DESCRIPTION:Test your knowledge of classic TV and cinema! From the Banks family antics in Bel-Air to iconic movie one-liners\, see how well you know your favorite quotes. Can you name the scene\, episode\, or film?
URL:https://sonestastmaarten.com/event/trivia-challenge-fresh-prince/2027-03-14/
LOCATION:The Oasis Pool
CATEGORIES:Maho Beach Resort
ATTACH;FMTTYPE=image/jpeg:https://sonestastmaarten.com/wp-content/uploads/oasis-pool.jpg
END:VEVENT
BEGIN:VEVENT
DTSTART;TZID=America/Anguilla:20270314T134500
DTEND;TZID=America/Anguilla:20270314T143000
DTSTAMP:20260422T185254
CREATED:20250825T150545Z
LAST-MODIFIED:20260320T160949Z
UID:100114645-1805031900-1805034600@sonestastmaarten.com
SUMMARY:Crazy Game Segment
DESCRIPTION:Join our Hype Team! Every day and enjoy some Fun in the sun in and around the Oasis Pool for your favorite games
URL:https://sonestastmaarten.com/event/name-that-tune-2/2027-03-14/
LOCATION:The Oasis Pool
CATEGORIES:Maho Beach Resort
ATTACH;FMTTYPE=image/jpeg:https://sonestastmaarten.com/wp-content/uploads/oasis-pool.jpg
END:VEVENT
BEGIN:VEVENT
DTSTART;TZID=America/Anguilla:20270314T140000
DTEND;TZID=America/Anguilla:20270314T170000
DTSTAMP:20260422T185254
CREATED:20260103T161306Z
LAST-MODIFIED:20260320T155656Z
UID:100114331-1805032800-1805043600@sonestastmaarten.com
SUMMARY:Bluefin Bar & Light Bites
DESCRIPTION:Enjoy stunning ocean and sunset views from this bar located above Azul Restaurant. Light bites served 2:00 PM – 5:00 PM\, with libations available throughout – your perfect golden hour destination.
URL:https://sonestastmaarten.com/event/bluefin-bar-3/2027-03-14/
LOCATION:Bluefin Restaurant
CATEGORIES:OP Dining Hours
ATTACH;FMTTYPE=image/png:https://sonestastmaarten.com/wp-content/uploads/bluefin-logo.png
END:VEVENT
BEGIN:VEVENT
DTSTART;TZID=America/Anguilla:20270314T150000
DTEND;TZID=America/Anguilla:20270314T170000
DTSTAMP:20260422T185254
CREATED:20250820T164236Z
LAST-MODIFIED:20260320T161010Z
UID:100114698-1805036400-1805043600@sonestastmaarten.com
SUMMARY:Poolside Live Music with Magic Singer
DESCRIPTION:Whether relaxing under the sun\, cocktail in hand\, or swimming in our pool\, our live music program featuring talented local musicians will fill your days with eclectic beats.
URL:https://sonestastmaarten.com/event/poolside-live-music-with-magic/2027-03-14/
LOCATION:The Oasis Pool
CATEGORIES:Maho Beach Resort
ATTACH;FMTTYPE=image/jpeg:https://sonestastmaarten.com/wp-content/uploads/entertainment_mb.jpg
END:VEVENT
BEGIN:VEVENT
DTSTART;TZID=America/Anguilla:20270314T210000
DTEND;TZID=America/Anguilla:20270314T230000
DTSTAMP:20260422T185254
CREATED:20250820T164819Z
LAST-MODIFIED:20260320T160906Z
UID:100114539-1805058000-1805065200@sonestastmaarten.com
SUMMARY:Karaoke Night with Ebony
DESCRIPTION:It’s your turn to be the singing sensation you always knew you could be! Join us at the Latitude Bar and sing your heart out with your host!
URL:https://sonestastmaarten.com/event/karaoke-night-with-ebony-2/2027-03-14/
LOCATION:The Latitude Lobby Bar\, Maho Beach Lobby
CATEGORIES:Maho Beach Resort,Ocean Point Resort
ATTACH;FMTTYPE=image/jpeg:https://sonestastmaarten.com/wp-content/uploads/Karaoke-lifestyle-Scpl-Stk.jpg
END:VEVENT
BEGIN:VEVENT
DTSTART;VALUE=DATE:20270315
DTEND;VALUE=DATE:20270317
DTSTAMP:20260422T185254
CREATED:20251023T074705Z
LAST-MODIFIED:20260402T143114Z
UID:100116308-1805072400-1805158799@sonestastmaarten.com
SUMMARY:Table Tennis
DESCRIPTION:Serve up some fun with ping pong! All equipment provided for competitive matches or casual rallies.
URL:https://sonestastmaarten.com/event/table-tennis-2/2027-03-15/
LOCATION:Outside Sonesta Kids Crew
CATEGORIES:Maho Beach Resort
ATTACH;FMTTYPE=image/jpeg:https://sonestastmaarten.com/wp-content/uploads/table-tennis.jpg
END:VEVENT
BEGIN:VEVENT
DTSTART;TZID=America/Anguilla:20270315T113000
DTEND;TZID=America/Anguilla:20270315T120000
DTSTAMP:20260422T185254
CREATED:20250819T123233Z
LAST-MODIFIED:20260420T145618Z
UID:100118889-1805110200-1805112000@sonestastmaarten.com
SUMMARY:Trivia Challenge: Sports & Superhero
DESCRIPTION:Test your knowledge with Sports & Superhero Trivia! From famous athletes to legendary heroes\, see if you have what it takes to claim the trivia crown.
URL:https://sonestastmaarten.com/event/trivia-challenge-sports-superhero/2027-03-15/
LOCATION:The Oasis Pool
CATEGORIES:Maho Beach Resort
ATTACH;FMTTYPE=image/jpeg:https://sonestastmaarten.com/wp-content/uploads/maho-beach-exterior-day.jpg
END:VEVENT
BEGIN:VEVENT
DTSTART;TZID=America/Anguilla:20270315T120000
DTEND;TZID=America/Anguilla:20270315T123000
DTSTAMP:20260422T185254
CREATED:20250825T145800Z
LAST-MODIFIED:20260420T145630Z
UID:100118941-1805112000-1805113800@sonestastmaarten.com
SUMMARY:Flip Cup Contest
DESCRIPTION:Join us for a high-energy Flip Cup Contest! Gather your friends\, test your speed and coordination\, and see who can flip their cup the fastest!
URL:https://sonestastmaarten.com/event/flip-cup-contest/2027-03-15/
LOCATION:The Oasis Pool
CATEGORIES:Maho Beach Resort
ATTACH;FMTTYPE=image/jpeg:https://sonestastmaarten.com/wp-content/uploads/oasis-pool.jpg
END:VEVENT
BEGIN:VEVENT
DTSTART;TZID=America/Anguilla:20270315T134500
DTEND;TZID=America/Anguilla:20270315T141500
DTSTAMP:20260422T185254
CREATED:20250825T153006Z
LAST-MODIFIED:20260420T145642Z
UID:100118993-1805118300-1805120100@sonestastmaarten.com
SUMMARY:Belly Flop Contest
DESCRIPTION:Make a splash and show off your biggest\, boldest belly flops! Compete for laughs\, cheers\, and ultimate bragging rights as judges score on style\, splash\, and crowd reaction.
URL:https://sonestastmaarten.com/event/belly-flop-contest/2027-03-15/
LOCATION:The Oasis Pool
CATEGORIES:Maho Beach Resort
ATTACH;FMTTYPE=image/jpeg:https://sonestastmaarten.com/wp-content/uploads/maho-beach-exterior-day.jpg
END:VEVENT
BEGIN:VEVENT
DTSTART;TZID=America/Anguilla:20270315T140000
DTEND;TZID=America/Anguilla:20270315T170000
DTSTAMP:20260422T185254
CREATED:20260103T161306Z
LAST-MODIFIED:20260320T155656Z
UID:100114332-1805119200-1805130000@sonestastmaarten.com
SUMMARY:Bluefin Bar & Light Bites
DESCRIPTION:Enjoy stunning ocean and sunset views from this bar located above Azul Restaurant. Light bites served 2:00 PM – 5:00 PM\, with libations available throughout – your perfect golden hour destination.
URL:https://sonestastmaarten.com/event/bluefin-bar-3/2027-03-15/
LOCATION:Bluefin Restaurant
CATEGORIES:OP Dining Hours
ATTACH;FMTTYPE=image/png:https://sonestastmaarten.com/wp-content/uploads/bluefin-logo.png
END:VEVENT
BEGIN:VEVENT
DTSTART;VALUE=DATE:20270316
DTEND;VALUE=DATE:20270318
DTSTAMP:20260422T185254
CREATED:20251023T074705Z
LAST-MODIFIED:20260402T143114Z
UID:100116309-1805158800-1805245199@sonestastmaarten.com
SUMMARY:Table Tennis
DESCRIPTION:Serve up some fun with ping pong! All equipment provided for competitive matches or casual rallies.
URL:https://sonestastmaarten.com/event/table-tennis-2/2027-03-16/
LOCATION:Outside Sonesta Kids Crew
CATEGORIES:Maho Beach Resort
ATTACH;FMTTYPE=image/jpeg:https://sonestastmaarten.com/wp-content/uploads/table-tennis.jpg
END:VEVENT
BEGIN:VEVENT
DTSTART;TZID=America/Anguilla:20270316T110000
DTEND;TZID=America/Anguilla:20270316T113000
DTSTAMP:20260422T185254
CREATED:20260301T164826Z
LAST-MODIFIED:20260412T155718Z
UID:100116747-1805194800-1805196600@sonestastmaarten.com
SUMMARY:SunFit: Shallow Water Aerobics
DESCRIPTION:A low impact but high intensity water aerobics class where no swimming skills are needed. Improve flexibility\, strength\, and endurance while water resistance cushions joints\, all to motivating music.
URL:https://sonestastmaarten.com/event/sunfit-shallow-water-aerobics-5/2027-03-16/
LOCATION:The Point Pool
CATEGORIES:Ocean Point Resort
ATTACH;FMTTYPE=image/jpeg:https://sonestastmaarten.com/wp-content/uploads/OP_Pool_Point_2024_008.jpg
END:VEVENT
BEGIN:VEVENT
DTSTART;TZID=America/Anguilla:20270316T153000
DTEND;TZID=America/Anguilla:20270316T173000
DTSTAMP:20260422T185254
CREATED:20250927T084345Z
LAST-MODIFIED:20260420T144506Z
UID:100118499-1805211000-1805218200@sonestastmaarten.com
SUMMARY:Point Pool Snacks
DESCRIPTION:Light poolside refreshments served at The Point Pool during late afternoon hours.
URL:https://sonestastmaarten.com/event/point-pool-snacks/2027-03-16/
LOCATION:The Point Pool
CATEGORIES:OP Dining Hours
ATTACH;FMTTYPE=image/png:https://sonestastmaarten.com/wp-content/uploads/one-zero-poolbar.png
END:VEVENT
BEGIN:VEVENT
DTSTART;TZID=America/Anguilla:20270316T173000
DTEND;TZID=America/Anguilla:20270316T230000
DTSTAMP:20260422T185254
CREATED:20250928T163944Z
LAST-MODIFIED:20260420T144629Z
UID:100118653-1805218200-1805238000@sonestastmaarten.com
SUMMARY:Bluefin Bar
DESCRIPTION:Rooftop bar above Azul with front-row sunset views\, serving light bites and libations in an exclusive setting perfect for golden hour.
URL:https://sonestastmaarten.com/event/bluefin-bar-2/2027-03-16/
LOCATION:Bluefin Restaurant
CATEGORIES:OP Dining Hours
ATTACH;FMTTYPE=image/png:https://sonestastmaarten.com/wp-content/uploads/bluefin-logo.png
END:VEVENT
BEGIN:VEVENT
DTSTART;TZID=America/Anguilla:20270316T180000
DTEND;TZID=America/Anguilla:20270316T220000
DTSTAMP:20260422T185254
CREATED:20250927T083633Z
LAST-MODIFIED:20260420T144651Z
UID:100118813-1805220000-1805234400@sonestastmaarten.com
SUMMARY:Bluefin Restaurant
DESCRIPTION:Healthy poke-inspired dining featuring sustainably sourced fish with specialty and build-your-own bowls for a fresh dinner experience.
URL:https://sonestastmaarten.com/event/bluefin-restaurant/2027-03-16/
LOCATION:Bluefin Restaurant
CATEGORIES:OP Dining Hours
ATTACH;FMTTYPE=image/png:https://sonestastmaarten.com/wp-content/uploads/bluefin-logo.png
END:VEVENT
BEGIN:VEVENT
DTSTART;TZID=America/Anguilla:20270316T190000
DTEND;TZID=America/Anguilla:20270316T210000
DTSTAMP:20260422T185254
CREATED:20260116T185946Z
LAST-MODIFIED:20260326T151503Z
UID:100115467-1805223600-1805230800@sonestastmaarten.com
SUMMARY:Live Dinner Music with Alban The Guitarist
DESCRIPTION:Join us for a Dinner Music Performance that will serenade your senses and elevate your dining experience. Enjoy an unforgettable evening where cuisine and music dance in perfect harmony.
URL:https://sonestastmaarten.com/event/live-dinner-music-with-alban-the-guitarist-2/2027-03-16/
LOCATION:The Piazza at La Fontana
CATEGORIES:Maho Beach Resort,Ocean Point Resort
ATTACH;FMTTYPE=image/jpeg:https://sonestastmaarten.com/wp-content/uploads/MB_Entertainment-001.jpg
END:VEVENT
BEGIN:VEVENT
DTSTART;VALUE=DATE:20270317
DTEND;VALUE=DATE:20270319
DTSTAMP:20260422T185254
CREATED:20251023T074705Z
LAST-MODIFIED:20260402T143114Z
UID:100116310-1805245200-1805331599@sonestastmaarten.com
SUMMARY:Table Tennis
DESCRIPTION:Serve up some fun with ping pong! All equipment provided for competitive matches or casual rallies.
URL:https://sonestastmaarten.com/event/table-tennis-2/2027-03-17/
LOCATION:Outside Sonesta Kids Crew
CATEGORIES:Maho Beach Resort
ATTACH;FMTTYPE=image/jpeg:https://sonestastmaarten.com/wp-content/uploads/table-tennis.jpg
END:VEVENT
BEGIN:VEVENT
DTSTART;TZID=America/Anguilla:20270317T140000
DTEND;TZID=America/Anguilla:20270317T170000
DTSTAMP:20260422T185254
CREATED:20260103T161306Z
LAST-MODIFIED:20260320T155656Z
UID:100114333-1805292000-1805302800@sonestastmaarten.com
SUMMARY:Bluefin Bar & Light Bites
DESCRIPTION:Enjoy stunning ocean and sunset views from this bar located above Azul Restaurant. Light bites served 2:00 PM – 5:00 PM\, with libations available throughout – your perfect golden hour destination.
URL:https://sonestastmaarten.com/event/bluefin-bar-3/2027-03-17/
LOCATION:Bluefin Restaurant
CATEGORIES:OP Dining Hours
ATTACH;FMTTYPE=image/png:https://sonestastmaarten.com/wp-content/uploads/bluefin-logo.png
END:VEVENT
BEGIN:VEVENT
DTSTART;VALUE=DATE:20270318
DTEND;VALUE=DATE:20270320
DTSTAMP:20260422T185254
CREATED:20251023T074705Z
LAST-MODIFIED:20260402T143114Z
UID:100116311-1805331600-1805417999@sonestastmaarten.com
SUMMARY:Table Tennis
DESCRIPTION:Serve up some fun with ping pong! All equipment provided for competitive matches or casual rallies.
URL:https://sonestastmaarten.com/event/table-tennis-2/2027-03-18/
LOCATION:Outside Sonesta Kids Crew
CATEGORIES:Maho Beach Resort
ATTACH;FMTTYPE=image/jpeg:https://sonestastmaarten.com/wp-content/uploads/table-tennis.jpg
END:VEVENT
BEGIN:VEVENT
DTSTART;TZID=America/Anguilla:20270318T110000
DTEND;TZID=America/Anguilla:20270318T113000
DTSTAMP:20260422T185254
CREATED:20260301T164826Z
LAST-MODIFIED:20260412T155718Z
UID:100117512-1805367600-1805369400@sonestastmaarten.com
SUMMARY:SunFit: Shallow Water Aerobics
DESCRIPTION:A low impact but high intensity water aerobics class where no swimming skills are needed. Improve flexibility\, strength\, and endurance while water resistance cushions joints\, all to motivating music.
URL:https://sonestastmaarten.com/event/sunfit-shallow-water-aerobics-5/2027-03-18/
LOCATION:The Point Pool
CATEGORIES:Ocean Point Resort
ATTACH;FMTTYPE=image/jpeg:https://sonestastmaarten.com/wp-content/uploads/OP_Pool_Point_2024_008.jpg
END:VEVENT
BEGIN:VEVENT
DTSTART;TZID=America/Anguilla:20270318T113000
DTEND;TZID=America/Anguilla:20270318T120000
DTSTAMP:20260422T185254
CREATED:20251219T155414Z
LAST-MODIFIED:20260320T161458Z
UID:100114917-1805369400-1805371200@sonestastmaarten.com
SUMMARY:Trivia Challenge: 80's / 90's & 80's / 90's Movie Trivia
DESCRIPTION:A fun and interactive trivia experience featuring iconic movies and music from the 80s and 90s. Test your knowledge\, relive the classics\, and enjoy a nostalgic throwback to two unforgettable decades
URL:https://sonestastmaarten.com/event/name-that-tune-80-3/2027-03-18/
LOCATION:The Oasis Pool
CATEGORIES:Maho Beach Resort
ATTACH;FMTTYPE=image/jpeg:https://sonestastmaarten.com/wp-content/uploads/oasis-pool.jpg
END:VEVENT
BEGIN:VEVENT
DTSTART;TZID=America/Anguilla:20270318T120000
DTEND;TZID=America/Anguilla:20270318T123000
DTSTAMP:20260422T185254
CREATED:20251219T160844Z
LAST-MODIFIED:20260320T161521Z
UID:100114969-1805371200-1805373000@sonestastmaarten.com
SUMMARY:Name That Tune: 80's & 90's Music
DESCRIPTION:Think you know your 80s and 90s hits? Name That Tune challenges players to recognize iconic songs in seconds—sing along and relive the classics.
URL:https://sonestastmaarten.com/event/name-that-tune-80-2-2/2027-03-18/
LOCATION:The Oasis Pool
CATEGORIES:Maho Beach Resort
ATTACH;FMTTYPE=image/jpeg:https://sonestastmaarten.com/wp-content/uploads/maho-beach-exterior-day.jpg
END:VEVENT
BEGIN:VEVENT
DTSTART;TZID=America/Anguilla:20270318T143000
DTEND;TZID=America/Anguilla:20270318T150000
DTSTAMP:20260422T185254
CREATED:20260201T190212Z
LAST-MODIFIED:20260412T161519Z
UID:100117854-1805380200-1805382000@sonestastmaarten.com
SUMMARY:Throwback Line Dances
DESCRIPTION:A fun\, high-energy dance session featuring classic line dances from past decades. Easy to follow\, crowd-friendly\, and perfect for getting everyone on the dance floor
URL:https://sonestastmaarten.com/event/throwback-line-dances/2027-03-18/
LOCATION:The Oasis Pool
CATEGORIES:Maho Beach Resort
ATTACH;FMTTYPE=image/jpeg:https://sonestastmaarten.com/wp-content/uploads/maho-beach-exterior-day.jpg
END:VEVENT
BEGIN:VEVENT
DTSTART;TZID=America/Anguilla:20270318T153000
DTEND;TZID=America/Anguilla:20270318T173000
DTSTAMP:20260422T185254
CREATED:20250927T084345Z
LAST-MODIFIED:20260420T144506Z
UID:100118500-1805383800-1805391000@sonestastmaarten.com
SUMMARY:Point Pool Snacks
DESCRIPTION:Light poolside refreshments served at The Point Pool during late afternoon hours.
URL:https://sonestastmaarten.com/event/point-pool-snacks/2027-03-18/
LOCATION:The Point Pool
CATEGORIES:OP Dining Hours
ATTACH;FMTTYPE=image/png:https://sonestastmaarten.com/wp-content/uploads/one-zero-poolbar.png
END:VEVENT
BEGIN:VEVENT
DTSTART;TZID=America/Anguilla:20270318T173000
DTEND;TZID=America/Anguilla:20270318T230000
DTSTAMP:20260422T185254
CREATED:20250928T163944Z
LAST-MODIFIED:20260420T144629Z
UID:100118654-1805391000-1805410800@sonestastmaarten.com
SUMMARY:Bluefin Bar
DESCRIPTION:Rooftop bar above Azul with front-row sunset views\, serving light bites and libations in an exclusive setting perfect for golden hour.
URL:https://sonestastmaarten.com/event/bluefin-bar-2/2027-03-18/
LOCATION:Bluefin Restaurant
CATEGORIES:OP Dining Hours
ATTACH;FMTTYPE=image/png:https://sonestastmaarten.com/wp-content/uploads/bluefin-logo.png
END:VEVENT
BEGIN:VEVENT
DTSTART;TZID=America/Anguilla:20270318T180000
DTEND;TZID=America/Anguilla:20270318T220000
DTSTAMP:20260422T185254
CREATED:20250927T083633Z
LAST-MODIFIED:20260420T144651Z
UID:100118814-1805392800-1805407200@sonestastmaarten.com
SUMMARY:Bluefin Restaurant
DESCRIPTION:Healthy poke-inspired dining featuring sustainably sourced fish with specialty and build-your-own bowls for a fresh dinner experience.
URL:https://sonestastmaarten.com/event/bluefin-restaurant/2027-03-18/
LOCATION:Bluefin Restaurant
CATEGORIES:OP Dining Hours
ATTACH;FMTTYPE=image/png:https://sonestastmaarten.com/wp-content/uploads/bluefin-logo.png
END:VEVENT
BEGIN:VEVENT
DTSTART;VALUE=DATE:20270319
DTEND;VALUE=DATE:20270321
DTSTAMP:20260422T185254
CREATED:20251023T074705Z
LAST-MODIFIED:20260402T143114Z
UID:100116312-1805418000-1805504399@sonestastmaarten.com
SUMMARY:Table Tennis
DESCRIPTION:Serve up some fun with ping pong! All equipment provided for competitive matches or casual rallies.
URL:https://sonestastmaarten.com/event/table-tennis-2/2027-03-19/
LOCATION:Outside Sonesta Kids Crew
CATEGORIES:Maho Beach Resort
ATTACH;FMTTYPE=image/jpeg:https://sonestastmaarten.com/wp-content/uploads/table-tennis.jpg
END:VEVENT
BEGIN:VEVENT
DTSTART;TZID=America/Anguilla:20270319T093000
DTEND;TZID=America/Anguilla:20270319T100000
DTSTAMP:20260422T185254
CREATED:20260103T194019Z
LAST-MODIFIED:20260412T160452Z
UID:100117697-1805448600-1805450400@sonestastmaarten.com
SUMMARY:Kickboxing
DESCRIPTION:Kickboxing is a high-energy workout that combines punches\, kicks\, and cardio to build strength\, speed\, and endurance.
URL:https://sonestastmaarten.com/event/vinyasa-yoga-2/2027-03-19/
LOCATION:The Waterfront Stage\, Sint Maarten
CATEGORIES:Maho Beach Resort,Ocean Point Resort
ATTACH;FMTTYPE=image/jpeg:https://sonestastmaarten.com/wp-content/uploads/2022/07/spa_hotel_11.jpg
END:VEVENT
END:VCALENDAR