BEGIN:VCALENDAR
VERSION:2.0
PRODID:-//Sonesta Resorts Sint Maarten - ECPv6.15.17.1//NONSGML v1.0//EN
CALSCALE:GREGORIAN
METHOD:PUBLISH
X-WR-CALNAME:Sonesta Resorts Sint Maarten
X-ORIGINAL-URL:https://sonestastmaarten.com
X-WR-CALDESC:Events for Sonesta Resorts Sint Maarten
REFRESH-INTERVAL;VALUE=DURATION:PT1H
X-Robots-Tag:noindex
X-PUBLISHED-TTL:PT1H
BEGIN:VTIMEZONE
TZID:America/Anguilla
BEGIN:STANDARD
TZOFFSETFROM:-0400
TZOFFSETTO:-0400
TZNAME:AST
DTSTART:20250101T000000
END:STANDARD
END:VTIMEZONE
BEGIN:VEVENT
DTSTART;TZID=America/Anguilla:20261202T093000
DTEND;TZID=America/Anguilla:20261202T100000
DTSTAMP:20260422T183632
CREATED:20251228T160505Z
LAST-MODIFIED:20260412T155842Z
UID:100117616-1796203800-1796205600@sonestastmaarten.com
SUMMARY:Boot Camp
DESCRIPTION:A boot camp gym is an intense group workout focused on strength\, cardio\, and discipline.
URL:https://sonestastmaarten.com/event/pilates/2026-12-02/
LOCATION:The Waterfront Stage\, Sint Maarten
CATEGORIES:Maho Beach Resort,Ocean Point Resort
ATTACH;FMTTYPE=image/jpeg:https://sonestastmaarten.com/wp-content/uploads/morning-walk.jpg
END:VEVENT
BEGIN:VEVENT
DTSTART;VALUE=DATE:20261202
DTEND;VALUE=DATE:20261204
DTSTAMP:20260422T183632
CREATED:20251104T162823Z
LAST-MODIFIED:20260205T192738Z
UID:100107218-1796173200-1796259599@sonestastmaarten.com
SUMMARY:24 Hour Room-Service
DESCRIPTION:All-day menu featuring salads\, pizzas\, sandwiches\, burgers\, and entrees including grilled chicken and pan-seared fish available for in-room dining.
URL:https://sonestastmaarten.com/event/24-hour-room-service/2026-12-02/
LOCATION:Room Service
CATEGORIES:OP Dining Hours
END:VEVENT
BEGIN:VEVENT
DTSTART;VALUE=DATE:20261202
DTEND;VALUE=DATE:20261204
DTSTAMP:20260422T183632
CREATED:20251023T074705Z
LAST-MODIFIED:20260402T143114Z
UID:100116205-1796173200-1796259599@sonestastmaarten.com
SUMMARY:Table Tennis
DESCRIPTION:Serve up some fun with ping pong! All equipment provided for competitive matches or casual rallies.
URL:https://sonestastmaarten.com/event/table-tennis-2/2026-12-02/
LOCATION:Outside Sonesta Kids Crew
CATEGORIES:Maho Beach Resort
ATTACH;FMTTYPE=image/jpeg:https://sonestastmaarten.com/wp-content/uploads/table-tennis.jpg
END:VEVENT
BEGIN:VEVENT
DTSTART;TZID=America/Anguilla:20261201T190000
DTEND;TZID=America/Anguilla:20261201T210000
DTSTAMP:20260422T183632
CREATED:20260116T185946Z
LAST-MODIFIED:20260326T151503Z
UID:100115452-1796151600-1796158800@sonestastmaarten.com
SUMMARY:Live Dinner Music with Alban The Guitarist
DESCRIPTION:Join us for a Dinner Music Performance that will serenade your senses and elevate your dining experience. Enjoy an unforgettable evening where cuisine and music dance in perfect harmony.
URL:https://sonestastmaarten.com/event/live-dinner-music-with-alban-the-guitarist-2/2026-12-01/
LOCATION:The Piazza at La Fontana
CATEGORIES:Maho Beach Resort,Ocean Point Resort
ATTACH;FMTTYPE=image/jpeg:https://sonestastmaarten.com/wp-content/uploads/MB_Entertainment-001.jpg
END:VEVENT
BEGIN:VEVENT
DTSTART;TZID=America/Anguilla:20261201T180000
DTEND;TZID=America/Anguilla:20261202T010000
DTSTAMP:20260422T183632
CREATED:20251110T174757Z
LAST-MODIFIED:20260205T195025Z
UID:100109081-1796148000-1796173200@sonestastmaarten.com
SUMMARY:The Village Tavern Bar
DESCRIPTION:Enjoy live entertainment and sports on big screens at our bar located upstairs in Maho Village. Late-night pub fare served from 10:00 PM – 12:30 AM.
URL:https://sonestastmaarten.com/event/the-village-tavern-bar/2026-12-01/
LOCATION:The Village Tavern\, Sint Maarten
CATEGORIES:MB Dining Hours
ATTACH;FMTTYPE=image/png:https://sonestastmaarten.com/wp-content/uploads/village_tavern.png
END:VEVENT
BEGIN:VEVENT
DTSTART;TZID=America/Anguilla:20261201T180000
DTEND;TZID=America/Anguilla:20261201T220000
DTSTAMP:20260422T183632
CREATED:20251112T205425Z
LAST-MODIFIED:20260205T194619Z
UID:100108524-1796148000-1796162400@sonestastmaarten.com
SUMMARY:Ocean Terrace (French Theme Dinner)
DESCRIPTION:Buffet dinner with tonight’s culinary theme French
URL:https://sonestastmaarten.com/event/ocean-terrace-french-theme-dinner/2026-12-01/
LOCATION:Ocean Terrace
CATEGORIES:MB Dining Hours
ATTACH;FMTTYPE=image/png:https://sonestastmaarten.com/wp-content/uploads/ocean-terrace.png
END:VEVENT
BEGIN:VEVENT
DTSTART;TZID=America/Anguilla:20261201T180000
DTEND;TZID=America/Anguilla:20261201T220000
DTSTAMP:20260422T183632
CREATED:20250927T083633Z
LAST-MODIFIED:20260420T144651Z
UID:100118768-1796148000-1796162400@sonestastmaarten.com
SUMMARY:Bluefin Restaurant
DESCRIPTION:Healthy poke-inspired dining featuring sustainably sourced fish with specialty and build-your-own bowls for a fresh dinner experience.
URL:https://sonestastmaarten.com/event/bluefin-restaurant/2026-12-01/
LOCATION:Bluefin Restaurant
CATEGORIES:OP Dining Hours
ATTACH;FMTTYPE=image/png:https://sonestastmaarten.com/wp-content/uploads/bluefin-logo.png
END:VEVENT
BEGIN:VEVENT
DTSTART;TZID=America/Anguilla:20261201T173000
DTEND;TZID=America/Anguilla:20261201T230000
DTSTAMP:20260422T183632
CREATED:20250928T163944Z
LAST-MODIFIED:20260420T144629Z
UID:100118608-1796146200-1796166000@sonestastmaarten.com
SUMMARY:Bluefin Bar
DESCRIPTION:Rooftop bar above Azul with front-row sunset views\, serving light bites and libations in an exclusive setting perfect for golden hour.
URL:https://sonestastmaarten.com/event/bluefin-bar-2/2026-12-01/
LOCATION:Bluefin Restaurant
CATEGORIES:OP Dining Hours
ATTACH;FMTTYPE=image/png:https://sonestastmaarten.com/wp-content/uploads/bluefin-logo.png
END:VEVENT
BEGIN:VEVENT
DTSTART;TZID=America/Anguilla:20261201T170000
DTEND;TZID=America/Anguilla:20261202T010000
DTSTAMP:20260422T183632
CREATED:20251110T181642Z
LAST-MODIFIED:20260205T192755Z
UID:100107591-1796144400-1796173200@sonestastmaarten.com
SUMMARY:The Cloud 9 Rooftop Experience
DESCRIPTION:Experience stunning Caribbean views and spectacular sunsets from the world’s best plane-spotting venue. Enjoy premium cocktails\, fine wines\, and spirits. Bar snacks served 5:30 PM – 12:30 AM.
URL:https://sonestastmaarten.com/event/the-cloud-9-rooftop-experience/2026-12-01/
LOCATION:Cloud 9
CATEGORIES:OP Dining Hours,Ultimate Dining Hours
ATTACH;FMTTYPE=image/png:https://sonestastmaarten.com/wp-content/uploads/Cloud9_Logo.png
END:VEVENT
BEGIN:VEVENT
DTSTART;TZID=America/Anguilla:20261201T153000
DTEND;TZID=America/Anguilla:20261201T173000
DTSTAMP:20260422T183632
CREATED:20250927T084345Z
LAST-MODIFIED:20260420T144506Z
UID:100118454-1796139000-1796146200@sonestastmaarten.com
SUMMARY:Point Pool Snacks
DESCRIPTION:Light poolside refreshments served at The Point Pool during late afternoon hours.
URL:https://sonestastmaarten.com/event/point-pool-snacks/2026-12-01/
LOCATION:The Point Pool
CATEGORIES:OP Dining Hours
ATTACH;FMTTYPE=image/png:https://sonestastmaarten.com/wp-content/uploads/one-zero-poolbar.png
END:VEVENT
BEGIN:VEVENT
DTSTART;TZID=America/Anguilla:20261201T150000
DTEND;TZID=America/Anguilla:20261201T170000
DTSTAMP:20260422T183632
CREATED:20251121T180608Z
LAST-MODIFIED:20260213T202953Z
UID:100110185-1796137200-1796144400@sonestastmaarten.com
SUMMARY:Poolside Live Music with Jojo
DESCRIPTION:Whether relaxing under the sun\, cocktail in hand\, or swimming in our pool\, our live music program featuring talented local musicians will fill your days with eclectic beats.
URL:https://sonestastmaarten.com/event/poolside-live-music-with-jojo-3-2/2026-12-01/
LOCATION:The Oasis Pool
CATEGORIES:Maho Beach Resort
ATTACH;FMTTYPE=image/jpeg:https://sonestastmaarten.com/wp-content/uploads/MB_Entertainment-001.jpg
END:VEVENT
BEGIN:VEVENT
DTSTART;TZID=America/Anguilla:20261201T140000
DTEND;TZID=America/Anguilla:20261201T180000
DTSTAMP:20260422T183632
CREATED:20251117T093638Z
LAST-MODIFIED:20260205T194202Z
UID:100108351-1796133600-1796148000@sonestastmaarten.com
SUMMARY:Oasis Snack Shack
DESCRIPTION:Freshly cooked burgers and hotdogs served hot and delicious at Oasis Snack Shack
URL:https://sonestastmaarten.com/event/oasis-snack-shack-2/2026-12-01/
LOCATION:The Oasis Pool
CATEGORIES:MB Dining Hours
END:VEVENT
BEGIN:VEVENT
DTSTART;TZID=America/Anguilla:20261201T110000
DTEND;TZID=America/Anguilla:20261201T113000
DTSTAMP:20260422T183632
CREATED:20260301T164826Z
LAST-MODIFIED:20260412T155718Z
UID:100116732-1796122800-1796124600@sonestastmaarten.com
SUMMARY:SunFit: Shallow Water Aerobics
DESCRIPTION:A low impact but high intensity water aerobics class where no swimming skills are needed. Improve flexibility\, strength\, and endurance while water resistance cushions joints\, all to motivating music.
URL:https://sonestastmaarten.com/event/sunfit-shallow-water-aerobics-5/2026-12-01/
LOCATION:The Point Pool
CATEGORIES:Ocean Point Resort
ATTACH;FMTTYPE=image/jpeg:https://sonestastmaarten.com/wp-content/uploads/OP_Pool_Point_2024_008.jpg
END:VEVENT
BEGIN:VEVENT
DTSTART;VALUE=DATE:20261201
DTEND;VALUE=DATE:20261203
DTSTAMP:20260422T183632
CREATED:20251104T162823Z
LAST-MODIFIED:20260205T192738Z
UID:100107217-1796086800-1796173199@sonestastmaarten.com
SUMMARY:24 Hour Room-Service
DESCRIPTION:All-day menu featuring salads\, pizzas\, sandwiches\, burgers\, and entrees including grilled chicken and pan-seared fish available for in-room dining.
URL:https://sonestastmaarten.com/event/24-hour-room-service/2026-12-01/
LOCATION:Room Service
CATEGORIES:OP Dining Hours
END:VEVENT
BEGIN:VEVENT
DTSTART;VALUE=DATE:20261201
DTEND;VALUE=DATE:20261203
DTSTAMP:20260422T183632
CREATED:20251023T074705Z
LAST-MODIFIED:20260402T143114Z
UID:100116204-1796086800-1796173199@sonestastmaarten.com
SUMMARY:Table Tennis
DESCRIPTION:Serve up some fun with ping pong! All equipment provided for competitive matches or casual rallies.
URL:https://sonestastmaarten.com/event/table-tennis-2/2026-12-01/
LOCATION:Outside Sonesta Kids Crew
CATEGORIES:Maho Beach Resort
ATTACH;FMTTYPE=image/jpeg:https://sonestastmaarten.com/wp-content/uploads/table-tennis.jpg
END:VEVENT
BEGIN:VEVENT
DTSTART;TZID=America/Anguilla:20261130T210000
DTEND;TZID=America/Anguilla:20261201T000000
DTSTAMP:20260422T183632
CREATED:20250821T161406Z
LAST-MODIFIED:20260205T192836Z
UID:100107717-1796072400-1796083200@sonestastmaarten.com
SUMMARY:Live Music with Gianfranco
DESCRIPTION:Enjoy live music with renditions of popular tunes featuring Sint Maarten’s talented musicians. With panoramic sea views\, this is a mesmerizing way to end your sun-filled days.
URL:https://sonestastmaarten.com/event/live-music-with-gianfranco/2026-11-30/
LOCATION:Cloud 9
CATEGORIES:Ocean Point Resort,Ultimate Club
ATTACH;FMTTYPE=image/jpeg:https://sonestastmaarten.com/wp-content/uploads/entertainment_casino_royale.jpg
END:VEVENT
BEGIN:VEVENT
DTSTART;TZID=America/Anguilla:20261130T180000
DTEND;TZID=America/Anguilla:20261201T010000
DTSTAMP:20260422T183632
CREATED:20251110T174757Z
LAST-MODIFIED:20260205T195025Z
UID:100109080-1796061600-1796086800@sonestastmaarten.com
SUMMARY:The Village Tavern Bar
DESCRIPTION:Enjoy live entertainment and sports on big screens at our bar located upstairs in Maho Village. Late-night pub fare served from 10:00 PM – 12:30 AM.
URL:https://sonestastmaarten.com/event/the-village-tavern-bar/2026-11-30/
LOCATION:The Village Tavern\, Sint Maarten
CATEGORIES:MB Dining Hours
ATTACH;FMTTYPE=image/png:https://sonestastmaarten.com/wp-content/uploads/village_tavern.png
END:VEVENT
BEGIN:VEVENT
DTSTART;TZID=America/Anguilla:20261130T180000
DTEND;TZID=America/Anguilla:20261130T220000
DTSTAMP:20260422T183632
CREATED:20260103T161601Z
LAST-MODIFIED:20260205T165516Z
UID:100106871-1796061600-1796076000@sonestastmaarten.com
SUMMARY:Jing's Kitchen
DESCRIPTION:Asian fare restaurant upstairs in Maho Village with hand-painted murals in a contemporary chic setting.
URL:https://sonestastmaarten.com/event/jings-kitchen-2/2026-11-30/
LOCATION:Jing’s Kitchen
CATEGORIES:MB Dining Hours
ATTACH;FMTTYPE=image/png:https://sonestastmaarten.com/wp-content/uploads/jings.png
END:VEVENT
BEGIN:VEVENT
DTSTART;TZID=America/Anguilla:20261130T180000
DTEND;TZID=America/Anguilla:20261130T220000
DTSTAMP:20260422T183632
CREATED:20251112T205237Z
LAST-MODIFIED:20260205T194605Z
UID:100108472-1796061600-1796076000@sonestastmaarten.com
SUMMARY:Ocean Terrace (European Theme Dinner)
DESCRIPTION:Buffet dinner with tonight’s culinary theme European!
URL:https://sonestastmaarten.com/event/ocean-terrace-european-theme-dinner/2026-11-30/
LOCATION:Ocean Terrace
CATEGORIES:MB Dining Hours
ATTACH;FMTTYPE=image/png:https://sonestastmaarten.com/wp-content/uploads/ocean-terrace.png
END:VEVENT
BEGIN:VEVENT
DTSTART;TZID=America/Anguilla:20261130T170000
DTEND;TZID=America/Anguilla:20261201T010000
DTSTAMP:20260422T183632
CREATED:20251110T181642Z
LAST-MODIFIED:20260205T192755Z
UID:100107590-1796058000-1796086800@sonestastmaarten.com
SUMMARY:The Cloud 9 Rooftop Experience
DESCRIPTION:Experience stunning Caribbean views and spectacular sunsets from the world’s best plane-spotting venue. Enjoy premium cocktails\, fine wines\, and spirits. Bar snacks served 5:30 PM – 12:30 AM.
URL:https://sonestastmaarten.com/event/the-cloud-9-rooftop-experience/2026-11-30/
LOCATION:Cloud 9
CATEGORIES:OP Dining Hours,Ultimate Dining Hours
ATTACH;FMTTYPE=image/png:https://sonestastmaarten.com/wp-content/uploads/Cloud9_Logo.png
END:VEVENT
BEGIN:VEVENT
DTSTART;TZID=America/Anguilla:20261130T150000
DTEND;TZID=America/Anguilla:20261130T170000
DTSTAMP:20260422T183632
CREATED:20251121T180619Z
LAST-MODIFIED:20260222T201932Z
UID:100111322-1796050800-1796058000@sonestastmaarten.com
SUMMARY:Poolside Steel Pan with Brendon
DESCRIPTION:Let the tropical rhythms wash over you poolside! Brendon brings authentic Caribbean steel pan music to life with captivating island beats that capture the true spirit of the Caribbean.
URL:https://sonestastmaarten.com/event/steel-pan-2/2026-11-30/
LOCATION:The Oasis Pool
CATEGORIES:Maho Beach Resort
ATTACH;FMTTYPE=image/jpeg:https://sonestastmaarten.com/wp-content/uploads/SXM_Entertainment_SteelPan.jpg
END:VEVENT
BEGIN:VEVENT
DTSTART;TZID=America/Anguilla:20261130T140000
DTEND;TZID=America/Anguilla:20261130T180000
DTSTAMP:20260422T183632
CREATED:20251117T093638Z
LAST-MODIFIED:20260205T194202Z
UID:100108350-1796047200-1796061600@sonestastmaarten.com
SUMMARY:Oasis Snack Shack
DESCRIPTION:Freshly cooked burgers and hotdogs served hot and delicious at Oasis Snack Shack
URL:https://sonestastmaarten.com/event/oasis-snack-shack-2/2026-11-30/
LOCATION:The Oasis Pool
CATEGORIES:MB Dining Hours
END:VEVENT
BEGIN:VEVENT
DTSTART;TZID=America/Anguilla:20261130T140000
DTEND;TZID=America/Anguilla:20261130T170000
DTSTAMP:20260422T183632
CREATED:20260103T161306Z
LAST-MODIFIED:20260320T155656Z
UID:100114272-1796047200-1796058000@sonestastmaarten.com
SUMMARY:Bluefin Bar & Light Bites
DESCRIPTION:Enjoy stunning ocean and sunset views from this bar located above Azul Restaurant. Light bites served 2:00 PM – 5:00 PM\, with libations available throughout – your perfect golden hour destination.
URL:https://sonestastmaarten.com/event/bluefin-bar-3/2026-11-30/
LOCATION:Bluefin Restaurant
CATEGORIES:OP Dining Hours
ATTACH;FMTTYPE=image/png:https://sonestastmaarten.com/wp-content/uploads/bluefin-logo.png
END:VEVENT
BEGIN:VEVENT
DTSTART;TZID=America/Anguilla:20261130T134500
DTEND;TZID=America/Anguilla:20261130T141500
DTSTAMP:20260422T183632
CREATED:20250825T153006Z
LAST-MODIFIED:20260420T145642Z
UID:100118978-1796046300-1796048100@sonestastmaarten.com
SUMMARY:Belly Flop Contest
DESCRIPTION:Make a splash and show off your biggest\, boldest belly flops! Compete for laughs\, cheers\, and ultimate bragging rights as judges score on style\, splash\, and crowd reaction.
URL:https://sonestastmaarten.com/event/belly-flop-contest/2026-11-30/
LOCATION:The Oasis Pool
CATEGORIES:Maho Beach Resort
ATTACH;FMTTYPE=image/jpeg:https://sonestastmaarten.com/wp-content/uploads/maho-beach-exterior-day.jpg
END:VEVENT
BEGIN:VEVENT
DTSTART;TZID=America/Anguilla:20261130T120000
DTEND;TZID=America/Anguilla:20261130T123000
DTSTAMP:20260422T183632
CREATED:20250825T145800Z
LAST-MODIFIED:20260420T145630Z
UID:100118926-1796040000-1796041800@sonestastmaarten.com
SUMMARY:Flip Cup Contest
DESCRIPTION:Join us for a high-energy Flip Cup Contest! Gather your friends\, test your speed and coordination\, and see who can flip their cup the fastest!
URL:https://sonestastmaarten.com/event/flip-cup-contest/2026-11-30/
LOCATION:The Oasis Pool
CATEGORIES:Maho Beach Resort
ATTACH;FMTTYPE=image/jpeg:https://sonestastmaarten.com/wp-content/uploads/oasis-pool.jpg
END:VEVENT
BEGIN:VEVENT
DTSTART;TZID=America/Anguilla:20261130T113000
DTEND;TZID=America/Anguilla:20261130T120000
DTSTAMP:20260422T183632
CREATED:20250819T123233Z
LAST-MODIFIED:20260420T145618Z
UID:100118874-1796038200-1796040000@sonestastmaarten.com
SUMMARY:Trivia Challenge: Sports & Superhero
DESCRIPTION:Test your knowledge with Sports & Superhero Trivia! From famous athletes to legendary heroes\, see if you have what it takes to claim the trivia crown.
URL:https://sonestastmaarten.com/event/trivia-challenge-sports-superhero/2026-11-30/
LOCATION:The Oasis Pool
CATEGORIES:Maho Beach Resort
ATTACH;FMTTYPE=image/jpeg:https://sonestastmaarten.com/wp-content/uploads/maho-beach-exterior-day.jpg
END:VEVENT
BEGIN:VEVENT
DTSTART;VALUE=DATE:20261130
DTEND;VALUE=DATE:20261202
DTSTAMP:20260422T183632
CREATED:20251104T162823Z
LAST-MODIFIED:20260205T192738Z
UID:100107216-1796000400-1796086799@sonestastmaarten.com
SUMMARY:24 Hour Room-Service
DESCRIPTION:All-day menu featuring salads\, pizzas\, sandwiches\, burgers\, and entrees including grilled chicken and pan-seared fish available for in-room dining.
URL:https://sonestastmaarten.com/event/24-hour-room-service/2026-11-30/
LOCATION:Room Service
CATEGORIES:OP Dining Hours
END:VEVENT
BEGIN:VEVENT
DTSTART;VALUE=DATE:20261130
DTEND;VALUE=DATE:20261202
DTSTAMP:20260422T183632
CREATED:20251023T074705Z
LAST-MODIFIED:20260402T143114Z
UID:100116203-1796000400-1796086799@sonestastmaarten.com
SUMMARY:Table Tennis
DESCRIPTION:Serve up some fun with ping pong! All equipment provided for competitive matches or casual rallies.
URL:https://sonestastmaarten.com/event/table-tennis-2/2026-11-30/
LOCATION:Outside Sonesta Kids Crew
CATEGORIES:Maho Beach Resort
ATTACH;FMTTYPE=image/jpeg:https://sonestastmaarten.com/wp-content/uploads/table-tennis.jpg
END:VEVENT
BEGIN:VEVENT
DTSTART;TZID=America/Anguilla:20261129T213000
DTEND;TZID=America/Anguilla:20261130T003000
DTSTAMP:20260422T183632
CREATED:20260209T135349Z
LAST-MODIFIED:20260307T191001Z
UID:100112674-1795987800-1795998600@sonestastmaarten.com
SUMMARY:Live Music with Rodrigo & Inger
DESCRIPTION:Serving satisfying a la carte pub fare in a relaxed setting\, join the fun with live music featuring talented local musicians as our bartenders keep the drinks flowing!
URL:https://sonestastmaarten.com/event/live-music-with-rodrigo-inger-3/2026-11-29/
LOCATION:The Village Tavern\, Sint Maarten
CATEGORIES:Maho Beach Resort,Ocean Point Resort
ATTACH;FMTTYPE=image/jpeg:https://sonestastmaarten.com/wp-content/uploads/entertainment_casino_royale.jpg
END:VEVENT
BEGIN:VEVENT
DTSTART;TZID=America/Anguilla:20261129T210000
DTEND;TZID=America/Anguilla:20261130T000000
DTSTAMP:20260422T183632
CREATED:20251115T165700Z
LAST-MODIFIED:20260205T193000Z
UID:100107976-1795986000-1795996800@sonestastmaarten.com
SUMMARY:Live Music with Jeremie
DESCRIPTION:Enjoy live music with renditions of popular tunes featuring Sint Maarten’s talented musicians. With panoramic sea views\, this is a mesmerizing way to end your sun-filled days.
URL:https://sonestastmaarten.com/event/live-music-with-jeremie/2026-11-29/
LOCATION:Cloud 9
CATEGORIES:Ocean Point Resort,Ultimate Club
ATTACH;FMTTYPE=image/jpeg:https://sonestastmaarten.com/wp-content/uploads/cloud9.jpg
END:VEVENT
END:VCALENDAR