BEGIN:VCALENDAR
VERSION:2.0
PRODID:-//Sonesta Resorts Sint Maarten - ECPv6.15.17.1//NONSGML v1.0//EN
CALSCALE:GREGORIAN
METHOD:PUBLISH
X-WR-CALNAME:Sonesta Resorts Sint Maarten
X-ORIGINAL-URL:https://sonestastmaarten.com
X-WR-CALDESC:Events for Sonesta Resorts Sint Maarten
REFRESH-INTERVAL;VALUE=DURATION:PT1H
X-Robots-Tag:noindex
X-PUBLISHED-TTL:PT1H
BEGIN:VTIMEZONE
TZID:America/Anguilla
BEGIN:STANDARD
TZOFFSETFROM:-0400
TZOFFSETTO:-0400
TZNAME:AST
DTSTART:20250101T000000
END:STANDARD
END:VTIMEZONE
BEGIN:VEVENT
DTSTART;TZID=America/Anguilla:20260510T213000
DTEND;TZID=America/Anguilla:20260511T003000
DTSTAMP:20260419T175206
CREATED:20260209T135349Z
LAST-MODIFIED:20260307T191001Z
UID:100112645-1778448600-1778459400@sonestastmaarten.com
SUMMARY:Live Music with Rodrigo & Inger
DESCRIPTION:Serving satisfying a la carte pub fare in a relaxed setting\, join the fun with live music featuring talented local musicians as our bartenders keep the drinks flowing!
URL:https://sonestastmaarten.com/event/live-music-with-rodrigo-inger-3/2026-05-10/
LOCATION:The Village Tavern\, Sint Maarten
CATEGORIES:Maho Beach Resort,Ocean Point Resort
ATTACH;FMTTYPE=image/jpeg:https://sonestastmaarten.com/wp-content/uploads/entertainment_casino_royale.jpg
END:VEVENT
BEGIN:VEVENT
DTSTART;VALUE=DATE:20260511
DTEND;VALUE=DATE:20260513
DTSTAMP:20260419T175206
CREATED:20251023T074705Z
LAST-MODIFIED:20260402T143114Z
UID:100116000-1778461200-1778547599@sonestastmaarten.com
SUMMARY:Table Tennis
DESCRIPTION:Serve up some fun with ping pong! All equipment provided for competitive matches or casual rallies.
URL:https://sonestastmaarten.com/event/table-tennis-2/2026-05-11/
LOCATION:Outside Sonesta Kids Crew
CATEGORIES:Maho Beach Resort
ATTACH;FMTTYPE=image/jpeg:https://sonestastmaarten.com/wp-content/uploads/table-tennis.jpg
END:VEVENT
BEGIN:VEVENT
DTSTART;VALUE=DATE:20260511
DTEND;VALUE=DATE:20260513
DTSTAMP:20260419T175206
CREATED:20251104T162823Z
LAST-MODIFIED:20260205T192738Z
UID:100107013-1778461200-1778547599@sonestastmaarten.com
SUMMARY:24 Hour Room-Service
DESCRIPTION:All-day menu featuring salads\, pizzas\, sandwiches\, burgers\, and entrees including grilled chicken and pan-seared fish available for in-room dining.
URL:https://sonestastmaarten.com/event/24-hour-room-service/2026-05-11/
LOCATION:Room Service
CATEGORIES:OP Dining Hours
END:VEVENT
BEGIN:VEVENT
DTSTART;VALUE=DATE:20260511
DTEND;VALUE=DATE:20260513
DTSTAMP:20260419T175206
CREATED:20251112T135317Z
LAST-MODIFIED:20251125T173147Z
UID:100117943-1778461200-1778547599@sonestastmaarten.com
SUMMARY:The Ultimate Club Lounge Coffee Shop
DESCRIPTION:Open 24/7 for your convenience! Grab fresh pastries\, healthy snacks\, sandwiches\, fruit\, and premium coffee drinks whenever you need a quick pick-me-up.
URL:https://sonestastmaarten.com/event/ultimate-coffee-shop-2/2026-05-11/
LOCATION:Ultimate Club Lounge
CATEGORIES:Ultimate Dining Hours
ATTACH;FMTTYPE=image/png:https://sonestastmaarten.com/wp-content/uploads/ultimate-club-lounge.png
END:VEVENT
BEGIN:VEVENT
DTSTART;TZID=America/Anguilla:20260511T060000
DTEND;TZID=America/Anguilla:20260511T210000
DTSTAMP:20260419T175206
CREATED:20251112T195855Z
LAST-MODIFIED:20251112T195855Z
UID:100117947-1778479200-1778533200@sonestastmaarten.com
SUMMARY:Fitness Center
DESCRIPTION:
URL:https://sonestastmaarten.com/event/fitness-center/2026-05-11/
CATEGORIES:Venue Hours
END:VEVENT
BEGIN:VEVENT
DTSTART;TZID=America/Anguilla:20260511T070000
DTEND;TZID=America/Anguilla:20260511T110000
DTSTAMP:20260419T175206
CREATED:20250927T075923Z
LAST-MODIFIED:20251219T173214Z
UID:100117955-1778482800-1778497200@sonestastmaarten.com
SUMMARY:Ocean Terrace (Breakfast)
DESCRIPTION:Buffet breakfast with hot and cold dishes\, fresh fruits\, and a made-to-order omelet station.
URL:https://sonestastmaarten.com/event/ocean-terrace/2026-05-11/
LOCATION:Ocean Terrace
CATEGORIES:MB Dining Hours
ATTACH;FMTTYPE=image/png:https://sonestastmaarten.com/wp-content/uploads/ocean-terrace.png
END:VEVENT
BEGIN:VEVENT
DTSTART;TZID=America/Anguilla:20260511T070000
DTEND;TZID=America/Anguilla:20260511T110000
DTSTAMP:20260419T175206
CREATED:20250927T080233Z
LAST-MODIFIED:20260119T154553Z
UID:100117959-1778482800-1778497200@sonestastmaarten.com
SUMMARY:Azul Restaurant (Breakfast)
DESCRIPTION:Signature fine dining restaurant perched on a cliff overlooking Maho Bay\, serving breakfast with both buffet and à la carte options featuring Mediterranean-inspired cuisine.
URL:https://sonestastmaarten.com/event/azul-restaurant/2026-05-11/
LOCATION:The Azul Restaurant
CATEGORIES:OP Dining Hours
ATTACH;FMTTYPE=image/png:https://sonestastmaarten.com/wp-content/uploads/azul-restaurant.png
END:VEVENT
BEGIN:VEVENT
DTSTART;TZID=America/Anguilla:20260511T070000
DTEND;TZID=America/Anguilla:20260511T110000
DTSTAMP:20260419T175206
CREATED:20250927T080501Z
LAST-MODIFIED:20251219T180943Z
UID:100117951-1778482800-1778497200@sonestastmaarten.com
SUMMARY:Room Service (Breakfast)
DESCRIPTION:In-room breakfast dining service with a selection of morning favorites.
URL:https://sonestastmaarten.com/event/room-service/2026-05-11/
LOCATION:Room Service
CATEGORIES:OP Dining Hours
END:VEVENT
BEGIN:VEVENT
DTSTART;TZID=America/Anguilla:20260511T070000
DTEND;TZID=America/Anguilla:20260511T190000
DTSTAMP:20260419T175206
CREATED:20250927T085420Z
LAST-MODIFIED:20251219T173229Z
UID:100117963-1778482800-1778526000@sonestastmaarten.com
SUMMARY:Maho Café
DESCRIPTION:Charming all-day café in the lobby with coffees\, herbal teas\, fresh pastries\, and sandwiches.
URL:https://sonestastmaarten.com/event/maho-cafe/2026-05-11/
LOCATION:Maho Cafe
CATEGORIES:MB Dining Hours
ATTACH;FMTTYPE=image/png:https://sonestastmaarten.com/wp-content/uploads/maho-cafe.png
END:VEVENT
BEGIN:VEVENT
DTSTART;TZID=America/Anguilla:20260511T070000
DTEND;TZID=America/Anguilla:20260511T230000
DTSTAMP:20260419T175206
CREATED:20250928T161748Z
LAST-MODIFIED:20251219T180947Z
UID:100117967-1778482800-1778540400@sonestastmaarten.com
SUMMARY:Carmens Café
DESCRIPTION:Small lobby cafe at Martin’s Bar serving light bites\, snacks\, and beverages.
URL:https://sonestastmaarten.com/event/carmens-cafe/2026-05-11/
LOCATION:Martin’s Bar
CATEGORIES:OP Dining Hours
ATTACH;FMTTYPE=image/png:https://sonestastmaarten.com/wp-content/uploads/martins-bar.png
END:VEVENT
BEGIN:VEVENT
DTSTART;TZID=America/Anguilla:20260511T080000
DTEND;TZID=America/Anguilla:20260511T170000
DTSTAMP:20260419T175206
CREATED:20251112T201203Z
LAST-MODIFIED:20251112T201203Z
UID:100117970-1778486400-1778518800@sonestastmaarten.com
SUMMARY:Waterslides
DESCRIPTION:
URL:https://sonestastmaarten.com/event/waterslides-4/2026-05-11/
CATEGORIES:Venue Hours
END:VEVENT
BEGIN:VEVENT
DTSTART;TZID=America/Anguilla:20260511T080000
DTEND;TZID=America/Anguilla:20260511T200000
DTSTAMP:20260419T175206
CREATED:20251112T203225Z
LAST-MODIFIED:20251112T203225Z
UID:100117973-1778486400-1778529600@sonestastmaarten.com
SUMMARY:Tour Desk
DESCRIPTION:
URL:https://sonestastmaarten.com/event/tour-desk/2026-05-11/
CATEGORIES:Venue Hours
END:VEVENT
BEGIN:VEVENT
DTSTART;TZID=America/Anguilla:20260511T090000
DTEND;TZID=America/Anguilla:20260511T120000
DTSTAMP:20260419T175206
CREATED:20250819T173959Z
LAST-MODIFIED:20251028T152245Z
UID:100117976-1778490000-1778500800@sonestastmaarten.com
SUMMARY:Pickleball & Padel
DESCRIPTION:Pickleball and Padel courts are FREE to Sonesta guests based on availability between 9AM and 12PM. Equipment rental available on site for a fee.
URL:https://sonestastmaarten.com/event/pickleball-padel-2/2026-05-11/
LOCATION:BE Sports Club\, Amazone Road #2\, Maho Village\, Sint Maarten
CATEGORIES:Maho Beach Resort,Ocean Point Resort
ATTACH;FMTTYPE=image/jpeg:https://sonestastmaarten.com/wp-content/uploads/picklball_padel.jpg
END:VEVENT
BEGIN:VEVENT
DTSTART;TZID=America/Anguilla:20260511T090000
DTEND;TZID=America/Anguilla:20260511T180000
DTSTAMP:20260419T175206
CREATED:20251112T195946Z
LAST-MODIFIED:20251112T195946Z
UID:100117979-1778490000-1778522400@sonestastmaarten.com
SUMMARY:Serenity Spa
DESCRIPTION:
URL:https://sonestastmaarten.com/event/serenity-spa/2026-05-11/
CATEGORIES:Venue Hours
END:VEVENT
BEGIN:VEVENT
DTSTART;TZID=America/Anguilla:20260511T093000
DTEND;TZID=America/Anguilla:20260511T100000
DTSTAMP:20260419T175206
CREATED:20260412T160050Z
LAST-MODIFIED:20260412T160919Z
UID:100117399-1778491800-1778493600@sonestastmaarten.com
SUMMARY:Sunfit: HIIT Workout
DESCRIPTION:This high-intensity interval training will have you give all-out\, one hundred percent effort through quick\, intense bursts of exercise\, followed by short recovery periods. Great for those looking for a short intense workout.
URL:https://sonestastmaarten.com/event/sunfit-pilates-2-2/2026-05-11/
LOCATION:The Waterfront Stage\, Sint Maarten
CATEGORIES:Maho Beach Resort,Ocean Point Resort
ATTACH;FMTTYPE=image/jpeg:https://sonestastmaarten.com/wp-content/uploads/morning-walk.jpg
END:VEVENT
BEGIN:VEVENT
DTSTART;TZID=America/Anguilla:20260511T100000
DTEND;TZID=America/Anguilla:20260511T120000
DTSTAMP:20260419T175206
CREATED:20250819T163813Z
LAST-MODIFIED:20260210T152229Z
UID:100117983-1778493600-1778500800@sonestastmaarten.com
SUMMARY:Sonesta Kids Crew
DESCRIPTION:The Sonesta Kids Crew welcomes children ages 3–12 for exciting group activities! Join our energetic Sonesta Kids Crew for scavenger hunts\, dance routines\, resort safaris\, puzzles\, and more.
URL:https://sonestastmaarten.com/event/beach-house-kids-club/2026-05-11/
LOCATION:The Beach House
CATEGORIES:Maho Beach Resort
ATTACH;FMTTYPE=image/jpeg:https://sonestastmaarten.com/wp-content/uploads/kids-club-at-maho-beach.jpg
END:VEVENT
BEGIN:VEVENT
DTSTART;TZID=America/Anguilla:20260511T100000
DTEND;TZID=America/Anguilla:20260511T170000
DTSTAMP:20260419T175206
CREATED:20250819T141349Z
LAST-MODIFIED:20251028T153457Z
UID:100117987-1778493600-1778518800@sonestastmaarten.com
SUMMARY:Oasis Pool Waterslides
DESCRIPTION:Get ready to splash! Our two exciting waterslides offer thrilling fun for guests ages 17 and under who are between 40″/100 cm and 67″/170 cm tall.
URL:https://sonestastmaarten.com/event/waterslides/2026-05-11/
LOCATION:The Oasis Pool
CATEGORIES:Maho Beach Resort
ATTACH;FMTTYPE=image/jpeg:https://sonestastmaarten.com/wp-content/uploads/MB_Pools_Oasis_Waterslides_Kidspool.jpg
END:VEVENT
BEGIN:VEVENT
DTSTART;TZID=America/Anguilla:20260511T100000
DTEND;TZID=America/Anguilla:20260511T180000
DTSTAMP:20260419T175206
CREATED:20250821T154559Z
LAST-MODIFIED:20251110T123422Z
UID:100118001-1778493600-1778522400@sonestastmaarten.com
SUMMARY:Bean Bag Toss Freeplay
DESCRIPTION:Enjoy this relaxing yet competitive game where you toss bean bags at a target board. Score points for accuracy and challenge other guests to a match!
URL:https://sonestastmaarten.com/event/poolside-cornhole/2026-05-11/
LOCATION:The Point Pool
CATEGORIES:Ocean Point Resort
ATTACH;FMTTYPE=image/jpeg:https://sonestastmaarten.com/wp-content/uploads/point-pool.jpg
END:VEVENT
BEGIN:VEVENT
DTSTART;TZID=America/Anguilla:20260511T100000
DTEND;TZID=America/Anguilla:20260511T180000
DTSTAMP:20260419T175206
CREATED:20250928T162047Z
LAST-MODIFIED:20251219T173248Z
UID:100118005-1778493600-1778522400@sonestastmaarten.com
SUMMARY:Oasis Pool Bar
DESCRIPTION:Swim-up bar at the signature pool with live entertainment and Teeny Tiki kids’ service area.
URL:https://sonestastmaarten.com/event/oasis-pool-bar/2026-05-11/
LOCATION:The Oasis Pool
CATEGORIES:MB Dining Hours
ATTACH;FMTTYPE=image/png:https://sonestastmaarten.com/wp-content/uploads/oasis-swim-up-bar.png
END:VEVENT
BEGIN:VEVENT
DTSTART;TZID=America/Anguilla:20260511T100000
DTEND;TZID=America/Anguilla:20260511T180000
DTSTAMP:20260419T175206
CREATED:20250928T162214Z
LAST-MODIFIED:20260320T155627Z
UID:100117993-1778493600-1778522400@sonestastmaarten.com
SUMMARY:One Zero Pool Bar
DESCRIPTION:Pool bar at The Point Pool facing famous Maho Beach\, serving poolside cocktails with front-row views of iconic plane landings on Runway 10.
URL:https://sonestastmaarten.com/event/one-zero-pool-bar/2026-05-11/
LOCATION:The Point Pool
CATEGORIES:OP Dining Hours
ATTACH;FMTTYPE=image/png:https://sonestastmaarten.com/wp-content/uploads/one-zero-poolbar.png
END:VEVENT
BEGIN:VEVENT
DTSTART;TZID=America/Anguilla:20260511T100000
DTEND;TZID=America/Anguilla:20260511T230000
DTSTAMP:20260419T175206
CREATED:20250928T161914Z
LAST-MODIFIED:20251219T180958Z
UID:100118013-1778493600-1778540400@sonestastmaarten.com
SUMMARY:Martin's Bar
DESCRIPTION:Chic lobby bar with contemporary Caribbean design\, serving coffee\, tea\, cocktails\, and light refreshments throughout the day in a convivial atmosphere.
URL:https://sonestastmaarten.com/event/martins-bar/2026-05-11/
LOCATION:Martin’s Bar
CATEGORIES:OP Dining Hours
ATTACH;FMTTYPE=image/png:https://sonestastmaarten.com/wp-content/uploads/martins-bar.png
END:VEVENT
BEGIN:VEVENT
DTSTART;TZID=America/Anguilla:20260511T100000
DTEND;TZID=America/Anguilla:20260511T230000
DTSTAMP:20260419T175206
CREATED:20250928T162828Z
LAST-MODIFIED:20260103T161936Z
UID:100118009-1778493600-1778540400@sonestastmaarten.com
SUMMARY:The Palms Grill Bar
DESCRIPTION:Oceanfront bar adjacent to the beach and Waterfront Stage serving Caribbean cocktails\, beers\, wines\, and soft drinks.
URL:https://sonestastmaarten.com/event/the-palms-grill-bar/2026-05-11/
LOCATION:Palms Grill
CATEGORIES:MB Dining Hours
ATTACH;FMTTYPE=image/png:https://sonestastmaarten.com/wp-content/uploads/the-palms-grill.png
END:VEVENT
BEGIN:VEVENT
DTSTART;TZID=America/Anguilla:20260511T100000
DTEND;TZID=America/Anguilla:20260512T010000
DTSTAMP:20260419T175206
CREATED:20250928T162547Z
LAST-MODIFIED:20251219T173311Z
UID:100118017-1778493600-1778547600@sonestastmaarten.com
SUMMARY:Latitude Bar
DESCRIPTION:Lobby bar with live entertainment\, sports on big screens\, and slot machines for 24-hour gaming.
URL:https://sonestastmaarten.com/event/latitude-bar/2026-05-11/
LOCATION:The Latitude Lobby Bar\, Maho Beach Lobby
CATEGORIES:MB Dining Hours
ATTACH;FMTTYPE=image/png:https://sonestastmaarten.com/wp-content/uploads/latitude-bar.png
END:VEVENT
BEGIN:VEVENT
DTSTART;TZID=America/Anguilla:20260511T103000
DTEND;TZID=America/Anguilla:20260511T111500
DTSTAMP:20260419T175206
CREATED:20250902T164230Z
LAST-MODIFIED:20260412T160312Z
UID:100117633-1778495400-1778498100@sonestastmaarten.com
SUMMARY:SunFit: Shallow Water Aerobics
DESCRIPTION:A low impact but high intensity water aerobics class where no swimming skills are needed. Improve flexibility\, strength\, and endurance while water resistance cushions joints\, all to motivating music.
URL:https://sonestastmaarten.com/event/water-aerobics-2-2/2026-05-11/
LOCATION:The Oasis Pool
CATEGORIES:Maho Beach Resort,Ocean Point Resort
ATTACH;FMTTYPE=image/jpeg:https://sonestastmaarten.com/wp-content/uploads/oasis-pool.jpg
END:VEVENT
BEGIN:VEVENT
DTSTART;TZID=America/Anguilla:20260511T113000
DTEND;TZID=America/Anguilla:20260511T223000
DTSTAMP:20260419T175206
CREATED:20250927T090536Z
LAST-MODIFIED:20251219T173318Z
UID:100118021-1778499000-1778538600@sonestastmaarten.com
SUMMARY:Pizzeria Napoli
DESCRIPTION:Handcrafted\, made-to-order pizza slices hot from a traditional oven with fresh ingredients throughout the day.
URL:https://sonestastmaarten.com/event/pizzeria-napoli/2026-05-11/
LOCATION:Pizzeria Napoli
CATEGORIES:MB Dining Hours
ATTACH;FMTTYPE=image/png:https://sonestastmaarten.com/wp-content/uploads/pizzeria-napoli.png
END:VEVENT
BEGIN:VEVENT
DTSTART;TZID=America/Anguilla:20260511T120000
DTEND;TZID=America/Anguilla:20260511T143000
DTSTAMP:20260419T175206
CREATED:20250927T081418Z
LAST-MODIFIED:20251219T180959Z
UID:100118024-1778500800-1778509800@sonestastmaarten.com
SUMMARY:Azul Restaurant (Lunch)
DESCRIPTION:Fine dining experience with a multi-course menu featuring starters\, main courses\, and desserts with Mediterranean-inspired cuisine and seasonal ingredients.
URL:https://sonestastmaarten.com/event/azul-restaurant-2/2026-05-11/
LOCATION:The Azul Restaurant
CATEGORIES:OP Dining Hours
ATTACH;FMTTYPE=image/png:https://sonestastmaarten.com/wp-content/uploads/azul-restaurant.png
END:VEVENT
BEGIN:VEVENT
DTSTART;TZID=America/Anguilla:20260511T120000
DTEND;TZID=America/Anguilla:20260511T160000
DTSTAMP:20260419T175206
CREATED:20250927T081051Z
LAST-MODIFIED:20260103T161919Z
UID:100118028-1778500800-1778515200@sonestastmaarten.com
SUMMARY:Palms Grill (Lunch)
DESCRIPTION:Oceanfront lunch with Caribbean grill specialties including jerk chicken\, BBQ ribs\, fresh catch of the day\, burgers\, and made-to-order pasta.
URL:https://sonestastmaarten.com/event/palms-grill/2026-05-11/
LOCATION:Palms Grill
CATEGORIES:MB Dining Hours
ATTACH;FMTTYPE=image/png:https://sonestastmaarten.com/wp-content/uploads/the-palms-grill.png
END:VEVENT
BEGIN:VEVENT
DTSTART;TZID=America/Anguilla:20260511T123000
DTEND;TZID=America/Anguilla:20260511T150000
DTSTAMP:20260419T175206
CREATED:20250927T080903Z
LAST-MODIFIED:20260103T161858Z
UID:100118032-1778502600-1778511600@sonestastmaarten.com
SUMMARY:Ocean Terrace (Lunch)
DESCRIPTION:Buffet lunch featuring soups\, salads\, a made-to-order pasta station\, and varied international options.
URL:https://sonestastmaarten.com/event/ocean-terrace-2/2026-05-11/
LOCATION:Ocean Terrace
CATEGORIES:MB Dining Hours
ATTACH;FMTTYPE=image/png:https://sonestastmaarten.com/wp-content/uploads/ocean-terrace.png
END:VEVENT
BEGIN:VEVENT
DTSTART;TZID=America/Anguilla:20260511T130000
DTEND;TZID=America/Anguilla:20260511T180000
DTSTAMP:20260419T175206
CREATED:20250819T164419Z
LAST-MODIFIED:20260210T152242Z
UID:100118036-1778504400-1778522400@sonestastmaarten.com
SUMMARY:Sonesta Kids Crew
DESCRIPTION:The Sonesta Kids Crew welcomes children ages 3–12 for exciting group activities! Join our energetic Sonesta Kids Crew for scavenger hunts\, dance routines\, resort safaris\, puzzles\, and more.
URL:https://sonestastmaarten.com/event/beach-house-kids-club-2/2026-05-11/
LOCATION:The Beach House
CATEGORIES:Maho Beach Resort
ATTACH;FMTTYPE=image/jpeg:https://sonestastmaarten.com/wp-content/uploads/kids-club-at-maho-beach.jpg
END:VEVENT
BEGIN:VEVENT
DTSTART;TZID=America/Anguilla:20260511T140000
DTEND;TZID=America/Anguilla:20260511T160000
DTSTAMP:20260419T175206
CREATED:20250821T160724Z
LAST-MODIFIED:20260419T162955Z
UID:100118246-1778508000-1778515200@sonestastmaarten.com
SUMMARY:Poolside Live Music with Jeremie
DESCRIPTION:You know your vacation started when you’re shimmying to poolside vibes. Whether relaxing under the sun\, cocktail in hand\, or swimming in our glistening pool\, our live music program featuring talented local musicians of Sint Maarten
URL:https://sonestastmaarten.com/event/poolside-steel-pan-with-brendon-2-2/2026-05-11/
LOCATION:The Point Pool
CATEGORIES:Ocean Point Resort
ATTACH;FMTTYPE=image/jpeg:https://sonestastmaarten.com/wp-content/uploads/MB_Entertainment-001.jpg
END:VEVENT
END:VCALENDAR