BEGIN:VCALENDAR
VERSION:2.0
PRODID:-//Sonesta Resorts Sint Maarten - ECPv6.15.17.1//NONSGML v1.0//EN
CALSCALE:GREGORIAN
METHOD:PUBLISH
X-WR-CALNAME:Sonesta Resorts Sint Maarten
X-ORIGINAL-URL:https://sonestastmaarten.com
X-WR-CALDESC:Events for Sonesta Resorts Sint Maarten
REFRESH-INTERVAL;VALUE=DURATION:PT1H
X-Robots-Tag:noindex
X-PUBLISHED-TTL:PT1H
BEGIN:VTIMEZONE
TZID:America/Anguilla
BEGIN:STANDARD
TZOFFSETFROM:-0400
TZOFFSETTO:-0400
TZNAME:AST
DTSTART:20260101T000000
END:STANDARD
END:VTIMEZONE
BEGIN:VEVENT
DTSTART;TZID=America/Anguilla:20270308T113000
DTEND;TZID=America/Anguilla:20270308T120000
DTSTAMP:20260422T160917
CREATED:20250819T123233Z
LAST-MODIFIED:20260420T145618Z
UID:100118888-1804505400-1804507200@sonestastmaarten.com
SUMMARY:Trivia Challenge: Sports & Superhero
DESCRIPTION:Test your knowledge with Sports & Superhero Trivia! From famous athletes to legendary heroes\, see if you have what it takes to claim the trivia crown.
URL:https://sonestastmaarten.com/event/trivia-challenge-sports-superhero/2027-03-08/
LOCATION:The Oasis Pool
CATEGORIES:Maho Beach Resort
ATTACH;FMTTYPE=image/jpeg:https://sonestastmaarten.com/wp-content/uploads/maho-beach-exterior-day.jpg
END:VEVENT
BEGIN:VEVENT
DTSTART;TZID=America/Anguilla:20270308T120000
DTEND;TZID=America/Anguilla:20270308T123000
DTSTAMP:20260422T160917
CREATED:20250825T145800Z
LAST-MODIFIED:20260420T145630Z
UID:100118940-1804507200-1804509000@sonestastmaarten.com
SUMMARY:Flip Cup Contest
DESCRIPTION:Join us for a high-energy Flip Cup Contest! Gather your friends\, test your speed and coordination\, and see who can flip their cup the fastest!
URL:https://sonestastmaarten.com/event/flip-cup-contest/2027-03-08/
LOCATION:The Oasis Pool
CATEGORIES:Maho Beach Resort
ATTACH;FMTTYPE=image/jpeg:https://sonestastmaarten.com/wp-content/uploads/oasis-pool.jpg
END:VEVENT
BEGIN:VEVENT
DTSTART;TZID=America/Anguilla:20270308T134500
DTEND;TZID=America/Anguilla:20270308T141500
DTSTAMP:20260422T160917
CREATED:20250825T153006Z
LAST-MODIFIED:20260420T145642Z
UID:100118992-1804513500-1804515300@sonestastmaarten.com
SUMMARY:Belly Flop Contest
DESCRIPTION:Make a splash and show off your biggest\, boldest belly flops! Compete for laughs\, cheers\, and ultimate bragging rights as judges score on style\, splash\, and crowd reaction.
URL:https://sonestastmaarten.com/event/belly-flop-contest/2027-03-08/
LOCATION:The Oasis Pool
CATEGORIES:Maho Beach Resort
ATTACH;FMTTYPE=image/jpeg:https://sonestastmaarten.com/wp-content/uploads/maho-beach-exterior-day.jpg
END:VEVENT
BEGIN:VEVENT
DTSTART;TZID=America/Anguilla:20270308T140000
DTEND;TZID=America/Anguilla:20270308T170000
DTSTAMP:20260422T160917
CREATED:20260103T161306Z
LAST-MODIFIED:20260320T155656Z
UID:100114328-1804514400-1804525200@sonestastmaarten.com
SUMMARY:Bluefin Bar & Light Bites
DESCRIPTION:Enjoy stunning ocean and sunset views from this bar located above Azul Restaurant. Light bites served 2:00 PM – 5:00 PM\, with libations available throughout – your perfect golden hour destination.
URL:https://sonestastmaarten.com/event/bluefin-bar-3/2027-03-08/
LOCATION:Bluefin Restaurant
CATEGORIES:OP Dining Hours
ATTACH;FMTTYPE=image/png:https://sonestastmaarten.com/wp-content/uploads/bluefin-logo.png
END:VEVENT
BEGIN:VEVENT
DTSTART;VALUE=DATE:20270309
DTEND;VALUE=DATE:20270311
DTSTAMP:20260422T160917
CREATED:20251023T074705Z
LAST-MODIFIED:20260402T143114Z
UID:100116302-1804554000-1804640399@sonestastmaarten.com
SUMMARY:Table Tennis
DESCRIPTION:Serve up some fun with ping pong! All equipment provided for competitive matches or casual rallies.
URL:https://sonestastmaarten.com/event/table-tennis-2/2027-03-09/
LOCATION:Outside Sonesta Kids Crew
CATEGORIES:Maho Beach Resort
ATTACH;FMTTYPE=image/jpeg:https://sonestastmaarten.com/wp-content/uploads/table-tennis.jpg
END:VEVENT
BEGIN:VEVENT
DTSTART;TZID=America/Anguilla:20270309T110000
DTEND;TZID=America/Anguilla:20270309T113000
DTSTAMP:20260422T160917
CREATED:20260301T164826Z
LAST-MODIFIED:20260412T155718Z
UID:100116746-1804590000-1804591800@sonestastmaarten.com
SUMMARY:SunFit: Shallow Water Aerobics
DESCRIPTION:A low impact but high intensity water aerobics class where no swimming skills are needed. Improve flexibility\, strength\, and endurance while water resistance cushions joints\, all to motivating music.
URL:https://sonestastmaarten.com/event/sunfit-shallow-water-aerobics-5/2027-03-09/
LOCATION:The Point Pool
CATEGORIES:Ocean Point Resort
ATTACH;FMTTYPE=image/jpeg:https://sonestastmaarten.com/wp-content/uploads/OP_Pool_Point_2024_008.jpg
END:VEVENT
BEGIN:VEVENT
DTSTART;TZID=America/Anguilla:20270309T153000
DTEND;TZID=America/Anguilla:20270309T173000
DTSTAMP:20260422T160917
CREATED:20250927T084345Z
LAST-MODIFIED:20260420T144506Z
UID:100118496-1804606200-1804613400@sonestastmaarten.com
SUMMARY:Point Pool Snacks
DESCRIPTION:Light poolside refreshments served at The Point Pool during late afternoon hours.
URL:https://sonestastmaarten.com/event/point-pool-snacks/2027-03-09/
LOCATION:The Point Pool
CATEGORIES:OP Dining Hours
ATTACH;FMTTYPE=image/png:https://sonestastmaarten.com/wp-content/uploads/one-zero-poolbar.png
END:VEVENT
BEGIN:VEVENT
DTSTART;TZID=America/Anguilla:20270309T173000
DTEND;TZID=America/Anguilla:20270309T230000
DTSTAMP:20260422T160917
CREATED:20250928T163944Z
LAST-MODIFIED:20260420T144629Z
UID:100118650-1804613400-1804633200@sonestastmaarten.com
SUMMARY:Bluefin Bar
DESCRIPTION:Rooftop bar above Azul with front-row sunset views\, serving light bites and libations in an exclusive setting perfect for golden hour.
URL:https://sonestastmaarten.com/event/bluefin-bar-2/2027-03-09/
LOCATION:Bluefin Restaurant
CATEGORIES:OP Dining Hours
ATTACH;FMTTYPE=image/png:https://sonestastmaarten.com/wp-content/uploads/bluefin-logo.png
END:VEVENT
BEGIN:VEVENT
DTSTART;TZID=America/Anguilla:20270309T180000
DTEND;TZID=America/Anguilla:20270309T220000
DTSTAMP:20260422T160917
CREATED:20250927T083633Z
LAST-MODIFIED:20260420T144651Z
UID:100118810-1804615200-1804629600@sonestastmaarten.com
SUMMARY:Bluefin Restaurant
DESCRIPTION:Healthy poke-inspired dining featuring sustainably sourced fish with specialty and build-your-own bowls for a fresh dinner experience.
URL:https://sonestastmaarten.com/event/bluefin-restaurant/2027-03-09/
LOCATION:Bluefin Restaurant
CATEGORIES:OP Dining Hours
ATTACH;FMTTYPE=image/png:https://sonestastmaarten.com/wp-content/uploads/bluefin-logo.png
END:VEVENT
BEGIN:VEVENT
DTSTART;TZID=America/Anguilla:20270309T190000
DTEND;TZID=America/Anguilla:20270309T210000
DTSTAMP:20260422T160917
CREATED:20260116T185946Z
LAST-MODIFIED:20260326T151503Z
UID:100115466-1804618800-1804626000@sonestastmaarten.com
SUMMARY:Live Dinner Music with Alban The Guitarist
DESCRIPTION:Join us for a Dinner Music Performance that will serenade your senses and elevate your dining experience. Enjoy an unforgettable evening where cuisine and music dance in perfect harmony.
URL:https://sonestastmaarten.com/event/live-dinner-music-with-alban-the-guitarist-2/2027-03-09/
LOCATION:The Piazza at La Fontana
CATEGORIES:Maho Beach Resort,Ocean Point Resort
ATTACH;FMTTYPE=image/jpeg:https://sonestastmaarten.com/wp-content/uploads/MB_Entertainment-001.jpg
END:VEVENT
BEGIN:VEVENT
DTSTART;VALUE=DATE:20270310
DTEND;VALUE=DATE:20270312
DTSTAMP:20260422T160917
CREATED:20251023T074705Z
LAST-MODIFIED:20260402T143114Z
UID:100116303-1804640400-1804726799@sonestastmaarten.com
SUMMARY:Table Tennis
DESCRIPTION:Serve up some fun with ping pong! All equipment provided for competitive matches or casual rallies.
URL:https://sonestastmaarten.com/event/table-tennis-2/2027-03-10/
LOCATION:Outside Sonesta Kids Crew
CATEGORIES:Maho Beach Resort
ATTACH;FMTTYPE=image/jpeg:https://sonestastmaarten.com/wp-content/uploads/table-tennis.jpg
END:VEVENT
BEGIN:VEVENT
DTSTART;TZID=America/Anguilla:20270310T140000
DTEND;TZID=America/Anguilla:20270310T170000
DTSTAMP:20260422T160917
CREATED:20260103T161306Z
LAST-MODIFIED:20260320T155656Z
UID:100114329-1804687200-1804698000@sonestastmaarten.com
SUMMARY:Bluefin Bar & Light Bites
DESCRIPTION:Enjoy stunning ocean and sunset views from this bar located above Azul Restaurant. Light bites served 2:00 PM – 5:00 PM\, with libations available throughout – your perfect golden hour destination.
URL:https://sonestastmaarten.com/event/bluefin-bar-3/2027-03-10/
LOCATION:Bluefin Restaurant
CATEGORIES:OP Dining Hours
ATTACH;FMTTYPE=image/png:https://sonestastmaarten.com/wp-content/uploads/bluefin-logo.png
END:VEVENT
BEGIN:VEVENT
DTSTART;VALUE=DATE:20270311
DTEND;VALUE=DATE:20270313
DTSTAMP:20260422T160917
CREATED:20251023T074705Z
LAST-MODIFIED:20260402T143114Z
UID:100116304-1804726800-1804813199@sonestastmaarten.com
SUMMARY:Table Tennis
DESCRIPTION:Serve up some fun with ping pong! All equipment provided for competitive matches or casual rallies.
URL:https://sonestastmaarten.com/event/table-tennis-2/2027-03-11/
LOCATION:Outside Sonesta Kids Crew
CATEGORIES:Maho Beach Resort
ATTACH;FMTTYPE=image/jpeg:https://sonestastmaarten.com/wp-content/uploads/table-tennis.jpg
END:VEVENT
BEGIN:VEVENT
DTSTART;TZID=America/Anguilla:20270311T110000
DTEND;TZID=America/Anguilla:20270311T113000
DTSTAMP:20260422T160917
CREATED:20260301T164826Z
LAST-MODIFIED:20260412T155718Z
UID:100117511-1804762800-1804764600@sonestastmaarten.com
SUMMARY:SunFit: Shallow Water Aerobics
DESCRIPTION:A low impact but high intensity water aerobics class where no swimming skills are needed. Improve flexibility\, strength\, and endurance while water resistance cushions joints\, all to motivating music.
URL:https://sonestastmaarten.com/event/sunfit-shallow-water-aerobics-5/2027-03-11/
LOCATION:The Point Pool
CATEGORIES:Ocean Point Resort
ATTACH;FMTTYPE=image/jpeg:https://sonestastmaarten.com/wp-content/uploads/OP_Pool_Point_2024_008.jpg
END:VEVENT
BEGIN:VEVENT
DTSTART;TZID=America/Anguilla:20270311T113000
DTEND;TZID=America/Anguilla:20270311T120000
DTSTAMP:20260422T160917
CREATED:20251219T155414Z
LAST-MODIFIED:20260320T161458Z
UID:100114916-1804764600-1804766400@sonestastmaarten.com
SUMMARY:Trivia Challenge: 80's / 90's & 80's / 90's Movie Trivia
DESCRIPTION:A fun and interactive trivia experience featuring iconic movies and music from the 80s and 90s. Test your knowledge\, relive the classics\, and enjoy a nostalgic throwback to two unforgettable decades
URL:https://sonestastmaarten.com/event/name-that-tune-80-3/2027-03-11/
LOCATION:The Oasis Pool
CATEGORIES:Maho Beach Resort
ATTACH;FMTTYPE=image/jpeg:https://sonestastmaarten.com/wp-content/uploads/oasis-pool.jpg
END:VEVENT
BEGIN:VEVENT
DTSTART;TZID=America/Anguilla:20270311T120000
DTEND;TZID=America/Anguilla:20270311T123000
DTSTAMP:20260422T160917
CREATED:20251219T160844Z
LAST-MODIFIED:20260320T161521Z
UID:100114968-1804766400-1804768200@sonestastmaarten.com
SUMMARY:Name That Tune: 80's & 90's Music
DESCRIPTION:Think you know your 80s and 90s hits? Name That Tune challenges players to recognize iconic songs in seconds—sing along and relive the classics.
URL:https://sonestastmaarten.com/event/name-that-tune-80-2-2/2027-03-11/
LOCATION:The Oasis Pool
CATEGORIES:Maho Beach Resort
ATTACH;FMTTYPE=image/jpeg:https://sonestastmaarten.com/wp-content/uploads/maho-beach-exterior-day.jpg
END:VEVENT
BEGIN:VEVENT
DTSTART;TZID=America/Anguilla:20270311T143000
DTEND;TZID=America/Anguilla:20270311T150000
DTSTAMP:20260422T160917
CREATED:20260201T190212Z
LAST-MODIFIED:20260412T161519Z
UID:100117853-1804775400-1804777200@sonestastmaarten.com
SUMMARY:Throwback Line Dances
DESCRIPTION:A fun\, high-energy dance session featuring classic line dances from past decades. Easy to follow\, crowd-friendly\, and perfect for getting everyone on the dance floor
URL:https://sonestastmaarten.com/event/throwback-line-dances/2027-03-11/
LOCATION:The Oasis Pool
CATEGORIES:Maho Beach Resort
ATTACH;FMTTYPE=image/jpeg:https://sonestastmaarten.com/wp-content/uploads/maho-beach-exterior-day.jpg
END:VEVENT
BEGIN:VEVENT
DTSTART;TZID=America/Anguilla:20270311T153000
DTEND;TZID=America/Anguilla:20270311T173000
DTSTAMP:20260422T160917
CREATED:20250927T084345Z
LAST-MODIFIED:20260420T144506Z
UID:100118497-1804779000-1804786200@sonestastmaarten.com
SUMMARY:Point Pool Snacks
DESCRIPTION:Light poolside refreshments served at The Point Pool during late afternoon hours.
URL:https://sonestastmaarten.com/event/point-pool-snacks/2027-03-11/
LOCATION:The Point Pool
CATEGORIES:OP Dining Hours
ATTACH;FMTTYPE=image/png:https://sonestastmaarten.com/wp-content/uploads/one-zero-poolbar.png
END:VEVENT
BEGIN:VEVENT
DTSTART;TZID=America/Anguilla:20270311T173000
DTEND;TZID=America/Anguilla:20270311T230000
DTSTAMP:20260422T160917
CREATED:20250928T163944Z
LAST-MODIFIED:20260420T144629Z
UID:100118651-1804786200-1804806000@sonestastmaarten.com
SUMMARY:Bluefin Bar
DESCRIPTION:Rooftop bar above Azul with front-row sunset views\, serving light bites and libations in an exclusive setting perfect for golden hour.
URL:https://sonestastmaarten.com/event/bluefin-bar-2/2027-03-11/
LOCATION:Bluefin Restaurant
CATEGORIES:OP Dining Hours
ATTACH;FMTTYPE=image/png:https://sonestastmaarten.com/wp-content/uploads/bluefin-logo.png
END:VEVENT
BEGIN:VEVENT
DTSTART;TZID=America/Anguilla:20270311T180000
DTEND;TZID=America/Anguilla:20270311T220000
DTSTAMP:20260422T160917
CREATED:20250927T083633Z
LAST-MODIFIED:20260420T144651Z
UID:100118811-1804788000-1804802400@sonestastmaarten.com
SUMMARY:Bluefin Restaurant
DESCRIPTION:Healthy poke-inspired dining featuring sustainably sourced fish with specialty and build-your-own bowls for a fresh dinner experience.
URL:https://sonestastmaarten.com/event/bluefin-restaurant/2027-03-11/
LOCATION:Bluefin Restaurant
CATEGORIES:OP Dining Hours
ATTACH;FMTTYPE=image/png:https://sonestastmaarten.com/wp-content/uploads/bluefin-logo.png
END:VEVENT
BEGIN:VEVENT
DTSTART;VALUE=DATE:20270312
DTEND;VALUE=DATE:20270314
DTSTAMP:20260422T160917
CREATED:20251023T074705Z
LAST-MODIFIED:20260402T143114Z
UID:100116305-1804813200-1804899599@sonestastmaarten.com
SUMMARY:Table Tennis
DESCRIPTION:Serve up some fun with ping pong! All equipment provided for competitive matches or casual rallies.
URL:https://sonestastmaarten.com/event/table-tennis-2/2027-03-12/
LOCATION:Outside Sonesta Kids Crew
CATEGORIES:Maho Beach Resort
ATTACH;FMTTYPE=image/jpeg:https://sonestastmaarten.com/wp-content/uploads/table-tennis.jpg
END:VEVENT
BEGIN:VEVENT
DTSTART;TZID=America/Anguilla:20270312T093000
DTEND;TZID=America/Anguilla:20270312T100000
DTSTAMP:20260422T160917
CREATED:20260103T194019Z
LAST-MODIFIED:20260412T160452Z
UID:100117696-1804843800-1804845600@sonestastmaarten.com
SUMMARY:Kickboxing
DESCRIPTION:Kickboxing is a high-energy workout that combines punches\, kicks\, and cardio to build strength\, speed\, and endurance.
URL:https://sonestastmaarten.com/event/vinyasa-yoga-2/2027-03-12/
LOCATION:The Waterfront Stage\, Sint Maarten
CATEGORIES:Maho Beach Resort,Ocean Point Resort
ATTACH;FMTTYPE=image/jpeg:https://sonestastmaarten.com/wp-content/uploads/2022/07/spa_hotel_11.jpg
END:VEVENT
BEGIN:VEVENT
DTSTART;TZID=America/Anguilla:20270312T140000
DTEND;TZID=America/Anguilla:20270312T170000
DTSTAMP:20260422T160917
CREATED:20260103T161306Z
LAST-MODIFIED:20260320T155656Z
UID:100114330-1804860000-1804870800@sonestastmaarten.com
SUMMARY:Bluefin Bar & Light Bites
DESCRIPTION:Enjoy stunning ocean and sunset views from this bar located above Azul Restaurant. Light bites served 2:00 PM – 5:00 PM\, with libations available throughout – your perfect golden hour destination.
URL:https://sonestastmaarten.com/event/bluefin-bar-3/2027-03-12/
LOCATION:Bluefin Restaurant
CATEGORIES:OP Dining Hours
ATTACH;FMTTYPE=image/png:https://sonestastmaarten.com/wp-content/uploads/bluefin-logo.png
END:VEVENT
BEGIN:VEVENT
DTSTART;TZID=America/Anguilla:20270312T203000
DTEND;TZID=America/Anguilla:20270312T223000
DTSTAMP:20260422T160917
CREATED:20250819T113705Z
LAST-MODIFIED:20260412T161230Z
UID:100117746-1804883400-1804890600@sonestastmaarten.com
SUMMARY:White Hot Dance Party with DJ Spin
DESCRIPTION:Get ready for the ultimate all-white party under the stars! Dress to impress in your best white attire and dance the night away as DJ Spin brings the hottest beats.
URL:https://sonestastmaarten.com/event/dance-party/2027-03-12/
LOCATION:The Piazza at La Fontana
CATEGORIES:Maho Beach Resort,Ocean Point Resort
ATTACH;FMTTYPE=image/png:https://sonestastmaarten.com/wp-content/uploads/White-Hot-Dacne-Party.png
END:VEVENT
BEGIN:VEVENT
DTSTART;VALUE=DATE:20270313
DTEND;VALUE=DATE:20270315
DTSTAMP:20260422T160917
CREATED:20251023T074705Z
LAST-MODIFIED:20260402T143114Z
UID:100116306-1804899600-1804985999@sonestastmaarten.com
SUMMARY:Table Tennis
DESCRIPTION:Serve up some fun with ping pong! All equipment provided for competitive matches or casual rallies.
URL:https://sonestastmaarten.com/event/table-tennis-2/2027-03-13/
LOCATION:Outside Sonesta Kids Crew
CATEGORIES:Maho Beach Resort
ATTACH;FMTTYPE=image/jpeg:https://sonestastmaarten.com/wp-content/uploads/table-tennis.jpg
END:VEVENT
BEGIN:VEVENT
DTSTART;TZID=America/Anguilla:20270313T150000
DTEND;TZID=America/Anguilla:20270313T170000
DTSTAMP:20260422T160917
CREATED:20250820T163603Z
LAST-MODIFIED:20260320T161101Z
UID:100114858-1804950000-1804957200@sonestastmaarten.com
SUMMARY:Poolside Live Music with The Love Connection
DESCRIPTION:Whether relaxing under the sun\, cocktail in hand\, or swimming in our pool\, our live music program featuring talented local musicians will fill your days with eclectic beats.
URL:https://sonestastmaarten.com/event/live-music-with-love-connection/2027-03-13/
LOCATION:The Oasis Pool
CATEGORIES:Maho Beach Resort
ATTACH;FMTTYPE=image/jpeg:https://sonestastmaarten.com/wp-content/uploads/MB_Entertainment_2024_03.jpg
END:VEVENT
BEGIN:VEVENT
DTSTART;TZID=America/Anguilla:20270313T153000
DTEND;TZID=America/Anguilla:20270313T173000
DTSTAMP:20260422T160917
CREATED:20250927T084345Z
LAST-MODIFIED:20260420T144506Z
UID:100118498-1804951800-1804959000@sonestastmaarten.com
SUMMARY:Point Pool Snacks
DESCRIPTION:Light poolside refreshments served at The Point Pool during late afternoon hours.
URL:https://sonestastmaarten.com/event/point-pool-snacks/2027-03-13/
LOCATION:The Point Pool
CATEGORIES:OP Dining Hours
ATTACH;FMTTYPE=image/png:https://sonestastmaarten.com/wp-content/uploads/one-zero-poolbar.png
END:VEVENT
BEGIN:VEVENT
DTSTART;TZID=America/Anguilla:20270313T173000
DTEND;TZID=America/Anguilla:20270313T230000
DTSTAMP:20260422T160917
CREATED:20250928T163944Z
LAST-MODIFIED:20260420T144629Z
UID:100118652-1804959000-1804978800@sonestastmaarten.com
SUMMARY:Bluefin Bar
DESCRIPTION:Rooftop bar above Azul with front-row sunset views\, serving light bites and libations in an exclusive setting perfect for golden hour.
URL:https://sonestastmaarten.com/event/bluefin-bar-2/2027-03-13/
LOCATION:Bluefin Restaurant
CATEGORIES:OP Dining Hours
ATTACH;FMTTYPE=image/png:https://sonestastmaarten.com/wp-content/uploads/bluefin-logo.png
END:VEVENT
BEGIN:VEVENT
DTSTART;TZID=America/Anguilla:20270313T180000
DTEND;TZID=America/Anguilla:20270313T220000
DTSTAMP:20260422T160917
CREATED:20250927T083633Z
LAST-MODIFIED:20260420T144651Z
UID:100118812-1804960800-1804975200@sonestastmaarten.com
SUMMARY:Bluefin Restaurant
DESCRIPTION:Healthy poke-inspired dining featuring sustainably sourced fish with specialty and build-your-own bowls for a fresh dinner experience.
URL:https://sonestastmaarten.com/event/bluefin-restaurant/2027-03-13/
LOCATION:Bluefin Restaurant
CATEGORIES:OP Dining Hours
ATTACH;FMTTYPE=image/png:https://sonestastmaarten.com/wp-content/uploads/bluefin-logo.png
END:VEVENT
BEGIN:VEVENT
DTSTART;TZID=America/Anguilla:20270313T193000
DTEND;TZID=America/Anguilla:20270313T213000
DTSTAMP:20260422T160917
CREATED:20250904T120025Z
LAST-MODIFIED:20260320T161045Z
UID:100114804-1804966200-1804973400@sonestastmaarten.com
SUMMARY:Dinner Steel Pan with Brendon
DESCRIPTION:Let tropical rhythms enhance your dining experience! Brendon brings authentic Caribbean steel pan music to life with captivating island beats that capture the true spirit of the Caribbean while you enjoy your meal.
URL:https://sonestastmaarten.com/event/dinner-steel-pan-with-brendon/2027-03-13/
LOCATION:The Piazza at La Fontana
CATEGORIES:Maho Beach Resort,Ocean Point Resort
ATTACH;FMTTYPE=image/jpeg:https://sonestastmaarten.com/wp-content/uploads/SXM_Entertainment_SteelPan.jpg
END:VEVENT
END:VCALENDAR