BEGIN:VCALENDAR
VERSION:2.0
PRODID:-//Sonesta Resorts Sint Maarten - ECPv6.15.17.1//NONSGML v1.0//EN
CALSCALE:GREGORIAN
METHOD:PUBLISH
X-ORIGINAL-URL:https://sonestastmaarten.com
X-WR-CALDESC:Events for Sonesta Resorts Sint Maarten
REFRESH-INTERVAL;VALUE=DURATION:PT1H
X-Robots-Tag:noindex
X-PUBLISHED-TTL:PT1H
BEGIN:VTIMEZONE
TZID:America/Anguilla
BEGIN:STANDARD
TZOFFSETFROM:-0400
TZOFFSETTO:-0400
TZNAME:AST
DTSTART:20260101T000000
END:STANDARD
END:VTIMEZONE
BEGIN:VEVENT
DTSTART;TZID=America/Anguilla:20270321T210000
DTEND;TZID=America/Anguilla:20270321T230000
DTSTAMP:20260422T181817
CREATED:20250820T164819Z
LAST-MODIFIED:20260320T160906Z
UID:100114540-1805662800-1805670000@sonestastmaarten.com
SUMMARY:Karaoke Night with Ebony
DESCRIPTION:It’s your turn to be the singing sensation you always knew you could be! Join us at the Latitude Bar and sing your heart out with your host!
URL:https://sonestastmaarten.com/event/karaoke-night-with-ebony-2/2027-03-21/
LOCATION:The Latitude Lobby Bar\, Maho Beach Lobby
CATEGORIES:Maho Beach Resort,Ocean Point Resort
ATTACH;FMTTYPE=image/jpeg:https://sonestastmaarten.com/wp-content/uploads/Karaoke-lifestyle-Scpl-Stk.jpg
END:VEVENT
BEGIN:VEVENT
DTSTART;VALUE=DATE:20270322
DTEND;VALUE=DATE:20270324
DTSTAMP:20260422T181817
CREATED:20251023T074705Z
LAST-MODIFIED:20260402T143114Z
UID:100116315-1805677200-1805763599@sonestastmaarten.com
SUMMARY:Table Tennis
DESCRIPTION:Serve up some fun with ping pong! All equipment provided for competitive matches or casual rallies.
URL:https://sonestastmaarten.com/event/table-tennis-2/2027-03-22/
LOCATION:Outside Sonesta Kids Crew
CATEGORIES:Maho Beach Resort
ATTACH;FMTTYPE=image/jpeg:https://sonestastmaarten.com/wp-content/uploads/table-tennis.jpg
END:VEVENT
BEGIN:VEVENT
DTSTART;TZID=America/Anguilla:20270322T113000
DTEND;TZID=America/Anguilla:20270322T120000
DTSTAMP:20260422T181817
CREATED:20250819T123233Z
LAST-MODIFIED:20260420T145618Z
UID:100118890-1805715000-1805716800@sonestastmaarten.com
SUMMARY:Trivia Challenge: Sports & Superhero
DESCRIPTION:Test your knowledge with Sports & Superhero Trivia! From famous athletes to legendary heroes\, see if you have what it takes to claim the trivia crown.
URL:https://sonestastmaarten.com/event/trivia-challenge-sports-superhero/2027-03-22/
LOCATION:The Oasis Pool
CATEGORIES:Maho Beach Resort
ATTACH;FMTTYPE=image/jpeg:https://sonestastmaarten.com/wp-content/uploads/maho-beach-exterior-day.jpg
END:VEVENT
BEGIN:VEVENT
DTSTART;TZID=America/Anguilla:20270322T120000
DTEND;TZID=America/Anguilla:20270322T123000
DTSTAMP:20260422T181817
CREATED:20250825T145800Z
LAST-MODIFIED:20260420T145630Z
UID:100118942-1805716800-1805718600@sonestastmaarten.com
SUMMARY:Flip Cup Contest
DESCRIPTION:Join us for a high-energy Flip Cup Contest! Gather your friends\, test your speed and coordination\, and see who can flip their cup the fastest!
URL:https://sonestastmaarten.com/event/flip-cup-contest/2027-03-22/
LOCATION:The Oasis Pool
CATEGORIES:Maho Beach Resort
ATTACH;FMTTYPE=image/jpeg:https://sonestastmaarten.com/wp-content/uploads/oasis-pool.jpg
END:VEVENT
BEGIN:VEVENT
DTSTART;TZID=America/Anguilla:20270322T134500
DTEND;TZID=America/Anguilla:20270322T141500
DTSTAMP:20260422T181817
CREATED:20250825T153006Z
LAST-MODIFIED:20260420T145642Z
UID:100118994-1805723100-1805724900@sonestastmaarten.com
SUMMARY:Belly Flop Contest
DESCRIPTION:Make a splash and show off your biggest\, boldest belly flops! Compete for laughs\, cheers\, and ultimate bragging rights as judges score on style\, splash\, and crowd reaction.
URL:https://sonestastmaarten.com/event/belly-flop-contest/2027-03-22/
LOCATION:The Oasis Pool
CATEGORIES:Maho Beach Resort
ATTACH;FMTTYPE=image/jpeg:https://sonestastmaarten.com/wp-content/uploads/maho-beach-exterior-day.jpg
END:VEVENT
BEGIN:VEVENT
DTSTART;VALUE=DATE:20270323
DTEND;VALUE=DATE:20270325
DTSTAMP:20260422T181817
CREATED:20251023T074705Z
LAST-MODIFIED:20260402T143114Z
UID:100116316-1805763600-1805849999@sonestastmaarten.com
SUMMARY:Table Tennis
DESCRIPTION:Serve up some fun with ping pong! All equipment provided for competitive matches or casual rallies.
URL:https://sonestastmaarten.com/event/table-tennis-2/2027-03-23/
LOCATION:Outside Sonesta Kids Crew
CATEGORIES:Maho Beach Resort
ATTACH;FMTTYPE=image/jpeg:https://sonestastmaarten.com/wp-content/uploads/table-tennis.jpg
END:VEVENT
BEGIN:VEVENT
DTSTART;TZID=America/Anguilla:20270323T110000
DTEND;TZID=America/Anguilla:20270323T113000
DTSTAMP:20260422T181817
CREATED:20260301T164826Z
LAST-MODIFIED:20260412T155718Z
UID:100116748-1805799600-1805801400@sonestastmaarten.com
SUMMARY:SunFit: Shallow Water Aerobics
DESCRIPTION:A low impact but high intensity water aerobics class where no swimming skills are needed. Improve flexibility\, strength\, and endurance while water resistance cushions joints\, all to motivating music.
URL:https://sonestastmaarten.com/event/sunfit-shallow-water-aerobics-5/2027-03-23/
LOCATION:The Point Pool
CATEGORIES:Ocean Point Resort
ATTACH;FMTTYPE=image/jpeg:https://sonestastmaarten.com/wp-content/uploads/OP_Pool_Point_2024_008.jpg
END:VEVENT
BEGIN:VEVENT
DTSTART;TZID=America/Anguilla:20270323T153000
DTEND;TZID=America/Anguilla:20270323T173000
DTSTAMP:20260422T181817
CREATED:20250927T084345Z
LAST-MODIFIED:20260420T144506Z
UID:100118502-1805815800-1805823000@sonestastmaarten.com
SUMMARY:Point Pool Snacks
DESCRIPTION:Light poolside refreshments served at The Point Pool during late afternoon hours.
URL:https://sonestastmaarten.com/event/point-pool-snacks/2027-03-23/
LOCATION:The Point Pool
CATEGORIES:OP Dining Hours
ATTACH;FMTTYPE=image/png:https://sonestastmaarten.com/wp-content/uploads/one-zero-poolbar.png
END:VEVENT
BEGIN:VEVENT
DTSTART;TZID=America/Anguilla:20270323T173000
DTEND;TZID=America/Anguilla:20270323T230000
DTSTAMP:20260422T181817
CREATED:20250928T163944Z
LAST-MODIFIED:20260420T144629Z
UID:100118656-1805823000-1805842800@sonestastmaarten.com
SUMMARY:Bluefin Bar
DESCRIPTION:Rooftop bar above Azul with front-row sunset views\, serving light bites and libations in an exclusive setting perfect for golden hour.
URL:https://sonestastmaarten.com/event/bluefin-bar-2/2027-03-23/
LOCATION:Bluefin Restaurant
CATEGORIES:OP Dining Hours
ATTACH;FMTTYPE=image/png:https://sonestastmaarten.com/wp-content/uploads/bluefin-logo.png
END:VEVENT
BEGIN:VEVENT
DTSTART;TZID=America/Anguilla:20270323T180000
DTEND;TZID=America/Anguilla:20270323T220000
DTSTAMP:20260422T181817
CREATED:20250927T083633Z
LAST-MODIFIED:20260420T144651Z
UID:100118816-1805824800-1805839200@sonestastmaarten.com
SUMMARY:Bluefin Restaurant
DESCRIPTION:Healthy poke-inspired dining featuring sustainably sourced fish with specialty and build-your-own bowls for a fresh dinner experience.
URL:https://sonestastmaarten.com/event/bluefin-restaurant/2027-03-23/
LOCATION:Bluefin Restaurant
CATEGORIES:OP Dining Hours
ATTACH;FMTTYPE=image/png:https://sonestastmaarten.com/wp-content/uploads/bluefin-logo.png
END:VEVENT
BEGIN:VEVENT
DTSTART;TZID=America/Anguilla:20270323T190000
DTEND;TZID=America/Anguilla:20270323T210000
DTSTAMP:20260422T181817
CREATED:20260116T185946Z
LAST-MODIFIED:20260326T151503Z
UID:100115468-1805828400-1805835600@sonestastmaarten.com
SUMMARY:Live Dinner Music with Alban The Guitarist
DESCRIPTION:Join us for a Dinner Music Performance that will serenade your senses and elevate your dining experience. Enjoy an unforgettable evening where cuisine and music dance in perfect harmony.
URL:https://sonestastmaarten.com/event/live-dinner-music-with-alban-the-guitarist-2/2027-03-23/
LOCATION:The Piazza at La Fontana
CATEGORIES:Maho Beach Resort,Ocean Point Resort
ATTACH;FMTTYPE=image/jpeg:https://sonestastmaarten.com/wp-content/uploads/MB_Entertainment-001.jpg
END:VEVENT
BEGIN:VEVENT
DTSTART;VALUE=DATE:20270324
DTEND;VALUE=DATE:20270326
DTSTAMP:20260422T181817
CREATED:20251023T074705Z
LAST-MODIFIED:20260402T143114Z
UID:100116317-1805850000-1805936399@sonestastmaarten.com
SUMMARY:Table Tennis
DESCRIPTION:Serve up some fun with ping pong! All equipment provided for competitive matches or casual rallies.
URL:https://sonestastmaarten.com/event/table-tennis-2/2027-03-24/
LOCATION:Outside Sonesta Kids Crew
CATEGORIES:Maho Beach Resort
ATTACH;FMTTYPE=image/jpeg:https://sonestastmaarten.com/wp-content/uploads/table-tennis.jpg
END:VEVENT
BEGIN:VEVENT
DTSTART;VALUE=DATE:20270325
DTEND;VALUE=DATE:20270327
DTSTAMP:20260422T181817
CREATED:20251023T074705Z
LAST-MODIFIED:20260402T143114Z
UID:100116318-1805936400-1806022799@sonestastmaarten.com
SUMMARY:Table Tennis
DESCRIPTION:Serve up some fun with ping pong! All equipment provided for competitive matches or casual rallies.
URL:https://sonestastmaarten.com/event/table-tennis-2/2027-03-25/
LOCATION:Outside Sonesta Kids Crew
CATEGORIES:Maho Beach Resort
ATTACH;FMTTYPE=image/jpeg:https://sonestastmaarten.com/wp-content/uploads/table-tennis.jpg
END:VEVENT
BEGIN:VEVENT
DTSTART;TZID=America/Anguilla:20270325T110000
DTEND;TZID=America/Anguilla:20270325T113000
DTSTAMP:20260422T181817
CREATED:20260301T164826Z
LAST-MODIFIED:20260412T155718Z
UID:100117513-1805972400-1805974200@sonestastmaarten.com
SUMMARY:SunFit: Shallow Water Aerobics
DESCRIPTION:A low impact but high intensity water aerobics class where no swimming skills are needed. Improve flexibility\, strength\, and endurance while water resistance cushions joints\, all to motivating music.
URL:https://sonestastmaarten.com/event/sunfit-shallow-water-aerobics-5/2027-03-25/
LOCATION:The Point Pool
CATEGORIES:Ocean Point Resort
ATTACH;FMTTYPE=image/jpeg:https://sonestastmaarten.com/wp-content/uploads/OP_Pool_Point_2024_008.jpg
END:VEVENT
BEGIN:VEVENT
DTSTART;TZID=America/Anguilla:20270325T113000
DTEND;TZID=America/Anguilla:20270325T120000
DTSTAMP:20260422T181817
CREATED:20251219T155414Z
LAST-MODIFIED:20260320T161458Z
UID:100114918-1805974200-1805976000@sonestastmaarten.com
SUMMARY:Trivia Challenge: 80's / 90's & 80's / 90's Movie Trivia
DESCRIPTION:A fun and interactive trivia experience featuring iconic movies and music from the 80s and 90s. Test your knowledge\, relive the classics\, and enjoy a nostalgic throwback to two unforgettable decades
URL:https://sonestastmaarten.com/event/name-that-tune-80-3/2027-03-25/
LOCATION:The Oasis Pool
CATEGORIES:Maho Beach Resort
ATTACH;FMTTYPE=image/jpeg:https://sonestastmaarten.com/wp-content/uploads/oasis-pool.jpg
END:VEVENT
BEGIN:VEVENT
DTSTART;TZID=America/Anguilla:20270325T120000
DTEND;TZID=America/Anguilla:20270325T123000
DTSTAMP:20260422T181817
CREATED:20251219T160844Z
LAST-MODIFIED:20260320T161521Z
UID:100114970-1805976000-1805977800@sonestastmaarten.com
SUMMARY:Name That Tune: 80's & 90's Music
DESCRIPTION:Think you know your 80s and 90s hits? Name That Tune challenges players to recognize iconic songs in seconds—sing along and relive the classics.
URL:https://sonestastmaarten.com/event/name-that-tune-80-2-2/2027-03-25/
LOCATION:The Oasis Pool
CATEGORIES:Maho Beach Resort
ATTACH;FMTTYPE=image/jpeg:https://sonestastmaarten.com/wp-content/uploads/maho-beach-exterior-day.jpg
END:VEVENT
BEGIN:VEVENT
DTSTART;TZID=America/Anguilla:20270325T143000
DTEND;TZID=America/Anguilla:20270325T150000
DTSTAMP:20260422T181817
CREATED:20260201T190212Z
LAST-MODIFIED:20260412T161519Z
UID:100117855-1805985000-1805986800@sonestastmaarten.com
SUMMARY:Throwback Line Dances
DESCRIPTION:A fun\, high-energy dance session featuring classic line dances from past decades. Easy to follow\, crowd-friendly\, and perfect for getting everyone on the dance floor
URL:https://sonestastmaarten.com/event/throwback-line-dances/2027-03-25/
LOCATION:The Oasis Pool
CATEGORIES:Maho Beach Resort
ATTACH;FMTTYPE=image/jpeg:https://sonestastmaarten.com/wp-content/uploads/maho-beach-exterior-day.jpg
END:VEVENT
BEGIN:VEVENT
DTSTART;TZID=America/Anguilla:20270325T153000
DTEND;TZID=America/Anguilla:20270325T173000
DTSTAMP:20260422T181817
CREATED:20250927T084345Z
LAST-MODIFIED:20260420T144506Z
UID:100118503-1805988600-1805995800@sonestastmaarten.com
SUMMARY:Point Pool Snacks
DESCRIPTION:Light poolside refreshments served at The Point Pool during late afternoon hours.
URL:https://sonestastmaarten.com/event/point-pool-snacks/2027-03-25/
LOCATION:The Point Pool
CATEGORIES:OP Dining Hours
ATTACH;FMTTYPE=image/png:https://sonestastmaarten.com/wp-content/uploads/one-zero-poolbar.png
END:VEVENT
BEGIN:VEVENT
DTSTART;TZID=America/Anguilla:20270325T173000
DTEND;TZID=America/Anguilla:20270325T230000
DTSTAMP:20260422T181817
CREATED:20250928T163944Z
LAST-MODIFIED:20260420T144629Z
UID:100118657-1805995800-1806015600@sonestastmaarten.com
SUMMARY:Bluefin Bar
DESCRIPTION:Rooftop bar above Azul with front-row sunset views\, serving light bites and libations in an exclusive setting perfect for golden hour.
URL:https://sonestastmaarten.com/event/bluefin-bar-2/2027-03-25/
LOCATION:Bluefin Restaurant
CATEGORIES:OP Dining Hours
ATTACH;FMTTYPE=image/png:https://sonestastmaarten.com/wp-content/uploads/bluefin-logo.png
END:VEVENT
BEGIN:VEVENT
DTSTART;TZID=America/Anguilla:20270325T180000
DTEND;TZID=America/Anguilla:20270325T220000
DTSTAMP:20260422T181817
CREATED:20250927T083633Z
LAST-MODIFIED:20260420T144651Z
UID:100118817-1805997600-1806012000@sonestastmaarten.com
SUMMARY:Bluefin Restaurant
DESCRIPTION:Healthy poke-inspired dining featuring sustainably sourced fish with specialty and build-your-own bowls for a fresh dinner experience.
URL:https://sonestastmaarten.com/event/bluefin-restaurant/2027-03-25/
LOCATION:Bluefin Restaurant
CATEGORIES:OP Dining Hours
ATTACH;FMTTYPE=image/png:https://sonestastmaarten.com/wp-content/uploads/bluefin-logo.png
END:VEVENT
BEGIN:VEVENT
DTSTART;VALUE=DATE:20270326
DTEND;VALUE=DATE:20270328
DTSTAMP:20260422T181817
CREATED:20251023T074705Z
LAST-MODIFIED:20260402T143114Z
UID:100116319-1806022800-1806109199@sonestastmaarten.com
SUMMARY:Table Tennis
DESCRIPTION:Serve up some fun with ping pong! All equipment provided for competitive matches or casual rallies.
URL:https://sonestastmaarten.com/event/table-tennis-2/2027-03-26/
LOCATION:Outside Sonesta Kids Crew
CATEGORIES:Maho Beach Resort
ATTACH;FMTTYPE=image/jpeg:https://sonestastmaarten.com/wp-content/uploads/table-tennis.jpg
END:VEVENT
BEGIN:VEVENT
DTSTART;TZID=America/Anguilla:20270326T093000
DTEND;TZID=America/Anguilla:20270326T100000
DTSTAMP:20260422T181817
CREATED:20260103T194019Z
LAST-MODIFIED:20260412T160452Z
UID:100117698-1806053400-1806055200@sonestastmaarten.com
SUMMARY:Kickboxing
DESCRIPTION:Kickboxing is a high-energy workout that combines punches\, kicks\, and cardio to build strength\, speed\, and endurance.
URL:https://sonestastmaarten.com/event/vinyasa-yoga-2/2027-03-26/
LOCATION:The Waterfront Stage\, Sint Maarten
CATEGORIES:Maho Beach Resort,Ocean Point Resort
ATTACH;FMTTYPE=image/jpeg:https://sonestastmaarten.com/wp-content/uploads/2022/07/spa_hotel_11.jpg
END:VEVENT
BEGIN:VEVENT
DTSTART;TZID=America/Anguilla:20270326T203000
DTEND;TZID=America/Anguilla:20270326T223000
DTSTAMP:20260422T181817
CREATED:20250819T113705Z
LAST-MODIFIED:20260412T161230Z
UID:100117748-1806093000-1806100200@sonestastmaarten.com
SUMMARY:White Hot Dance Party with DJ Spin
DESCRIPTION:Get ready for the ultimate all-white party under the stars! Dress to impress in your best white attire and dance the night away as DJ Spin brings the hottest beats.
URL:https://sonestastmaarten.com/event/dance-party/2027-03-26/
LOCATION:The Piazza at La Fontana
CATEGORIES:Maho Beach Resort,Ocean Point Resort
ATTACH;FMTTYPE=image/png:https://sonestastmaarten.com/wp-content/uploads/White-Hot-Dacne-Party.png
END:VEVENT
BEGIN:VEVENT
DTSTART;VALUE=DATE:20270327
DTEND;VALUE=DATE:20270329
DTSTAMP:20260422T181817
CREATED:20251023T074705Z
LAST-MODIFIED:20260402T143114Z
UID:100116320-1806109200-1806195599@sonestastmaarten.com
SUMMARY:Table Tennis
DESCRIPTION:Serve up some fun with ping pong! All equipment provided for competitive matches or casual rallies.
URL:https://sonestastmaarten.com/event/table-tennis-2/2027-03-27/
LOCATION:Outside Sonesta Kids Crew
CATEGORIES:Maho Beach Resort
ATTACH;FMTTYPE=image/jpeg:https://sonestastmaarten.com/wp-content/uploads/table-tennis.jpg
END:VEVENT
BEGIN:VEVENT
DTSTART;TZID=America/Anguilla:20270327T150000
DTEND;TZID=America/Anguilla:20270327T170000
DTSTAMP:20260422T181817
CREATED:20250820T163603Z
LAST-MODIFIED:20260320T161101Z
UID:100114860-1806159600-1806166800@sonestastmaarten.com
SUMMARY:Poolside Live Music with The Love Connection
DESCRIPTION:Whether relaxing under the sun\, cocktail in hand\, or swimming in our pool\, our live music program featuring talented local musicians will fill your days with eclectic beats.
URL:https://sonestastmaarten.com/event/live-music-with-love-connection/2027-03-27/
LOCATION:The Oasis Pool
CATEGORIES:Maho Beach Resort
ATTACH;FMTTYPE=image/jpeg:https://sonestastmaarten.com/wp-content/uploads/MB_Entertainment_2024_03.jpg
END:VEVENT
BEGIN:VEVENT
DTSTART;TZID=America/Anguilla:20270327T153000
DTEND;TZID=America/Anguilla:20270327T173000
DTSTAMP:20260422T181817
CREATED:20250927T084345Z
LAST-MODIFIED:20260420T144506Z
UID:100118504-1806161400-1806168600@sonestastmaarten.com
SUMMARY:Point Pool Snacks
DESCRIPTION:Light poolside refreshments served at The Point Pool during late afternoon hours.
URL:https://sonestastmaarten.com/event/point-pool-snacks/2027-03-27/
LOCATION:The Point Pool
CATEGORIES:OP Dining Hours
ATTACH;FMTTYPE=image/png:https://sonestastmaarten.com/wp-content/uploads/one-zero-poolbar.png
END:VEVENT
BEGIN:VEVENT
DTSTART;TZID=America/Anguilla:20270327T173000
DTEND;TZID=America/Anguilla:20270327T230000
DTSTAMP:20260422T181817
CREATED:20250928T163944Z
LAST-MODIFIED:20260420T144629Z
UID:100118658-1806168600-1806188400@sonestastmaarten.com
SUMMARY:Bluefin Bar
DESCRIPTION:Rooftop bar above Azul with front-row sunset views\, serving light bites and libations in an exclusive setting perfect for golden hour.
URL:https://sonestastmaarten.com/event/bluefin-bar-2/2027-03-27/
LOCATION:Bluefin Restaurant
CATEGORIES:OP Dining Hours
ATTACH;FMTTYPE=image/png:https://sonestastmaarten.com/wp-content/uploads/bluefin-logo.png
END:VEVENT
BEGIN:VEVENT
DTSTART;TZID=America/Anguilla:20270327T180000
DTEND;TZID=America/Anguilla:20270327T220000
DTSTAMP:20260422T181817
CREATED:20250927T083633Z
LAST-MODIFIED:20260420T144651Z
UID:100118818-1806170400-1806184800@sonestastmaarten.com
SUMMARY:Bluefin Restaurant
DESCRIPTION:Healthy poke-inspired dining featuring sustainably sourced fish with specialty and build-your-own bowls for a fresh dinner experience.
URL:https://sonestastmaarten.com/event/bluefin-restaurant/2027-03-27/
LOCATION:Bluefin Restaurant
CATEGORIES:OP Dining Hours
ATTACH;FMTTYPE=image/png:https://sonestastmaarten.com/wp-content/uploads/bluefin-logo.png
END:VEVENT
BEGIN:VEVENT
DTSTART;TZID=America/Anguilla:20270327T193000
DTEND;TZID=America/Anguilla:20270327T213000
DTSTAMP:20260422T181817
CREATED:20250904T120025Z
LAST-MODIFIED:20260320T161045Z
UID:100114806-1806175800-1806183000@sonestastmaarten.com
SUMMARY:Dinner Steel Pan with Brendon
DESCRIPTION:Let tropical rhythms enhance your dining experience! Brendon brings authentic Caribbean steel pan music to life with captivating island beats that capture the true spirit of the Caribbean while you enjoy your meal.
URL:https://sonestastmaarten.com/event/dinner-steel-pan-with-brendon/2027-03-27/
LOCATION:The Piazza at La Fontana
CATEGORIES:Maho Beach Resort,Ocean Point Resort
ATTACH;FMTTYPE=image/jpeg:https://sonestastmaarten.com/wp-content/uploads/SXM_Entertainment_SteelPan.jpg
END:VEVENT
BEGIN:VEVENT
DTSTART;TZID=America/Anguilla:20270327T200000
DTEND;TZID=America/Anguilla:20270327T213000
DTSTAMP:20260422T181817
CREATED:20250820T085606Z
LAST-MODIFIED:20260320T161030Z
UID:100114753-1806177600-1806183000@sonestastmaarten.com
SUMMARY:Family Movie Night
DESCRIPTION:After a fun-filled day under the sun\, it’s time to relax and watch family favorites on the big screen. Grab a seat and enjoy a heartwarming movie perfect for the entire family.
URL:https://sonestastmaarten.com/event/family-movie-night/2027-03-27/
LOCATION:The Beach House
CATEGORIES:Maho Beach Resort
ATTACH;FMTTYPE=image/jpeg:https://sonestastmaarten.com/wp-content/uploads/2022/07/beach-house.jpg
END:VEVENT
END:VCALENDAR