BEGIN:VCALENDAR
VERSION:2.0
PRODID:-//Sonesta Resorts Sint Maarten - ECPv6.15.17.1//NONSGML v1.0//EN
CALSCALE:GREGORIAN
METHOD:PUBLISH
X-WR-CALNAME:Sonesta Resorts Sint Maarten
X-ORIGINAL-URL:https://sonestastmaarten.com
X-WR-CALDESC:Events for Sonesta Resorts Sint Maarten
REFRESH-INTERVAL;VALUE=DURATION:PT1H
X-Robots-Tag:noindex
X-PUBLISHED-TTL:PT1H
BEGIN:VTIMEZONE
TZID:America/Anguilla
BEGIN:STANDARD
TZOFFSETFROM:-0400
TZOFFSETTO:-0400
TZNAME:AST
DTSTART:20250101T000000
END:STANDARD
END:VTIMEZONE
BEGIN:VEVENT
DTSTART;VALUE=DATE:20260516
DTEND;VALUE=DATE:20260518
DTSTAMP:20260420T023426
CREATED:20251023T074705Z
LAST-MODIFIED:20260402T143114Z
UID:100116005-1778893200-1778979599@sonestastmaarten.com
SUMMARY:Table Tennis
DESCRIPTION:Serve up some fun with ping pong! All equipment provided for competitive matches or casual rallies.
URL:https://sonestastmaarten.com/event/table-tennis-2/2026-05-16/
LOCATION:Outside Sonesta Kids Crew
CATEGORIES:Maho Beach Resort
ATTACH;FMTTYPE=image/jpeg:https://sonestastmaarten.com/wp-content/uploads/table-tennis.jpg
END:VEVENT
BEGIN:VEVENT
DTSTART;TZID=America/Anguilla:20260515T210000
DTEND;TZID=America/Anguilla:20260516T000000
DTSTAMP:20260420T023426
CREATED:20251110T143719Z
LAST-MODIFIED:20260205T192900Z
UID:100107751-1778878800-1778889600@sonestastmaarten.com
SUMMARY:Live Music with Alexia
DESCRIPTION:Experience live music in style at Cloud 9 Ultimate Lounge\, with the best view of the island. Unwind with smooth tunes\, signature cocktails\, and a stunning panoramic backdrop. Whether you’re catching the sunset or enjoying the night breeze\, it’s the perfect setting to relax and vibe to the rhythm of the island.
URL:https://sonestastmaarten.com/event/live-music-at-cloud-9-ultimate-lounge-with-alexia/2026-05-15/
LOCATION:Cloud 9
CATEGORIES:Ocean Point Resort,Ultimate Club
ATTACH;FMTTYPE=image/jpeg:https://sonestastmaarten.com/wp-content/uploads/cloud9.jpg
END:VEVENT
BEGIN:VEVENT
DTSTART;TZID=America/Anguilla:20260515T203000
DTEND;TZID=America/Anguilla:20260515T223000
DTSTAMP:20260420T023426
CREATED:20250819T113705Z
LAST-MODIFIED:20260412T161230Z
UID:100117703-1778877000-1778884200@sonestastmaarten.com
SUMMARY:White Hot Dance Party with DJ Spin
DESCRIPTION:Get ready for the ultimate all-white party under the stars! Dress to impress in your best white attire and dance the night away as DJ Spin brings the hottest beats.
URL:https://sonestastmaarten.com/event/dance-party/2026-05-15/
LOCATION:The Piazza at La Fontana
CATEGORIES:Maho Beach Resort,Ocean Point Resort
ATTACH;FMTTYPE=image/png:https://sonestastmaarten.com/wp-content/uploads/White-Hot-Dacne-Party.png
END:VEVENT
BEGIN:VEVENT
DTSTART;TZID=America/Anguilla:20260515T190000
DTEND;TZID=America/Anguilla:20260515T220000
DTSTAMP:20260420T023426
CREATED:20250819T171040Z
LAST-MODIFIED:20260210T153009Z
UID:100118073-1778871600-1778882400@sonestastmaarten.com
SUMMARY:Teen Zone
DESCRIPTION:Designed exclusively for ages 13 and over\, Teen Zone is the ultimate crash pad with pool\, foosball\, air hockey\, video games\, PlayStation\, Xbox\, and board games.
URL:https://sonestastmaarten.com/event/teen-zone-2/2026-05-15/
LOCATION:Teen Zone
CATEGORIES:Maho Beach Resort
ATTACH;FMTTYPE=image/jpeg:https://sonestastmaarten.com/wp-content/uploads/MB_KidsClub_TeenZone_Lifestyle_002_2024.jpg
END:VEVENT
BEGIN:VEVENT
DTSTART;TZID=America/Anguilla:20260515T180000
DTEND;TZID=America/Anguilla:20260516T010000
DTSTAMP:20260420T023426
CREATED:20251110T174757Z
LAST-MODIFIED:20260205T195025Z
UID:100108881-1778868000-1778893200@sonestastmaarten.com
SUMMARY:The Village Tavern Bar
DESCRIPTION:Enjoy live entertainment and sports on big screens at our bar located upstairs in Maho Village. Late-night pub fare served from 10:00 PM – 12:30 AM.
URL:https://sonestastmaarten.com/event/the-village-tavern-bar/2026-05-15/
LOCATION:The Village Tavern\, Sint Maarten
CATEGORIES:MB Dining Hours
ATTACH;FMTTYPE=image/png:https://sonestastmaarten.com/wp-content/uploads/village_tavern.png
END:VEVENT
BEGIN:VEVENT
DTSTART;TZID=America/Anguilla:20260515T180000
DTEND;TZID=America/Anguilla:20260515T220000
DTSTAMP:20260420T023426
CREATED:20260220T152753Z
LAST-MODIFIED:20260220T153307Z
UID:100111154-1778868000-1778882400@sonestastmaarten.com
SUMMARY:Ocean Terrace (Gala Theme Dinner)
DESCRIPTION:Buffet dinner with tonight’s culinary theme Gala.
URL:https://sonestastmaarten.com/event/ocean-terrace-gala-theme-dinner-2-2/2026-05-15/
LOCATION:Ocean Terrace
CATEGORIES:MB Dining Hours
ATTACH;FMTTYPE=image/png:https://sonestastmaarten.com/wp-content/uploads/ocean-terrace.png
END:VEVENT
BEGIN:VEVENT
DTSTART;TZID=America/Anguilla:20260515T180000
DTEND;TZID=America/Anguilla:20260515T220000
DTSTAMP:20260420T023426
CREATED:20260103T161601Z
LAST-MODIFIED:20260205T165516Z
UID:100106757-1778868000-1778882400@sonestastmaarten.com
SUMMARY:Jing's Kitchen
DESCRIPTION:Asian fare restaurant upstairs in Maho Village with hand-painted murals in a contemporary chic setting.
URL:https://sonestastmaarten.com/event/jings-kitchen-2/2026-05-15/
LOCATION:Jing’s Kitchen
CATEGORIES:MB Dining Hours
ATTACH;FMTTYPE=image/png:https://sonestastmaarten.com/wp-content/uploads/jings.png
END:VEVENT
BEGIN:VEVENT
DTSTART;TZID=America/Anguilla:20260515T180000
DTEND;TZID=America/Anguilla:20260515T220000
DTSTAMP:20260420T023426
CREATED:20251128T203804Z
LAST-MODIFIED:20260417T145508Z
UID:100118144-1778868000-1778882400@sonestastmaarten.com
SUMMARY:La Fontana Restaurant
DESCRIPTION:Waterfront Italian restaurant on Via Maho featuring authentic specialties including homemade pasta\, carpaccio\, seafood dishes\, and Parmesan chicken.
URL:https://sonestastmaarten.com/event/la-fontana-2-2/2026-05-15/
LOCATION:La Fontana Restaurant
CATEGORIES:MB Dining Hours
ATTACH;FMTTYPE=image/png:https://sonestastmaarten.com/wp-content/uploads/la-fontana.png
END:VEVENT
BEGIN:VEVENT
DTSTART;TZID=America/Anguilla:20260515T180000
DTEND;TZID=America/Anguilla:20260515T220000
DTSTAMP:20260420T023426
CREATED:20251128T203714Z
LAST-MODIFIED:20260417T145520Z
UID:100118155-1778868000-1778882400@sonestastmaarten.com
SUMMARY:Cantina Paradiso
DESCRIPTION:Oceanfront Mexican dining venue at The Palms by evening\, featuring authentic dishes including tacos\, enchiladas\, fresh seafood\, and a hot & cold buffet selection.
URL:https://sonestastmaarten.com/event/cantina-paradiso-2-2-2/2026-05-15/
LOCATION:Palms Grill
CATEGORIES:MB Dining Hours
ATTACH;FMTTYPE=image/png:https://sonestastmaarten.com/wp-content/uploads/cantina-paradiso.png
END:VEVENT
BEGIN:VEVENT
DTSTART;TZID=America/Anguilla:20260515T180000
DTEND;TZID=America/Anguilla:20260515T220000
DTSTAMP:20260420T023426
CREATED:20250928T164103Z
LAST-MODIFIED:20251226T183655Z
UID:100118215-1778868000-1778882400@sonestastmaarten.com
SUMMARY:Portofino Bar
DESCRIPTION:
URL:https://sonestastmaarten.com/event/portofino-bar/2026-05-15/
LOCATION:Portofino Restaurant
CATEGORIES:OP Dining Hours
ATTACH;FMTTYPE=image/png:https://sonestastmaarten.com/wp-content/uploads/portofino-restaurant.png
END:VEVENT
BEGIN:VEVENT
DTSTART;TZID=America/Anguilla:20260515T180000
DTEND;TZID=America/Anguilla:20260515T220000
DTSTAMP:20260420T023426
CREATED:20250927T083820Z
LAST-MODIFIED:20260103T161041Z
UID:100118219-1778868000-1778882400@sonestastmaarten.com
SUMMARY:Portofino Restaurant
DESCRIPTION:Intimate al fresco dining overlooking Maho Bay with a modern take on classic Northern Italian cuisine. This romantic venue offers an à la carte five-course dinner menu in an elegant Caribbean setting.
URL:https://sonestastmaarten.com/event/portofino-restaurant/2026-05-15/
LOCATION:Portofino Restaurant
CATEGORIES:OP Dining Hours
ATTACH;FMTTYPE=image/png:https://sonestastmaarten.com/wp-content/uploads/portofino-restaurant.png
END:VEVENT
BEGIN:VEVENT
DTSTART;TZID=America/Anguilla:20260515T180000
DTEND;TZID=America/Anguilla:20260515T220000
DTSTAMP:20260420T023426
CREATED:20250927T081852Z
LAST-MODIFIED:20251219T181018Z
UID:100118060-1778868000-1778882400@sonestastmaarten.com
SUMMARY:Azul Restaurant
DESCRIPTION:Fine dining experience with a daily changing five-course menu featuring Mediterranean-inspired cuisine including appetizer\, salad\, soup\, entrée\, and dessert with seasonal ingredients.
URL:https://sonestastmaarten.com/event/azul-restaurant-3/2026-05-15/
LOCATION:The Azul Restaurant
CATEGORIES:OP Dining Hours
ATTACH;FMTTYPE=image/png:https://sonestastmaarten.com/wp-content/uploads/azul-restaurant.png
END:VEVENT
BEGIN:VEVENT
DTSTART;TZID=America/Anguilla:20260515T173000
DTEND;TZID=America/Anguilla:20260516T050000
DTSTAMP:20260420T023426
CREATED:20251112T151547Z
LAST-MODIFIED:20251125T173234Z
UID:100118208-1778866200-1778907600@sonestastmaarten.com
SUMMARY:Ultimate Club Floors Room Service
DESCRIPTION:Room Service for late night cravings. Savor a curated menu and enjoy meals in the comfort of your room.
URL:https://sonestastmaarten.com/event/ultimate-club-floors-room-service/2026-05-15/
LOCATION:Room Service
CATEGORIES:Ultimate Dining Hours
END:VEVENT
BEGIN:VEVENT
DTSTART;TZID=America/Anguilla:20260515T170000
DTEND;TZID=America/Anguilla:20260516T010000
DTSTAMP:20260420T023426
CREATED:20251110T181642Z
LAST-MODIFIED:20260205T192755Z
UID:100107391-1778864400-1778893200@sonestastmaarten.com
SUMMARY:The Cloud 9 Rooftop Experience
DESCRIPTION:Experience stunning Caribbean views and spectacular sunsets from the world’s best plane-spotting venue. Enjoy premium cocktails\, fine wines\, and spirits. Bar snacks served 5:30 PM – 12:30 AM.
URL:https://sonestastmaarten.com/event/the-cloud-9-rooftop-experience/2026-05-15/
LOCATION:Cloud 9
CATEGORIES:OP Dining Hours,Ultimate Dining Hours
ATTACH;FMTTYPE=image/png:https://sonestastmaarten.com/wp-content/uploads/Cloud9_Logo.png
END:VEVENT
BEGIN:VEVENT
DTSTART;TZID=America/Anguilla:20260515T170000
DTEND;TZID=America/Anguilla:20260516T010000
DTSTAMP:20260420T023426
CREATED:20250928T163548Z
LAST-MODIFIED:20260313T152930Z
UID:100118204-1778864400-1778893200@sonestastmaarten.com
SUMMARY:Sunset Bar + Lounge
DESCRIPTION:Ocean view rooftop venue at the west end of Ocean Point with sweeping views\, offering specialty cocktails in a sophisticated outdoor setting ideal for unforgettable sunsets.
URL:https://sonestastmaarten.com/event/sunset-bar-lounge-2/2026-05-15/
LOCATION:Sunset Bar + Lounge
CATEGORIES:OP Dining Hours
ATTACH;FMTTYPE=image/png:https://sonestastmaarten.com/wp-content/uploads/sunsetloungebar.png
END:VEVENT
BEGIN:VEVENT
DTSTART;TZID=America/Anguilla:20260515T160000
DTEND;TZID=America/Anguilla:20260515T230000
DTSTAMP:20260420T023426
CREATED:20250928T164218Z
LAST-MODIFIED:20251117T091939Z
UID:100118200-1778860800-1778886000@sonestastmaarten.com
SUMMARY:La Fontana Bar
DESCRIPTION:Waterfront piazza bar on Via Maho near the famous gazebo overlooking Maho Bay\, serving refreshments\, frozen drinks\, cocktails\, and aperitivos.
URL:https://sonestastmaarten.com/event/la-fontana-bar/2026-05-15/
LOCATION:La Fontana Restaurant
CATEGORIES:MB Dining Hours
ATTACH;FMTTYPE=image/png:https://sonestastmaarten.com/wp-content/uploads/la-fontana.png
END:VEVENT
BEGIN:VEVENT
DTSTART;TZID=America/Anguilla:20260515T160000
DTEND;TZID=America/Anguilla:20260515T180000
DTSTAMP:20260420T023426
CREATED:20250819T170933Z
LAST-MODIFIED:20260210T153037Z
UID:100118196-1778860800-1778868000@sonestastmaarten.com
SUMMARY:Teen Zone
DESCRIPTION:Designed exclusively for ages 13 and over\, Teen Zone is the ultimate crash pad with pool\, foosball\, air hockey\, video games\, PlayStation\, Xbox\, and board games.
URL:https://sonestastmaarten.com/event/teen-zone/2026-05-15/
LOCATION:Teen Zone
CATEGORIES:Maho Beach Resort
ATTACH;FMTTYPE=image/jpeg:https://sonestastmaarten.com/wp-content/uploads/MB_KidsClub_TeenZone_Lifestyle_001_2024.jpg
END:VEVENT
BEGIN:VEVENT
DTSTART;TZID=America/Anguilla:20260515T150000
DTEND;TZID=America/Anguilla:20260515T170000
DTSTAMP:20260420T023426
CREATED:20250902T135124Z
LAST-MODIFIED:20260419T163052Z
UID:100118336-1778857200-1778864400@sonestastmaarten.com
SUMMARY:Poolside Live Music with Jojo
DESCRIPTION:Whether relaxing under the sun\, cocktail in hand\, or swimming in our pool\, our live music program featuring talented local musicians will fill your days with eclectic beats.
URL:https://sonestastmaarten.com/event/poolside-live-music-with-double-j/2026-05-15/
LOCATION:The Point Pool
CATEGORIES:Ocean Point Resort
ATTACH;FMTTYPE=image/jpeg:https://sonestastmaarten.com/wp-content/uploads/MB_Entertainment-001.jpg
END:VEVENT
BEGIN:VEVENT
DTSTART;TZID=America/Anguilla:20260515T140000
DTEND;TZID=America/Anguilla:20260515T180000
DTSTAMP:20260420T023426
CREATED:20251117T093638Z
LAST-MODIFIED:20260205T194202Z
UID:100108151-1778853600-1778868000@sonestastmaarten.com
SUMMARY:Oasis Snack Shack
DESCRIPTION:Freshly cooked burgers and hotdogs served hot and delicious at Oasis Snack Shack
URL:https://sonestastmaarten.com/event/oasis-snack-shack-2/2026-05-15/
LOCATION:The Oasis Pool
CATEGORIES:MB Dining Hours
END:VEVENT
BEGIN:VEVENT
DTSTART;TZID=America/Anguilla:20260515T140000
DTEND;TZID=America/Anguilla:20260515T170000
DTSTAMP:20260420T023426
CREATED:20260103T161306Z
LAST-MODIFIED:20260320T155656Z
UID:100114158-1778853600-1778864400@sonestastmaarten.com
SUMMARY:Bluefin Bar & Light Bites
DESCRIPTION:Enjoy stunning ocean and sunset views from this bar located above Azul Restaurant. Light bites served 2:00 PM – 5:00 PM\, with libations available throughout – your perfect golden hour destination.
URL:https://sonestastmaarten.com/event/bluefin-bar-3/2026-05-15/
LOCATION:Bluefin Restaurant
CATEGORIES:OP Dining Hours
ATTACH;FMTTYPE=image/png:https://sonestastmaarten.com/wp-content/uploads/bluefin-logo.png
END:VEVENT
BEGIN:VEVENT
DTSTART;TZID=America/Anguilla:20260515T130000
DTEND;TZID=America/Anguilla:20260515T180000
DTSTAMP:20260420T023426
CREATED:20250819T164419Z
LAST-MODIFIED:20260210T152242Z
UID:100118193-1778850000-1778868000@sonestastmaarten.com
SUMMARY:Sonesta Kids Crew
DESCRIPTION:The Sonesta Kids Crew welcomes children ages 3–12 for exciting group activities! Join our energetic Sonesta Kids Crew for scavenger hunts\, dance routines\, resort safaris\, puzzles\, and more.
URL:https://sonestastmaarten.com/event/beach-house-kids-club-2/2026-05-15/
LOCATION:The Beach House
CATEGORIES:Maho Beach Resort
ATTACH;FMTTYPE=image/jpeg:https://sonestastmaarten.com/wp-content/uploads/kids-club-at-maho-beach.jpg
END:VEVENT
BEGIN:VEVENT
DTSTART;TZID=America/Anguilla:20260515T123000
DTEND;TZID=America/Anguilla:20260515T150000
DTSTAMP:20260420T023426
CREATED:20250927T080903Z
LAST-MODIFIED:20260103T161858Z
UID:100118190-1778848200-1778857200@sonestastmaarten.com
SUMMARY:Ocean Terrace (Lunch)
DESCRIPTION:Buffet lunch featuring soups\, salads\, a made-to-order pasta station\, and varied international options.
URL:https://sonestastmaarten.com/event/ocean-terrace-2/2026-05-15/
LOCATION:Ocean Terrace
CATEGORIES:MB Dining Hours
ATTACH;FMTTYPE=image/png:https://sonestastmaarten.com/wp-content/uploads/ocean-terrace.png
END:VEVENT
BEGIN:VEVENT
DTSTART;TZID=America/Anguilla:20260515T120000
DTEND;TZID=America/Anguilla:20260515T160000
DTSTAMP:20260420T023426
CREATED:20250927T081051Z
LAST-MODIFIED:20260103T161919Z
UID:100118187-1778846400-1778860800@sonestastmaarten.com
SUMMARY:Palms Grill (Lunch)
DESCRIPTION:Oceanfront lunch with Caribbean grill specialties including jerk chicken\, BBQ ribs\, fresh catch of the day\, burgers\, and made-to-order pasta.
URL:https://sonestastmaarten.com/event/palms-grill/2026-05-15/
LOCATION:Palms Grill
CATEGORIES:MB Dining Hours
ATTACH;FMTTYPE=image/png:https://sonestastmaarten.com/wp-content/uploads/the-palms-grill.png
END:VEVENT
BEGIN:VEVENT
DTSTART;TZID=America/Anguilla:20260515T120000
DTEND;TZID=America/Anguilla:20260515T143000
DTSTAMP:20260420T023426
CREATED:20250927T081418Z
LAST-MODIFIED:20251219T180959Z
UID:100118184-1778846400-1778855400@sonestastmaarten.com
SUMMARY:Azul Restaurant (Lunch)
DESCRIPTION:Fine dining experience with a multi-course menu featuring starters\, main courses\, and desserts with Mediterranean-inspired cuisine and seasonal ingredients.
URL:https://sonestastmaarten.com/event/azul-restaurant-2/2026-05-15/
LOCATION:The Azul Restaurant
CATEGORIES:OP Dining Hours
ATTACH;FMTTYPE=image/png:https://sonestastmaarten.com/wp-content/uploads/azul-restaurant.png
END:VEVENT
BEGIN:VEVENT
DTSTART;TZID=America/Anguilla:20260515T120000
DTEND;TZID=America/Anguilla:20260515T123000
DTSTAMP:20260420T023426
CREATED:20251109T194144Z
LAST-MODIFIED:20260213T203215Z
UID:100110364-1778846400-1778848200@sonestastmaarten.com
SUMMARY:Name That Tune: R&B Edition
DESCRIPTION:Get ready to groove and test your music skills in our Name That Tune: R&B Edition! From smooth classics to modern hits\, see how fast you can guess the song or artist. Sing along\, vibe to the rhythm\, and enjoy a soulful time filled with fun and nostalgia!
URL:https://sonestastmaarten.com/event/name-that-tune-rb-edition/2026-05-15/
LOCATION:The Oasis Pool
CATEGORIES:Maho Beach Resort
ATTACH;FMTTYPE=image/jpeg:https://sonestastmaarten.com/wp-content/uploads/maho-beach-exterior-day.jpg
END:VEVENT
BEGIN:VEVENT
DTSTART;TZID=America/Anguilla:20260515T113000
DTEND;TZID=America/Anguilla:20260515T223000
DTSTAMP:20260420T023426
CREATED:20250927T090536Z
LAST-MODIFIED:20251219T173318Z
UID:100118181-1778844600-1778884200@sonestastmaarten.com
SUMMARY:Pizzeria Napoli
DESCRIPTION:Handcrafted\, made-to-order pizza slices hot from a traditional oven with fresh ingredients throughout the day.
URL:https://sonestastmaarten.com/event/pizzeria-napoli/2026-05-15/
LOCATION:Pizzeria Napoli
CATEGORIES:MB Dining Hours
ATTACH;FMTTYPE=image/png:https://sonestastmaarten.com/wp-content/uploads/pizzeria-napoli.png
END:VEVENT
BEGIN:VEVENT
DTSTART;TZID=America/Anguilla:20260515T100000
DTEND;TZID=America/Anguilla:20260516T010000
DTSTAMP:20260420T023426
CREATED:20250928T162547Z
LAST-MODIFIED:20251219T173311Z
UID:100118177-1778839200-1778893200@sonestastmaarten.com
SUMMARY:Latitude Bar
DESCRIPTION:Lobby bar with live entertainment\, sports on big screens\, and slot machines for 24-hour gaming.
URL:https://sonestastmaarten.com/event/latitude-bar/2026-05-15/
LOCATION:The Latitude Lobby Bar\, Maho Beach Lobby
CATEGORIES:MB Dining Hours
ATTACH;FMTTYPE=image/png:https://sonestastmaarten.com/wp-content/uploads/latitude-bar.png
END:VEVENT
BEGIN:VEVENT
DTSTART;TZID=America/Anguilla:20260515T100000
DTEND;TZID=America/Anguilla:20260515T230000
DTSTAMP:20260420T023426
CREATED:20250928T162828Z
LAST-MODIFIED:20260103T161936Z
UID:100118169-1778839200-1778886000@sonestastmaarten.com
SUMMARY:The Palms Grill Bar
DESCRIPTION:Oceanfront bar adjacent to the beach and Waterfront Stage serving Caribbean cocktails\, beers\, wines\, and soft drinks.
URL:https://sonestastmaarten.com/event/the-palms-grill-bar/2026-05-15/
LOCATION:Palms Grill
CATEGORIES:MB Dining Hours
ATTACH;FMTTYPE=image/png:https://sonestastmaarten.com/wp-content/uploads/the-palms-grill.png
END:VEVENT
BEGIN:VEVENT
DTSTART;TZID=America/Anguilla:20260515T100000
DTEND;TZID=America/Anguilla:20260515T230000
DTSTAMP:20260420T023426
CREATED:20250928T161914Z
LAST-MODIFIED:20251219T180958Z
UID:100118173-1778839200-1778886000@sonestastmaarten.com
SUMMARY:Martin's Bar
DESCRIPTION:Chic lobby bar with contemporary Caribbean design\, serving coffee\, tea\, cocktails\, and light refreshments throughout the day in a convivial atmosphere.
URL:https://sonestastmaarten.com/event/martins-bar/2026-05-15/
LOCATION:Martin’s Bar
CATEGORIES:OP Dining Hours
ATTACH;FMTTYPE=image/png:https://sonestastmaarten.com/wp-content/uploads/martins-bar.png
END:VEVENT
BEGIN:VEVENT
DTSTART;TZID=America/Anguilla:20260515T100000
DTEND;TZID=America/Anguilla:20260515T180000
DTSTAMP:20260420T023426
CREATED:20250928T162214Z
LAST-MODIFIED:20260320T155627Z
UID:100118161-1778839200-1778868000@sonestastmaarten.com
SUMMARY:One Zero Pool Bar
DESCRIPTION:Pool bar at The Point Pool facing famous Maho Beach\, serving poolside cocktails with front-row views of iconic plane landings on Runway 10.
URL:https://sonestastmaarten.com/event/one-zero-pool-bar/2026-05-15/
LOCATION:The Point Pool
CATEGORIES:OP Dining Hours
ATTACH;FMTTYPE=image/png:https://sonestastmaarten.com/wp-content/uploads/one-zero-poolbar.png
END:VEVENT
END:VCALENDAR