BEGIN:VCALENDAR
VERSION:2.0
PRODID:-//Sonesta Resorts Sint Maarten - ECPv6.15.17.1//NONSGML v1.0//EN
CALSCALE:GREGORIAN
METHOD:PUBLISH
X-WR-CALNAME:Sonesta Resorts Sint Maarten
X-ORIGINAL-URL:https://sonestastmaarten.com
X-WR-CALDESC:Events for Sonesta Resorts Sint Maarten
REFRESH-INTERVAL;VALUE=DURATION:PT1H
X-Robots-Tag:noindex
X-PUBLISHED-TTL:PT1H
BEGIN:VTIMEZONE
TZID:America/Anguilla
BEGIN:STANDARD
TZOFFSETFROM:-0400
TZOFFSETTO:-0400
TZNAME:AST
DTSTART:20250101T000000
END:STANDARD
END:VTIMEZONE
BEGIN:VEVENT
DTSTART;TZID=America/Anguilla:20261119T153000
DTEND;TZID=America/Anguilla:20261119T173000
DTSTAMP:20260422T131622
CREATED:20250927T084345Z
LAST-MODIFIED:20260420T144506Z
UID:100118449-1795102200-1795109400@sonestastmaarten.com
SUMMARY:Point Pool Snacks
DESCRIPTION:Light poolside refreshments served at The Point Pool during late afternoon hours.
URL:https://sonestastmaarten.com/event/point-pool-snacks/2026-11-19/
LOCATION:The Point Pool
CATEGORIES:OP Dining Hours
ATTACH;FMTTYPE=image/png:https://sonestastmaarten.com/wp-content/uploads/one-zero-poolbar.png
END:VEVENT
BEGIN:VEVENT
DTSTART;TZID=America/Anguilla:20261119T170000
DTEND;TZID=America/Anguilla:20261120T010000
DTSTAMP:20260422T131622
CREATED:20251110T181642Z
LAST-MODIFIED:20260205T192755Z
UID:100107579-1795107600-1795136400@sonestastmaarten.com
SUMMARY:The Cloud 9 Rooftop Experience
DESCRIPTION:Experience stunning Caribbean views and spectacular sunsets from the world’s best plane-spotting venue. Enjoy premium cocktails\, fine wines\, and spirits. Bar snacks served 5:30 PM – 12:30 AM.
URL:https://sonestastmaarten.com/event/the-cloud-9-rooftop-experience/2026-11-19/
LOCATION:Cloud 9
CATEGORIES:OP Dining Hours,Ultimate Dining Hours
ATTACH;FMTTYPE=image/png:https://sonestastmaarten.com/wp-content/uploads/Cloud9_Logo.png
END:VEVENT
BEGIN:VEVENT
DTSTART;TZID=America/Anguilla:20261119T173000
DTEND;TZID=America/Anguilla:20261119T230000
DTSTAMP:20260422T131622
CREATED:20250928T163944Z
LAST-MODIFIED:20260420T144629Z
UID:100118603-1795109400-1795129200@sonestastmaarten.com
SUMMARY:Bluefin Bar
DESCRIPTION:Rooftop bar above Azul with front-row sunset views\, serving light bites and libations in an exclusive setting perfect for golden hour.
URL:https://sonestastmaarten.com/event/bluefin-bar-2/2026-11-19/
LOCATION:Bluefin Restaurant
CATEGORIES:OP Dining Hours
ATTACH;FMTTYPE=image/png:https://sonestastmaarten.com/wp-content/uploads/bluefin-logo.png
END:VEVENT
BEGIN:VEVENT
DTSTART;TZID=America/Anguilla:20261119T180000
DTEND;TZID=America/Anguilla:20261119T220000
DTSTAMP:20260422T131622
CREATED:20250927T083633Z
LAST-MODIFIED:20260420T144651Z
UID:100118763-1795111200-1795125600@sonestastmaarten.com
SUMMARY:Bluefin Restaurant
DESCRIPTION:Healthy poke-inspired dining featuring sustainably sourced fish with specialty and build-your-own bowls for a fresh dinner experience.
URL:https://sonestastmaarten.com/event/bluefin-restaurant/2026-11-19/
LOCATION:Bluefin Restaurant
CATEGORIES:OP Dining Hours
ATTACH;FMTTYPE=image/png:https://sonestastmaarten.com/wp-content/uploads/bluefin-logo.png
END:VEVENT
BEGIN:VEVENT
DTSTART;VALUE=DATE:20261120
DTEND;VALUE=DATE:20261122
DTSTAMP:20260422T131622
CREATED:20251104T162823Z
LAST-MODIFIED:20260205T192738Z
UID:100107206-1795136400-1795222799@sonestastmaarten.com
SUMMARY:24 Hour Room-Service
DESCRIPTION:All-day menu featuring salads\, pizzas\, sandwiches\, burgers\, and entrees including grilled chicken and pan-seared fish available for in-room dining.
URL:https://sonestastmaarten.com/event/24-hour-room-service/2026-11-20/
LOCATION:Room Service
CATEGORIES:OP Dining Hours
END:VEVENT
BEGIN:VEVENT
DTSTART;TZID=America/Anguilla:20261120T140000
DTEND;TZID=America/Anguilla:20261120T170000
DTSTAMP:20260422T131622
CREATED:20260103T161306Z
LAST-MODIFIED:20260320T155656Z
UID:100114266-1795183200-1795194000@sonestastmaarten.com
SUMMARY:Bluefin Bar & Light Bites
DESCRIPTION:Enjoy stunning ocean and sunset views from this bar located above Azul Restaurant. Light bites served 2:00 PM – 5:00 PM\, with libations available throughout – your perfect golden hour destination.
URL:https://sonestastmaarten.com/event/bluefin-bar-3/2026-11-20/
LOCATION:Bluefin Restaurant
CATEGORIES:OP Dining Hours
ATTACH;FMTTYPE=image/png:https://sonestastmaarten.com/wp-content/uploads/bluefin-logo.png
END:VEVENT
BEGIN:VEVENT
DTSTART;TZID=America/Anguilla:20261120T170000
DTEND;TZID=America/Anguilla:20261121T010000
DTSTAMP:20260422T131622
CREATED:20251110T181642Z
LAST-MODIFIED:20260205T192755Z
UID:100107580-1795194000-1795222800@sonestastmaarten.com
SUMMARY:The Cloud 9 Rooftop Experience
DESCRIPTION:Experience stunning Caribbean views and spectacular sunsets from the world’s best plane-spotting venue. Enjoy premium cocktails\, fine wines\, and spirits. Bar snacks served 5:30 PM – 12:30 AM.
URL:https://sonestastmaarten.com/event/the-cloud-9-rooftop-experience/2026-11-20/
LOCATION:Cloud 9
CATEGORIES:OP Dining Hours,Ultimate Dining Hours
ATTACH;FMTTYPE=image/png:https://sonestastmaarten.com/wp-content/uploads/Cloud9_Logo.png
END:VEVENT
BEGIN:VEVENT
DTSTART;VALUE=DATE:20261121
DTEND;VALUE=DATE:20261123
DTSTAMP:20260422T131622
CREATED:20251104T162823Z
LAST-MODIFIED:20260205T192738Z
UID:100107207-1795222800-1795309199@sonestastmaarten.com
SUMMARY:24 Hour Room-Service
DESCRIPTION:All-day menu featuring salads\, pizzas\, sandwiches\, burgers\, and entrees including grilled chicken and pan-seared fish available for in-room dining.
URL:https://sonestastmaarten.com/event/24-hour-room-service/2026-11-21/
LOCATION:Room Service
CATEGORIES:OP Dining Hours
END:VEVENT
BEGIN:VEVENT
DTSTART;TZID=America/Anguilla:20261121T153000
DTEND;TZID=America/Anguilla:20261121T173000
DTSTAMP:20260422T131622
CREATED:20250927T084345Z
LAST-MODIFIED:20260420T144506Z
UID:100118450-1795275000-1795282200@sonestastmaarten.com
SUMMARY:Point Pool Snacks
DESCRIPTION:Light poolside refreshments served at The Point Pool during late afternoon hours.
URL:https://sonestastmaarten.com/event/point-pool-snacks/2026-11-21/
LOCATION:The Point Pool
CATEGORIES:OP Dining Hours
ATTACH;FMTTYPE=image/png:https://sonestastmaarten.com/wp-content/uploads/one-zero-poolbar.png
END:VEVENT
BEGIN:VEVENT
DTSTART;TZID=America/Anguilla:20261121T170000
DTEND;TZID=America/Anguilla:20261122T010000
DTSTAMP:20260422T131622
CREATED:20251110T181642Z
LAST-MODIFIED:20260205T192755Z
UID:100107581-1795280400-1795309200@sonestastmaarten.com
SUMMARY:The Cloud 9 Rooftop Experience
DESCRIPTION:Experience stunning Caribbean views and spectacular sunsets from the world’s best plane-spotting venue. Enjoy premium cocktails\, fine wines\, and spirits. Bar snacks served 5:30 PM – 12:30 AM.
URL:https://sonestastmaarten.com/event/the-cloud-9-rooftop-experience/2026-11-21/
LOCATION:Cloud 9
CATEGORIES:OP Dining Hours,Ultimate Dining Hours
ATTACH;FMTTYPE=image/png:https://sonestastmaarten.com/wp-content/uploads/Cloud9_Logo.png
END:VEVENT
BEGIN:VEVENT
DTSTART;TZID=America/Anguilla:20261121T173000
DTEND;TZID=America/Anguilla:20261121T230000
DTSTAMP:20260422T131622
CREATED:20250928T163944Z
LAST-MODIFIED:20260420T144629Z
UID:100118604-1795282200-1795302000@sonestastmaarten.com
SUMMARY:Bluefin Bar
DESCRIPTION:Rooftop bar above Azul with front-row sunset views\, serving light bites and libations in an exclusive setting perfect for golden hour.
URL:https://sonestastmaarten.com/event/bluefin-bar-2/2026-11-21/
LOCATION:Bluefin Restaurant
CATEGORIES:OP Dining Hours
ATTACH;FMTTYPE=image/png:https://sonestastmaarten.com/wp-content/uploads/bluefin-logo.png
END:VEVENT
BEGIN:VEVENT
DTSTART;TZID=America/Anguilla:20261121T180000
DTEND;TZID=America/Anguilla:20261121T220000
DTSTAMP:20260422T131622
CREATED:20250927T083633Z
LAST-MODIFIED:20260420T144651Z
UID:100118764-1795284000-1795298400@sonestastmaarten.com
SUMMARY:Bluefin Restaurant
DESCRIPTION:Healthy poke-inspired dining featuring sustainably sourced fish with specialty and build-your-own bowls for a fresh dinner experience.
URL:https://sonestastmaarten.com/event/bluefin-restaurant/2026-11-21/
LOCATION:Bluefin Restaurant
CATEGORIES:OP Dining Hours
ATTACH;FMTTYPE=image/png:https://sonestastmaarten.com/wp-content/uploads/bluefin-logo.png
END:VEVENT
BEGIN:VEVENT
DTSTART;VALUE=DATE:20261122
DTEND;VALUE=DATE:20261124
DTSTAMP:20260422T131622
CREATED:20251104T162823Z
LAST-MODIFIED:20260205T192738Z
UID:100107208-1795309200-1795395599@sonestastmaarten.com
SUMMARY:24 Hour Room-Service
DESCRIPTION:All-day menu featuring salads\, pizzas\, sandwiches\, burgers\, and entrees including grilled chicken and pan-seared fish available for in-room dining.
URL:https://sonestastmaarten.com/event/24-hour-room-service/2026-11-22/
LOCATION:Room Service
CATEGORIES:OP Dining Hours
END:VEVENT
BEGIN:VEVENT
DTSTART;TZID=America/Anguilla:20261122T140000
DTEND;TZID=America/Anguilla:20261122T170000
DTSTAMP:20260422T131622
CREATED:20260103T161306Z
LAST-MODIFIED:20260320T155656Z
UID:100114267-1795356000-1795366800@sonestastmaarten.com
SUMMARY:Bluefin Bar & Light Bites
DESCRIPTION:Enjoy stunning ocean and sunset views from this bar located above Azul Restaurant. Light bites served 2:00 PM – 5:00 PM\, with libations available throughout – your perfect golden hour destination.
URL:https://sonestastmaarten.com/event/bluefin-bar-3/2026-11-22/
LOCATION:Bluefin Restaurant
CATEGORIES:OP Dining Hours
ATTACH;FMTTYPE=image/png:https://sonestastmaarten.com/wp-content/uploads/bluefin-logo.png
END:VEVENT
BEGIN:VEVENT
DTSTART;TZID=America/Anguilla:20261122T170000
DTEND;TZID=America/Anguilla:20261123T010000
DTSTAMP:20260422T131622
CREATED:20251110T181642Z
LAST-MODIFIED:20260205T192755Z
UID:100107582-1795366800-1795395600@sonestastmaarten.com
SUMMARY:The Cloud 9 Rooftop Experience
DESCRIPTION:Experience stunning Caribbean views and spectacular sunsets from the world’s best plane-spotting venue. Enjoy premium cocktails\, fine wines\, and spirits. Bar snacks served 5:30 PM – 12:30 AM.
URL:https://sonestastmaarten.com/event/the-cloud-9-rooftop-experience/2026-11-22/
LOCATION:Cloud 9
CATEGORIES:OP Dining Hours,Ultimate Dining Hours
ATTACH;FMTTYPE=image/png:https://sonestastmaarten.com/wp-content/uploads/Cloud9_Logo.png
END:VEVENT
BEGIN:VEVENT
DTSTART;VALUE=DATE:20261123
DTEND;VALUE=DATE:20261125
DTSTAMP:20260422T131622
CREATED:20251104T162823Z
LAST-MODIFIED:20260205T192738Z
UID:100107209-1795395600-1795481999@sonestastmaarten.com
SUMMARY:24 Hour Room-Service
DESCRIPTION:All-day menu featuring salads\, pizzas\, sandwiches\, burgers\, and entrees including grilled chicken and pan-seared fish available for in-room dining.
URL:https://sonestastmaarten.com/event/24-hour-room-service/2026-11-23/
LOCATION:Room Service
CATEGORIES:OP Dining Hours
END:VEVENT
BEGIN:VEVENT
DTSTART;TZID=America/Anguilla:20261123T140000
DTEND;TZID=America/Anguilla:20261123T170000
DTSTAMP:20260422T131622
CREATED:20260103T161306Z
LAST-MODIFIED:20260320T155656Z
UID:100114268-1795442400-1795453200@sonestastmaarten.com
SUMMARY:Bluefin Bar & Light Bites
DESCRIPTION:Enjoy stunning ocean and sunset views from this bar located above Azul Restaurant. Light bites served 2:00 PM – 5:00 PM\, with libations available throughout – your perfect golden hour destination.
URL:https://sonestastmaarten.com/event/bluefin-bar-3/2026-11-23/
LOCATION:Bluefin Restaurant
CATEGORIES:OP Dining Hours
ATTACH;FMTTYPE=image/png:https://sonestastmaarten.com/wp-content/uploads/bluefin-logo.png
END:VEVENT
BEGIN:VEVENT
DTSTART;TZID=America/Anguilla:20261123T170000
DTEND;TZID=America/Anguilla:20261124T010000
DTSTAMP:20260422T131622
CREATED:20251110T181642Z
LAST-MODIFIED:20260205T192755Z
UID:100107583-1795453200-1795482000@sonestastmaarten.com
SUMMARY:The Cloud 9 Rooftop Experience
DESCRIPTION:Experience stunning Caribbean views and spectacular sunsets from the world’s best plane-spotting venue. Enjoy premium cocktails\, fine wines\, and spirits. Bar snacks served 5:30 PM – 12:30 AM.
URL:https://sonestastmaarten.com/event/the-cloud-9-rooftop-experience/2026-11-23/
LOCATION:Cloud 9
CATEGORIES:OP Dining Hours,Ultimate Dining Hours
ATTACH;FMTTYPE=image/png:https://sonestastmaarten.com/wp-content/uploads/Cloud9_Logo.png
END:VEVENT
BEGIN:VEVENT
DTSTART;VALUE=DATE:20261124
DTEND;VALUE=DATE:20261126
DTSTAMP:20260422T131622
CREATED:20251104T162823Z
LAST-MODIFIED:20260205T192738Z
UID:100107210-1795482000-1795568399@sonestastmaarten.com
SUMMARY:24 Hour Room-Service
DESCRIPTION:All-day menu featuring salads\, pizzas\, sandwiches\, burgers\, and entrees including grilled chicken and pan-seared fish available for in-room dining.
URL:https://sonestastmaarten.com/event/24-hour-room-service/2026-11-24/
LOCATION:Room Service
CATEGORIES:OP Dining Hours
END:VEVENT
BEGIN:VEVENT
DTSTART;TZID=America/Anguilla:20261124T153000
DTEND;TZID=America/Anguilla:20261124T173000
DTSTAMP:20260422T131622
CREATED:20250927T084345Z
LAST-MODIFIED:20260420T144506Z
UID:100118451-1795534200-1795541400@sonestastmaarten.com
SUMMARY:Point Pool Snacks
DESCRIPTION:Light poolside refreshments served at The Point Pool during late afternoon hours.
URL:https://sonestastmaarten.com/event/point-pool-snacks/2026-11-24/
LOCATION:The Point Pool
CATEGORIES:OP Dining Hours
ATTACH;FMTTYPE=image/png:https://sonestastmaarten.com/wp-content/uploads/one-zero-poolbar.png
END:VEVENT
BEGIN:VEVENT
DTSTART;TZID=America/Anguilla:20261124T170000
DTEND;TZID=America/Anguilla:20261125T010000
DTSTAMP:20260422T131622
CREATED:20251110T181642Z
LAST-MODIFIED:20260205T192755Z
UID:100107584-1795539600-1795568400@sonestastmaarten.com
SUMMARY:The Cloud 9 Rooftop Experience
DESCRIPTION:Experience stunning Caribbean views and spectacular sunsets from the world’s best plane-spotting venue. Enjoy premium cocktails\, fine wines\, and spirits. Bar snacks served 5:30 PM – 12:30 AM.
URL:https://sonestastmaarten.com/event/the-cloud-9-rooftop-experience/2026-11-24/
LOCATION:Cloud 9
CATEGORIES:OP Dining Hours,Ultimate Dining Hours
ATTACH;FMTTYPE=image/png:https://sonestastmaarten.com/wp-content/uploads/Cloud9_Logo.png
END:VEVENT
BEGIN:VEVENT
DTSTART;TZID=America/Anguilla:20261124T173000
DTEND;TZID=America/Anguilla:20261124T230000
DTSTAMP:20260422T131622
CREATED:20250928T163944Z
LAST-MODIFIED:20260420T144629Z
UID:100118605-1795541400-1795561200@sonestastmaarten.com
SUMMARY:Bluefin Bar
DESCRIPTION:Rooftop bar above Azul with front-row sunset views\, serving light bites and libations in an exclusive setting perfect for golden hour.
URL:https://sonestastmaarten.com/event/bluefin-bar-2/2026-11-24/
LOCATION:Bluefin Restaurant
CATEGORIES:OP Dining Hours
ATTACH;FMTTYPE=image/png:https://sonestastmaarten.com/wp-content/uploads/bluefin-logo.png
END:VEVENT
BEGIN:VEVENT
DTSTART;TZID=America/Anguilla:20261124T180000
DTEND;TZID=America/Anguilla:20261124T220000
DTSTAMP:20260422T131622
CREATED:20250927T083633Z
LAST-MODIFIED:20260420T144651Z
UID:100118765-1795543200-1795557600@sonestastmaarten.com
SUMMARY:Bluefin Restaurant
DESCRIPTION:Healthy poke-inspired dining featuring sustainably sourced fish with specialty and build-your-own bowls for a fresh dinner experience.
URL:https://sonestastmaarten.com/event/bluefin-restaurant/2026-11-24/
LOCATION:Bluefin Restaurant
CATEGORIES:OP Dining Hours
ATTACH;FMTTYPE=image/png:https://sonestastmaarten.com/wp-content/uploads/bluefin-logo.png
END:VEVENT
BEGIN:VEVENT
DTSTART;VALUE=DATE:20261125
DTEND;VALUE=DATE:20261127
DTSTAMP:20260422T131622
CREATED:20251104T162823Z
LAST-MODIFIED:20260205T192738Z
UID:100107211-1795568400-1795654799@sonestastmaarten.com
SUMMARY:24 Hour Room-Service
DESCRIPTION:All-day menu featuring salads\, pizzas\, sandwiches\, burgers\, and entrees including grilled chicken and pan-seared fish available for in-room dining.
URL:https://sonestastmaarten.com/event/24-hour-room-service/2026-11-25/
LOCATION:Room Service
CATEGORIES:OP Dining Hours
END:VEVENT
BEGIN:VEVENT
DTSTART;TZID=America/Anguilla:20261125T140000
DTEND;TZID=America/Anguilla:20261125T170000
DTSTAMP:20260422T131622
CREATED:20260103T161306Z
LAST-MODIFIED:20260320T155656Z
UID:100114269-1795615200-1795626000@sonestastmaarten.com
SUMMARY:Bluefin Bar & Light Bites
DESCRIPTION:Enjoy stunning ocean and sunset views from this bar located above Azul Restaurant. Light bites served 2:00 PM – 5:00 PM\, with libations available throughout – your perfect golden hour destination.
URL:https://sonestastmaarten.com/event/bluefin-bar-3/2026-11-25/
LOCATION:Bluefin Restaurant
CATEGORIES:OP Dining Hours
ATTACH;FMTTYPE=image/png:https://sonestastmaarten.com/wp-content/uploads/bluefin-logo.png
END:VEVENT
BEGIN:VEVENT
DTSTART;TZID=America/Anguilla:20261125T170000
DTEND;TZID=America/Anguilla:20261126T010000
DTSTAMP:20260422T131622
CREATED:20251110T181642Z
LAST-MODIFIED:20260205T192755Z
UID:100107585-1795626000-1795654800@sonestastmaarten.com
SUMMARY:The Cloud 9 Rooftop Experience
DESCRIPTION:Experience stunning Caribbean views and spectacular sunsets from the world’s best plane-spotting venue. Enjoy premium cocktails\, fine wines\, and spirits. Bar snacks served 5:30 PM – 12:30 AM.
URL:https://sonestastmaarten.com/event/the-cloud-9-rooftop-experience/2026-11-25/
LOCATION:Cloud 9
CATEGORIES:OP Dining Hours,Ultimate Dining Hours
ATTACH;FMTTYPE=image/png:https://sonestastmaarten.com/wp-content/uploads/Cloud9_Logo.png
END:VEVENT
BEGIN:VEVENT
DTSTART;VALUE=DATE:20261126
DTEND;VALUE=DATE:20261128
DTSTAMP:20260422T131622
CREATED:20251104T162823Z
LAST-MODIFIED:20260205T192738Z
UID:100107212-1795654800-1795741199@sonestastmaarten.com
SUMMARY:24 Hour Room-Service
DESCRIPTION:All-day menu featuring salads\, pizzas\, sandwiches\, burgers\, and entrees including grilled chicken and pan-seared fish available for in-room dining.
URL:https://sonestastmaarten.com/event/24-hour-room-service/2026-11-26/
LOCATION:Room Service
CATEGORIES:OP Dining Hours
END:VEVENT
BEGIN:VEVENT
DTSTART;TZID=America/Anguilla:20261126T153000
DTEND;TZID=America/Anguilla:20261126T173000
DTSTAMP:20260422T131622
CREATED:20250927T084345Z
LAST-MODIFIED:20260420T144506Z
UID:100118452-1795707000-1795714200@sonestastmaarten.com
SUMMARY:Point Pool Snacks
DESCRIPTION:Light poolside refreshments served at The Point Pool during late afternoon hours.
URL:https://sonestastmaarten.com/event/point-pool-snacks/2026-11-26/
LOCATION:The Point Pool
CATEGORIES:OP Dining Hours
ATTACH;FMTTYPE=image/png:https://sonestastmaarten.com/wp-content/uploads/one-zero-poolbar.png
END:VEVENT
BEGIN:VEVENT
DTSTART;TZID=America/Anguilla:20261126T170000
DTEND;TZID=America/Anguilla:20261127T010000
DTSTAMP:20260422T131622
CREATED:20251110T181642Z
LAST-MODIFIED:20260205T192755Z
UID:100107586-1795712400-1795741200@sonestastmaarten.com
SUMMARY:The Cloud 9 Rooftop Experience
DESCRIPTION:Experience stunning Caribbean views and spectacular sunsets from the world’s best plane-spotting venue. Enjoy premium cocktails\, fine wines\, and spirits. Bar snacks served 5:30 PM – 12:30 AM.
URL:https://sonestastmaarten.com/event/the-cloud-9-rooftop-experience/2026-11-26/
LOCATION:Cloud 9
CATEGORIES:OP Dining Hours,Ultimate Dining Hours
ATTACH;FMTTYPE=image/png:https://sonestastmaarten.com/wp-content/uploads/Cloud9_Logo.png
END:VEVENT
BEGIN:VEVENT
DTSTART;TZID=America/Anguilla:20261126T173000
DTEND;TZID=America/Anguilla:20261126T230000
DTSTAMP:20260422T131622
CREATED:20250928T163944Z
LAST-MODIFIED:20260420T144629Z
UID:100118606-1795714200-1795734000@sonestastmaarten.com
SUMMARY:Bluefin Bar
DESCRIPTION:Rooftop bar above Azul with front-row sunset views\, serving light bites and libations in an exclusive setting perfect for golden hour.
URL:https://sonestastmaarten.com/event/bluefin-bar-2/2026-11-26/
LOCATION:Bluefin Restaurant
CATEGORIES:OP Dining Hours
ATTACH;FMTTYPE=image/png:https://sonestastmaarten.com/wp-content/uploads/bluefin-logo.png
END:VEVENT
END:VCALENDAR