BEGIN:VCALENDAR
VERSION:2.0
PRODID:-//Sonesta Resorts Sint Maarten - ECPv6.15.17.1//NONSGML v1.0//EN
CALSCALE:GREGORIAN
METHOD:PUBLISH
X-ORIGINAL-URL:https://sonestastmaarten.com
X-WR-CALDESC:Events for Sonesta Resorts Sint Maarten
REFRESH-INTERVAL;VALUE=DURATION:PT1H
X-Robots-Tag:noindex
X-PUBLISHED-TTL:PT1H
BEGIN:VTIMEZONE
TZID:America/Anguilla
BEGIN:STANDARD
TZOFFSETFROM:-0400
TZOFFSETTO:-0400
TZNAME:AST
DTSTART:20250101T000000
END:STANDARD
END:VTIMEZONE
BEGIN:VEVENT
DTSTART;TZID=America/Anguilla:20260803T170000
DTEND;TZID=America/Anguilla:20260804T010000
DTSTAMP:20260423T042423
CREATED:20251110T181642Z
LAST-MODIFIED:20260205T192755Z
UID:100107471-1785776400-1785805200@sonestastmaarten.com
SUMMARY:The Cloud 9 Rooftop Experience
DESCRIPTION:Experience stunning Caribbean views and spectacular sunsets from the world’s best plane-spotting venue. Enjoy premium cocktails\, fine wines\, and spirits. Bar snacks served 5:30 PM – 12:30 AM.
URL:https://sonestastmaarten.com/event/the-cloud-9-rooftop-experience/2026-08-03/
LOCATION:Cloud 9
CATEGORIES:OP Dining Hours,Ultimate Dining Hours
ATTACH;FMTTYPE=image/png:https://sonestastmaarten.com/wp-content/uploads/Cloud9_Logo.png
END:VEVENT
BEGIN:VEVENT
DTSTART;VALUE=DATE:20260804
DTEND;VALUE=DATE:20260806
DTSTAMP:20260423T042423
CREATED:20251104T162823Z
LAST-MODIFIED:20260205T192738Z
UID:100107098-1785805200-1785891599@sonestastmaarten.com
SUMMARY:24 Hour Room-Service
DESCRIPTION:All-day menu featuring salads\, pizzas\, sandwiches\, burgers\, and entrees including grilled chicken and pan-seared fish available for in-room dining.
URL:https://sonestastmaarten.com/event/24-hour-room-service/2026-08-04/
LOCATION:Room Service
CATEGORIES:OP Dining Hours
END:VEVENT
BEGIN:VEVENT
DTSTART;TZID=America/Anguilla:20260804T153000
DTEND;TZID=America/Anguilla:20260804T173000
DTSTAMP:20260423T042423
CREATED:20250927T084345Z
LAST-MODIFIED:20260420T144506Z
UID:100118403-1785857400-1785864600@sonestastmaarten.com
SUMMARY:Point Pool Snacks
DESCRIPTION:Light poolside refreshments served at The Point Pool during late afternoon hours.
URL:https://sonestastmaarten.com/event/point-pool-snacks/2026-08-04/
LOCATION:The Point Pool
CATEGORIES:OP Dining Hours
ATTACH;FMTTYPE=image/png:https://sonestastmaarten.com/wp-content/uploads/one-zero-poolbar.png
END:VEVENT
BEGIN:VEVENT
DTSTART;TZID=America/Anguilla:20260804T170000
DTEND;TZID=America/Anguilla:20260805T010000
DTSTAMP:20260423T042423
CREATED:20251110T181642Z
LAST-MODIFIED:20260205T192755Z
UID:100107472-1785862800-1785891600@sonestastmaarten.com
SUMMARY:The Cloud 9 Rooftop Experience
DESCRIPTION:Experience stunning Caribbean views and spectacular sunsets from the world’s best plane-spotting venue. Enjoy premium cocktails\, fine wines\, and spirits. Bar snacks served 5:30 PM – 12:30 AM.
URL:https://sonestastmaarten.com/event/the-cloud-9-rooftop-experience/2026-08-04/
LOCATION:Cloud 9
CATEGORIES:OP Dining Hours,Ultimate Dining Hours
ATTACH;FMTTYPE=image/png:https://sonestastmaarten.com/wp-content/uploads/Cloud9_Logo.png
END:VEVENT
BEGIN:VEVENT
DTSTART;TZID=America/Anguilla:20260804T173000
DTEND;TZID=America/Anguilla:20260804T230000
DTSTAMP:20260423T042423
CREATED:20250928T163944Z
LAST-MODIFIED:20260420T144629Z
UID:100118557-1785864600-1785884400@sonestastmaarten.com
SUMMARY:Bluefin Bar
DESCRIPTION:Rooftop bar above Azul with front-row sunset views\, serving light bites and libations in an exclusive setting perfect for golden hour.
URL:https://sonestastmaarten.com/event/bluefin-bar-2/2026-08-04/
LOCATION:Bluefin Restaurant
CATEGORIES:OP Dining Hours
ATTACH;FMTTYPE=image/png:https://sonestastmaarten.com/wp-content/uploads/bluefin-logo.png
END:VEVENT
BEGIN:VEVENT
DTSTART;TZID=America/Anguilla:20260804T180000
DTEND;TZID=America/Anguilla:20260804T220000
DTSTAMP:20260423T042423
CREATED:20250927T083633Z
LAST-MODIFIED:20260420T144651Z
UID:100118717-1785866400-1785880800@sonestastmaarten.com
SUMMARY:Bluefin Restaurant
DESCRIPTION:Healthy poke-inspired dining featuring sustainably sourced fish with specialty and build-your-own bowls for a fresh dinner experience.
URL:https://sonestastmaarten.com/event/bluefin-restaurant/2026-08-04/
LOCATION:Bluefin Restaurant
CATEGORIES:OP Dining Hours
ATTACH;FMTTYPE=image/png:https://sonestastmaarten.com/wp-content/uploads/bluefin-logo.png
END:VEVENT
BEGIN:VEVENT
DTSTART;VALUE=DATE:20260805
DTEND;VALUE=DATE:20260807
DTSTAMP:20260423T042423
CREATED:20251104T162823Z
LAST-MODIFIED:20260205T192738Z
UID:100107099-1785891600-1785977999@sonestastmaarten.com
SUMMARY:24 Hour Room-Service
DESCRIPTION:All-day menu featuring salads\, pizzas\, sandwiches\, burgers\, and entrees including grilled chicken and pan-seared fish available for in-room dining.
URL:https://sonestastmaarten.com/event/24-hour-room-service/2026-08-05/
LOCATION:Room Service
CATEGORIES:OP Dining Hours
END:VEVENT
BEGIN:VEVENT
DTSTART;TZID=America/Anguilla:20260805T140000
DTEND;TZID=America/Anguilla:20260805T170000
DTSTAMP:20260423T042423
CREATED:20260103T161306Z
LAST-MODIFIED:20260320T155656Z
UID:100114205-1785938400-1785949200@sonestastmaarten.com
SUMMARY:Bluefin Bar & Light Bites
DESCRIPTION:Enjoy stunning ocean and sunset views from this bar located above Azul Restaurant. Light bites served 2:00 PM – 5:00 PM\, with libations available throughout – your perfect golden hour destination.
URL:https://sonestastmaarten.com/event/bluefin-bar-3/2026-08-05/
LOCATION:Bluefin Restaurant
CATEGORIES:OP Dining Hours
ATTACH;FMTTYPE=image/png:https://sonestastmaarten.com/wp-content/uploads/bluefin-logo.png
END:VEVENT
BEGIN:VEVENT
DTSTART;TZID=America/Anguilla:20260805T170000
DTEND;TZID=America/Anguilla:20260806T010000
DTSTAMP:20260423T042423
CREATED:20251110T181642Z
LAST-MODIFIED:20260205T192755Z
UID:100107473-1785949200-1785978000@sonestastmaarten.com
SUMMARY:The Cloud 9 Rooftop Experience
DESCRIPTION:Experience stunning Caribbean views and spectacular sunsets from the world’s best plane-spotting venue. Enjoy premium cocktails\, fine wines\, and spirits. Bar snacks served 5:30 PM – 12:30 AM.
URL:https://sonestastmaarten.com/event/the-cloud-9-rooftop-experience/2026-08-05/
LOCATION:Cloud 9
CATEGORIES:OP Dining Hours,Ultimate Dining Hours
ATTACH;FMTTYPE=image/png:https://sonestastmaarten.com/wp-content/uploads/Cloud9_Logo.png
END:VEVENT
BEGIN:VEVENT
DTSTART;VALUE=DATE:20260806
DTEND;VALUE=DATE:20260808
DTSTAMP:20260423T042423
CREATED:20251104T162823Z
LAST-MODIFIED:20260205T192738Z
UID:100107100-1785978000-1786064399@sonestastmaarten.com
SUMMARY:24 Hour Room-Service
DESCRIPTION:All-day menu featuring salads\, pizzas\, sandwiches\, burgers\, and entrees including grilled chicken and pan-seared fish available for in-room dining.
URL:https://sonestastmaarten.com/event/24-hour-room-service/2026-08-06/
LOCATION:Room Service
CATEGORIES:OP Dining Hours
END:VEVENT
BEGIN:VEVENT
DTSTART;TZID=America/Anguilla:20260806T153000
DTEND;TZID=America/Anguilla:20260806T173000
DTSTAMP:20260423T042423
CREATED:20250927T084345Z
LAST-MODIFIED:20260420T144506Z
UID:100118404-1786030200-1786037400@sonestastmaarten.com
SUMMARY:Point Pool Snacks
DESCRIPTION:Light poolside refreshments served at The Point Pool during late afternoon hours.
URL:https://sonestastmaarten.com/event/point-pool-snacks/2026-08-06/
LOCATION:The Point Pool
CATEGORIES:OP Dining Hours
ATTACH;FMTTYPE=image/png:https://sonestastmaarten.com/wp-content/uploads/one-zero-poolbar.png
END:VEVENT
BEGIN:VEVENT
DTSTART;TZID=America/Anguilla:20260806T170000
DTEND;TZID=America/Anguilla:20260807T010000
DTSTAMP:20260423T042423
CREATED:20251110T181642Z
LAST-MODIFIED:20260205T192755Z
UID:100107474-1786035600-1786064400@sonestastmaarten.com
SUMMARY:The Cloud 9 Rooftop Experience
DESCRIPTION:Experience stunning Caribbean views and spectacular sunsets from the world’s best plane-spotting venue. Enjoy premium cocktails\, fine wines\, and spirits. Bar snacks served 5:30 PM – 12:30 AM.
URL:https://sonestastmaarten.com/event/the-cloud-9-rooftop-experience/2026-08-06/
LOCATION:Cloud 9
CATEGORIES:OP Dining Hours,Ultimate Dining Hours
ATTACH;FMTTYPE=image/png:https://sonestastmaarten.com/wp-content/uploads/Cloud9_Logo.png
END:VEVENT
BEGIN:VEVENT
DTSTART;TZID=America/Anguilla:20260806T173000
DTEND;TZID=America/Anguilla:20260806T230000
DTSTAMP:20260423T042423
CREATED:20250928T163944Z
LAST-MODIFIED:20260420T144629Z
UID:100118558-1786037400-1786057200@sonestastmaarten.com
SUMMARY:Bluefin Bar
DESCRIPTION:Rooftop bar above Azul with front-row sunset views\, serving light bites and libations in an exclusive setting perfect for golden hour.
URL:https://sonestastmaarten.com/event/bluefin-bar-2/2026-08-06/
LOCATION:Bluefin Restaurant
CATEGORIES:OP Dining Hours
ATTACH;FMTTYPE=image/png:https://sonestastmaarten.com/wp-content/uploads/bluefin-logo.png
END:VEVENT
BEGIN:VEVENT
DTSTART;TZID=America/Anguilla:20260806T180000
DTEND;TZID=America/Anguilla:20260806T220000
DTSTAMP:20260423T042423
CREATED:20250927T083633Z
LAST-MODIFIED:20260420T144651Z
UID:100118718-1786039200-1786053600@sonestastmaarten.com
SUMMARY:Bluefin Restaurant
DESCRIPTION:Healthy poke-inspired dining featuring sustainably sourced fish with specialty and build-your-own bowls for a fresh dinner experience.
URL:https://sonestastmaarten.com/event/bluefin-restaurant/2026-08-06/
LOCATION:Bluefin Restaurant
CATEGORIES:OP Dining Hours
ATTACH;FMTTYPE=image/png:https://sonestastmaarten.com/wp-content/uploads/bluefin-logo.png
END:VEVENT
BEGIN:VEVENT
DTSTART;VALUE=DATE:20260807
DTEND;VALUE=DATE:20260809
DTSTAMP:20260423T042423
CREATED:20251104T162823Z
LAST-MODIFIED:20260205T192738Z
UID:100107101-1786064400-1786150799@sonestastmaarten.com
SUMMARY:24 Hour Room-Service
DESCRIPTION:All-day menu featuring salads\, pizzas\, sandwiches\, burgers\, and entrees including grilled chicken and pan-seared fish available for in-room dining.
URL:https://sonestastmaarten.com/event/24-hour-room-service/2026-08-07/
LOCATION:Room Service
CATEGORIES:OP Dining Hours
END:VEVENT
BEGIN:VEVENT
DTSTART;TZID=America/Anguilla:20260807T140000
DTEND;TZID=America/Anguilla:20260807T170000
DTSTAMP:20260423T042423
CREATED:20260103T161306Z
LAST-MODIFIED:20260320T155656Z
UID:100114206-1786111200-1786122000@sonestastmaarten.com
SUMMARY:Bluefin Bar & Light Bites
DESCRIPTION:Enjoy stunning ocean and sunset views from this bar located above Azul Restaurant. Light bites served 2:00 PM – 5:00 PM\, with libations available throughout – your perfect golden hour destination.
URL:https://sonestastmaarten.com/event/bluefin-bar-3/2026-08-07/
LOCATION:Bluefin Restaurant
CATEGORIES:OP Dining Hours
ATTACH;FMTTYPE=image/png:https://sonestastmaarten.com/wp-content/uploads/bluefin-logo.png
END:VEVENT
BEGIN:VEVENT
DTSTART;TZID=America/Anguilla:20260807T170000
DTEND;TZID=America/Anguilla:20260808T010000
DTSTAMP:20260423T042423
CREATED:20251110T181642Z
LAST-MODIFIED:20260205T192755Z
UID:100107475-1786122000-1786150800@sonestastmaarten.com
SUMMARY:The Cloud 9 Rooftop Experience
DESCRIPTION:Experience stunning Caribbean views and spectacular sunsets from the world’s best plane-spotting venue. Enjoy premium cocktails\, fine wines\, and spirits. Bar snacks served 5:30 PM – 12:30 AM.
URL:https://sonestastmaarten.com/event/the-cloud-9-rooftop-experience/2026-08-07/
LOCATION:Cloud 9
CATEGORIES:OP Dining Hours,Ultimate Dining Hours
ATTACH;FMTTYPE=image/png:https://sonestastmaarten.com/wp-content/uploads/Cloud9_Logo.png
END:VEVENT
BEGIN:VEVENT
DTSTART;VALUE=DATE:20260808
DTEND;VALUE=DATE:20260810
DTSTAMP:20260423T042423
CREATED:20251104T162823Z
LAST-MODIFIED:20260205T192738Z
UID:100107102-1786150800-1786237199@sonestastmaarten.com
SUMMARY:24 Hour Room-Service
DESCRIPTION:All-day menu featuring salads\, pizzas\, sandwiches\, burgers\, and entrees including grilled chicken and pan-seared fish available for in-room dining.
URL:https://sonestastmaarten.com/event/24-hour-room-service/2026-08-08/
LOCATION:Room Service
CATEGORIES:OP Dining Hours
END:VEVENT
BEGIN:VEVENT
DTSTART;TZID=America/Anguilla:20260808T153000
DTEND;TZID=America/Anguilla:20260808T173000
DTSTAMP:20260423T042423
CREATED:20250927T084345Z
LAST-MODIFIED:20260420T144506Z
UID:100118405-1786203000-1786210200@sonestastmaarten.com
SUMMARY:Point Pool Snacks
DESCRIPTION:Light poolside refreshments served at The Point Pool during late afternoon hours.
URL:https://sonestastmaarten.com/event/point-pool-snacks/2026-08-08/
LOCATION:The Point Pool
CATEGORIES:OP Dining Hours
ATTACH;FMTTYPE=image/png:https://sonestastmaarten.com/wp-content/uploads/one-zero-poolbar.png
END:VEVENT
BEGIN:VEVENT
DTSTART;TZID=America/Anguilla:20260808T170000
DTEND;TZID=America/Anguilla:20260809T010000
DTSTAMP:20260423T042423
CREATED:20251110T181642Z
LAST-MODIFIED:20260205T192755Z
UID:100107476-1786208400-1786237200@sonestastmaarten.com
SUMMARY:The Cloud 9 Rooftop Experience
DESCRIPTION:Experience stunning Caribbean views and spectacular sunsets from the world’s best plane-spotting venue. Enjoy premium cocktails\, fine wines\, and spirits. Bar snacks served 5:30 PM – 12:30 AM.
URL:https://sonestastmaarten.com/event/the-cloud-9-rooftop-experience/2026-08-08/
LOCATION:Cloud 9
CATEGORIES:OP Dining Hours,Ultimate Dining Hours
ATTACH;FMTTYPE=image/png:https://sonestastmaarten.com/wp-content/uploads/Cloud9_Logo.png
END:VEVENT
BEGIN:VEVENT
DTSTART;TZID=America/Anguilla:20260808T173000
DTEND;TZID=America/Anguilla:20260808T230000
DTSTAMP:20260423T042423
CREATED:20250928T163944Z
LAST-MODIFIED:20260420T144629Z
UID:100118559-1786210200-1786230000@sonestastmaarten.com
SUMMARY:Bluefin Bar
DESCRIPTION:Rooftop bar above Azul with front-row sunset views\, serving light bites and libations in an exclusive setting perfect for golden hour.
URL:https://sonestastmaarten.com/event/bluefin-bar-2/2026-08-08/
LOCATION:Bluefin Restaurant
CATEGORIES:OP Dining Hours
ATTACH;FMTTYPE=image/png:https://sonestastmaarten.com/wp-content/uploads/bluefin-logo.png
END:VEVENT
BEGIN:VEVENT
DTSTART;TZID=America/Anguilla:20260808T180000
DTEND;TZID=America/Anguilla:20260808T220000
DTSTAMP:20260423T042423
CREATED:20250927T083633Z
LAST-MODIFIED:20260420T144651Z
UID:100118719-1786212000-1786226400@sonestastmaarten.com
SUMMARY:Bluefin Restaurant
DESCRIPTION:Healthy poke-inspired dining featuring sustainably sourced fish with specialty and build-your-own bowls for a fresh dinner experience.
URL:https://sonestastmaarten.com/event/bluefin-restaurant/2026-08-08/
LOCATION:Bluefin Restaurant
CATEGORIES:OP Dining Hours
ATTACH;FMTTYPE=image/png:https://sonestastmaarten.com/wp-content/uploads/bluefin-logo.png
END:VEVENT
BEGIN:VEVENT
DTSTART;VALUE=DATE:20260809
DTEND;VALUE=DATE:20260811
DTSTAMP:20260423T042423
CREATED:20251104T162823Z
LAST-MODIFIED:20260205T192738Z
UID:100107103-1786237200-1786323599@sonestastmaarten.com
SUMMARY:24 Hour Room-Service
DESCRIPTION:All-day menu featuring salads\, pizzas\, sandwiches\, burgers\, and entrees including grilled chicken and pan-seared fish available for in-room dining.
URL:https://sonestastmaarten.com/event/24-hour-room-service/2026-08-09/
LOCATION:Room Service
CATEGORIES:OP Dining Hours
END:VEVENT
BEGIN:VEVENT
DTSTART;TZID=America/Anguilla:20260809T140000
DTEND;TZID=America/Anguilla:20260809T170000
DTSTAMP:20260423T042423
CREATED:20260103T161306Z
LAST-MODIFIED:20260320T155656Z
UID:100114207-1786284000-1786294800@sonestastmaarten.com
SUMMARY:Bluefin Bar & Light Bites
DESCRIPTION:Enjoy stunning ocean and sunset views from this bar located above Azul Restaurant. Light bites served 2:00 PM – 5:00 PM\, with libations available throughout – your perfect golden hour destination.
URL:https://sonestastmaarten.com/event/bluefin-bar-3/2026-08-09/
LOCATION:Bluefin Restaurant
CATEGORIES:OP Dining Hours
ATTACH;FMTTYPE=image/png:https://sonestastmaarten.com/wp-content/uploads/bluefin-logo.png
END:VEVENT
BEGIN:VEVENT
DTSTART;TZID=America/Anguilla:20260809T170000
DTEND;TZID=America/Anguilla:20260810T010000
DTSTAMP:20260423T042423
CREATED:20251110T181642Z
LAST-MODIFIED:20260205T192755Z
UID:100107477-1786294800-1786323600@sonestastmaarten.com
SUMMARY:The Cloud 9 Rooftop Experience
DESCRIPTION:Experience stunning Caribbean views and spectacular sunsets from the world’s best plane-spotting venue. Enjoy premium cocktails\, fine wines\, and spirits. Bar snacks served 5:30 PM – 12:30 AM.
URL:https://sonestastmaarten.com/event/the-cloud-9-rooftop-experience/2026-08-09/
LOCATION:Cloud 9
CATEGORIES:OP Dining Hours,Ultimate Dining Hours
ATTACH;FMTTYPE=image/png:https://sonestastmaarten.com/wp-content/uploads/Cloud9_Logo.png
END:VEVENT
BEGIN:VEVENT
DTSTART;VALUE=DATE:20260810
DTEND;VALUE=DATE:20260812
DTSTAMP:20260423T042423
CREATED:20251104T162823Z
LAST-MODIFIED:20260205T192738Z
UID:100107104-1786323600-1786409999@sonestastmaarten.com
SUMMARY:24 Hour Room-Service
DESCRIPTION:All-day menu featuring salads\, pizzas\, sandwiches\, burgers\, and entrees including grilled chicken and pan-seared fish available for in-room dining.
URL:https://sonestastmaarten.com/event/24-hour-room-service/2026-08-10/
LOCATION:Room Service
CATEGORIES:OP Dining Hours
END:VEVENT
BEGIN:VEVENT
DTSTART;TZID=America/Anguilla:20260810T140000
DTEND;TZID=America/Anguilla:20260810T170000
DTSTAMP:20260423T042423
CREATED:20260103T161306Z
LAST-MODIFIED:20260320T155656Z
UID:100114208-1786370400-1786381200@sonestastmaarten.com
SUMMARY:Bluefin Bar & Light Bites
DESCRIPTION:Enjoy stunning ocean and sunset views from this bar located above Azul Restaurant. Light bites served 2:00 PM – 5:00 PM\, with libations available throughout – your perfect golden hour destination.
URL:https://sonestastmaarten.com/event/bluefin-bar-3/2026-08-10/
LOCATION:Bluefin Restaurant
CATEGORIES:OP Dining Hours
ATTACH;FMTTYPE=image/png:https://sonestastmaarten.com/wp-content/uploads/bluefin-logo.png
END:VEVENT
BEGIN:VEVENT
DTSTART;TZID=America/Anguilla:20260810T170000
DTEND;TZID=America/Anguilla:20260811T010000
DTSTAMP:20260423T042423
CREATED:20251110T181642Z
LAST-MODIFIED:20260205T192755Z
UID:100107478-1786381200-1786410000@sonestastmaarten.com
SUMMARY:The Cloud 9 Rooftop Experience
DESCRIPTION:Experience stunning Caribbean views and spectacular sunsets from the world’s best plane-spotting venue. Enjoy premium cocktails\, fine wines\, and spirits. Bar snacks served 5:30 PM – 12:30 AM.
URL:https://sonestastmaarten.com/event/the-cloud-9-rooftop-experience/2026-08-10/
LOCATION:Cloud 9
CATEGORIES:OP Dining Hours,Ultimate Dining Hours
ATTACH;FMTTYPE=image/png:https://sonestastmaarten.com/wp-content/uploads/Cloud9_Logo.png
END:VEVENT
BEGIN:VEVENT
DTSTART;VALUE=DATE:20260811
DTEND;VALUE=DATE:20260813
DTSTAMP:20260423T042423
CREATED:20251104T162823Z
LAST-MODIFIED:20260205T192738Z
UID:100107105-1786410000-1786496399@sonestastmaarten.com
SUMMARY:24 Hour Room-Service
DESCRIPTION:All-day menu featuring salads\, pizzas\, sandwiches\, burgers\, and entrees including grilled chicken and pan-seared fish available for in-room dining.
URL:https://sonestastmaarten.com/event/24-hour-room-service/2026-08-11/
LOCATION:Room Service
CATEGORIES:OP Dining Hours
END:VEVENT
BEGIN:VEVENT
DTSTART;TZID=America/Anguilla:20260811T153000
DTEND;TZID=America/Anguilla:20260811T173000
DTSTAMP:20260423T042423
CREATED:20250927T084345Z
LAST-MODIFIED:20260420T144506Z
UID:100118406-1786462200-1786469400@sonestastmaarten.com
SUMMARY:Point Pool Snacks
DESCRIPTION:Light poolside refreshments served at The Point Pool during late afternoon hours.
URL:https://sonestastmaarten.com/event/point-pool-snacks/2026-08-11/
LOCATION:The Point Pool
CATEGORIES:OP Dining Hours
ATTACH;FMTTYPE=image/png:https://sonestastmaarten.com/wp-content/uploads/one-zero-poolbar.png
END:VEVENT
END:VCALENDAR