BEGIN:VCALENDAR
VERSION:2.0
PRODID:-//Sonesta Resorts Sint Maarten - ECPv6.15.17.1//NONSGML v1.0//EN
CALSCALE:GREGORIAN
METHOD:PUBLISH
X-ORIGINAL-URL:https://sonestastmaarten.com
X-WR-CALDESC:Events for Sonesta Resorts Sint Maarten
REFRESH-INTERVAL;VALUE=DURATION:PT1H
X-Robots-Tag:noindex
X-PUBLISHED-TTL:PT1H
BEGIN:VTIMEZONE
TZID:America/Anguilla
BEGIN:STANDARD
TZOFFSETFROM:-0400
TZOFFSETTO:-0400
TZNAME:AST
DTSTART:20250101T000000
END:STANDARD
END:VTIMEZONE
BEGIN:VEVENT
DTSTART;TZID=America/Anguilla:20260519T170000
DTEND;TZID=America/Anguilla:20260520T010000
DTSTAMP:20260422T064908
CREATED:20251110T181642Z
LAST-MODIFIED:20260205T192755Z
UID:100107395-1779210000-1779238800@sonestastmaarten.com
SUMMARY:The Cloud 9 Rooftop Experience
DESCRIPTION:Experience stunning Caribbean views and spectacular sunsets from the world’s best plane-spotting venue. Enjoy premium cocktails\, fine wines\, and spirits. Bar snacks served 5:30 PM – 12:30 AM.
URL:https://sonestastmaarten.com/event/the-cloud-9-rooftop-experience/2026-05-19/
LOCATION:Cloud 9
CATEGORIES:OP Dining Hours,Ultimate Dining Hours
ATTACH;FMTTYPE=image/png:https://sonestastmaarten.com/wp-content/uploads/Cloud9_Logo.png
END:VEVENT
BEGIN:VEVENT
DTSTART;TZID=America/Anguilla:20260519T173000
DTEND;TZID=America/Anguilla:20260519T230000
DTSTAMP:20260422T064908
CREATED:20250928T163944Z
LAST-MODIFIED:20260420T144629Z
UID:100118524-1779211800-1779231600@sonestastmaarten.com
SUMMARY:Bluefin Bar
DESCRIPTION:Rooftop bar above Azul with front-row sunset views\, serving light bites and libations in an exclusive setting perfect for golden hour.
URL:https://sonestastmaarten.com/event/bluefin-bar-2/2026-05-19/
LOCATION:Bluefin Restaurant
CATEGORIES:OP Dining Hours
ATTACH;FMTTYPE=image/png:https://sonestastmaarten.com/wp-content/uploads/bluefin-logo.png
END:VEVENT
BEGIN:VEVENT
DTSTART;TZID=America/Anguilla:20260519T180000
DTEND;TZID=America/Anguilla:20260519T220000
DTSTAMP:20260422T064908
CREATED:20250927T083633Z
LAST-MODIFIED:20260420T144651Z
UID:100118684-1779213600-1779228000@sonestastmaarten.com
SUMMARY:Bluefin Restaurant
DESCRIPTION:Healthy poke-inspired dining featuring sustainably sourced fish with specialty and build-your-own bowls for a fresh dinner experience.
URL:https://sonestastmaarten.com/event/bluefin-restaurant/2026-05-19/
LOCATION:Bluefin Restaurant
CATEGORIES:OP Dining Hours
ATTACH;FMTTYPE=image/png:https://sonestastmaarten.com/wp-content/uploads/bluefin-logo.png
END:VEVENT
BEGIN:VEVENT
DTSTART;VALUE=DATE:20260520
DTEND;VALUE=DATE:20260522
DTSTAMP:20260422T064908
CREATED:20251104T162823Z
LAST-MODIFIED:20260205T192738Z
UID:100107022-1779238800-1779325199@sonestastmaarten.com
SUMMARY:24 Hour Room-Service
DESCRIPTION:All-day menu featuring salads\, pizzas\, sandwiches\, burgers\, and entrees including grilled chicken and pan-seared fish available for in-room dining.
URL:https://sonestastmaarten.com/event/24-hour-room-service/2026-05-20/
LOCATION:Room Service
CATEGORIES:OP Dining Hours
END:VEVENT
BEGIN:VEVENT
DTSTART;TZID=America/Anguilla:20260520T100000
DTEND;TZID=America/Anguilla:20260520T180000
DTSTAMP:20260422T064908
CREATED:20250928T162214Z
LAST-MODIFIED:20260320T155627Z
UID:100119027-1779271200-1779300000@sonestastmaarten.com
SUMMARY:One Zero Pool Bar
DESCRIPTION:Pool bar at The Point Pool facing famous Maho Beach\, serving poolside cocktails with front-row views of iconic plane landings on Runway 10.
URL:https://sonestastmaarten.com/event/one-zero-pool-bar/2026-05-20/
LOCATION:The Point Pool
CATEGORIES:OP Dining Hours
ATTACH;FMTTYPE=image/png:https://sonestastmaarten.com/wp-content/uploads/one-zero-poolbar.png
END:VEVENT
BEGIN:VEVENT
DTSTART;TZID=America/Anguilla:20260520T100000
DTEND;TZID=America/Anguilla:20260520T230000
DTSTAMP:20260422T064908
CREATED:20250928T161914Z
LAST-MODIFIED:20251219T180958Z
UID:100119037-1779271200-1779318000@sonestastmaarten.com
SUMMARY:Martin's Bar
DESCRIPTION:Chic lobby bar with contemporary Caribbean design\, serving coffee\, tea\, cocktails\, and light refreshments throughout the day in a convivial atmosphere.
URL:https://sonestastmaarten.com/event/martins-bar/2026-05-20/
LOCATION:Martin’s Bar
CATEGORIES:OP Dining Hours
ATTACH;FMTTYPE=image/png:https://sonestastmaarten.com/wp-content/uploads/martins-bar.png
END:VEVENT
BEGIN:VEVENT
DTSTART;TZID=America/Anguilla:20260520T120000
DTEND;TZID=America/Anguilla:20260520T143000
DTSTAMP:20260422T064908
CREATED:20250927T081418Z
LAST-MODIFIED:20251219T180959Z
UID:100119080-1779278400-1779287400@sonestastmaarten.com
SUMMARY:Azul Restaurant (Lunch)
DESCRIPTION:Fine dining experience with a multi-course menu featuring starters\, main courses\, and desserts with Mediterranean-inspired cuisine and seasonal ingredients.
URL:https://sonestastmaarten.com/event/azul-restaurant-2/2026-05-20/
LOCATION:The Azul Restaurant
CATEGORIES:OP Dining Hours
ATTACH;FMTTYPE=image/png:https://sonestastmaarten.com/wp-content/uploads/azul-restaurant.png
END:VEVENT
BEGIN:VEVENT
DTSTART;TZID=America/Anguilla:20260520T140000
DTEND;TZID=America/Anguilla:20260520T170000
DTSTAMP:20260422T064908
CREATED:20260103T161306Z
LAST-MODIFIED:20260320T155656Z
UID:100114161-1779285600-1779296400@sonestastmaarten.com
SUMMARY:Bluefin Bar & Light Bites
DESCRIPTION:Enjoy stunning ocean and sunset views from this bar located above Azul Restaurant. Light bites served 2:00 PM – 5:00 PM\, with libations available throughout – your perfect golden hour destination.
URL:https://sonestastmaarten.com/event/bluefin-bar-3/2026-05-20/
LOCATION:Bluefin Restaurant
CATEGORIES:OP Dining Hours
ATTACH;FMTTYPE=image/png:https://sonestastmaarten.com/wp-content/uploads/bluefin-logo.png
END:VEVENT
BEGIN:VEVENT
DTSTART;TZID=America/Anguilla:20260520T170000
DTEND;TZID=America/Anguilla:20260521T010000
DTSTAMP:20260422T064908
CREATED:20250928T163548Z
LAST-MODIFIED:20260313T152930Z
UID:100119108-1779296400-1779325200@sonestastmaarten.com
SUMMARY:Sunset Bar + Lounge
DESCRIPTION:Ocean view rooftop venue at the west end of Ocean Point with sweeping views\, offering specialty cocktails in a sophisticated outdoor setting ideal for unforgettable sunsets.
URL:https://sonestastmaarten.com/event/sunset-bar-lounge-2/2026-05-20/
LOCATION:Sunset Bar + Lounge
CATEGORIES:OP Dining Hours
ATTACH;FMTTYPE=image/png:https://sonestastmaarten.com/wp-content/uploads/sunsetloungebar.png
END:VEVENT
BEGIN:VEVENT
DTSTART;TZID=America/Anguilla:20260520T170000
DTEND;TZID=America/Anguilla:20260521T010000
DTSTAMP:20260422T064908
CREATED:20251110T181642Z
LAST-MODIFIED:20260205T192755Z
UID:100107396-1779296400-1779325200@sonestastmaarten.com
SUMMARY:The Cloud 9 Rooftop Experience
DESCRIPTION:Experience stunning Caribbean views and spectacular sunsets from the world’s best plane-spotting venue. Enjoy premium cocktails\, fine wines\, and spirits. Bar snacks served 5:30 PM – 12:30 AM.
URL:https://sonestastmaarten.com/event/the-cloud-9-rooftop-experience/2026-05-20/
LOCATION:Cloud 9
CATEGORIES:OP Dining Hours,Ultimate Dining Hours
ATTACH;FMTTYPE=image/png:https://sonestastmaarten.com/wp-content/uploads/Cloud9_Logo.png
END:VEVENT
BEGIN:VEVENT
DTSTART;VALUE=DATE:20260521
DTEND;VALUE=DATE:20260523
DTSTAMP:20260422T064908
CREATED:20251104T162823Z
LAST-MODIFIED:20260205T192738Z
UID:100107023-1779325200-1779411599@sonestastmaarten.com
SUMMARY:24 Hour Room-Service
DESCRIPTION:All-day menu featuring salads\, pizzas\, sandwiches\, burgers\, and entrees including grilled chicken and pan-seared fish available for in-room dining.
URL:https://sonestastmaarten.com/event/24-hour-room-service/2026-05-21/
LOCATION:Room Service
CATEGORIES:OP Dining Hours
END:VEVENT
BEGIN:VEVENT
DTSTART;TZID=America/Anguilla:20260521T120000
DTEND;TZID=America/Anguilla:20260521T143000
DTSTAMP:20260422T064908
CREATED:20250927T081418Z
LAST-MODIFIED:20251219T180959Z
UID:100119081-1779364800-1779373800@sonestastmaarten.com
SUMMARY:Azul Restaurant (Lunch)
DESCRIPTION:Fine dining experience with a multi-course menu featuring starters\, main courses\, and desserts with Mediterranean-inspired cuisine and seasonal ingredients.
URL:https://sonestastmaarten.com/event/azul-restaurant-2/2026-05-21/
LOCATION:The Azul Restaurant
CATEGORIES:OP Dining Hours
ATTACH;FMTTYPE=image/png:https://sonestastmaarten.com/wp-content/uploads/azul-restaurant.png
END:VEVENT
BEGIN:VEVENT
DTSTART;TZID=America/Anguilla:20260521T153000
DTEND;TZID=America/Anguilla:20260521T173000
DTSTAMP:20260422T064908
CREATED:20250927T084345Z
LAST-MODIFIED:20260420T144506Z
UID:100118371-1779377400-1779384600@sonestastmaarten.com
SUMMARY:Point Pool Snacks
DESCRIPTION:Light poolside refreshments served at The Point Pool during late afternoon hours.
URL:https://sonestastmaarten.com/event/point-pool-snacks/2026-05-21/
LOCATION:The Point Pool
CATEGORIES:OP Dining Hours
ATTACH;FMTTYPE=image/png:https://sonestastmaarten.com/wp-content/uploads/one-zero-poolbar.png
END:VEVENT
BEGIN:VEVENT
DTSTART;TZID=America/Anguilla:20260521T170000
DTEND;TZID=America/Anguilla:20260522T010000
DTSTAMP:20260422T064908
CREATED:20250928T163548Z
LAST-MODIFIED:20260313T152930Z
UID:100119109-1779382800-1779411600@sonestastmaarten.com
SUMMARY:Sunset Bar + Lounge
DESCRIPTION:Ocean view rooftop venue at the west end of Ocean Point with sweeping views\, offering specialty cocktails in a sophisticated outdoor setting ideal for unforgettable sunsets.
URL:https://sonestastmaarten.com/event/sunset-bar-lounge-2/2026-05-21/
LOCATION:Sunset Bar + Lounge
CATEGORIES:OP Dining Hours
ATTACH;FMTTYPE=image/png:https://sonestastmaarten.com/wp-content/uploads/sunsetloungebar.png
END:VEVENT
BEGIN:VEVENT
DTSTART;TZID=America/Anguilla:20260521T170000
DTEND;TZID=America/Anguilla:20260522T010000
DTSTAMP:20260422T064908
CREATED:20251110T181642Z
LAST-MODIFIED:20260205T192755Z
UID:100107397-1779382800-1779411600@sonestastmaarten.com
SUMMARY:The Cloud 9 Rooftop Experience
DESCRIPTION:Experience stunning Caribbean views and spectacular sunsets from the world’s best plane-spotting venue. Enjoy premium cocktails\, fine wines\, and spirits. Bar snacks served 5:30 PM – 12:30 AM.
URL:https://sonestastmaarten.com/event/the-cloud-9-rooftop-experience/2026-05-21/
LOCATION:Cloud 9
CATEGORIES:OP Dining Hours,Ultimate Dining Hours
ATTACH;FMTTYPE=image/png:https://sonestastmaarten.com/wp-content/uploads/Cloud9_Logo.png
END:VEVENT
BEGIN:VEVENT
DTSTART;TZID=America/Anguilla:20260521T173000
DTEND;TZID=America/Anguilla:20260521T230000
DTSTAMP:20260422T064908
CREATED:20250928T163944Z
LAST-MODIFIED:20260420T144629Z
UID:100118525-1779384600-1779404400@sonestastmaarten.com
SUMMARY:Bluefin Bar
DESCRIPTION:Rooftop bar above Azul with front-row sunset views\, serving light bites and libations in an exclusive setting perfect for golden hour.
URL:https://sonestastmaarten.com/event/bluefin-bar-2/2026-05-21/
LOCATION:Bluefin Restaurant
CATEGORIES:OP Dining Hours
ATTACH;FMTTYPE=image/png:https://sonestastmaarten.com/wp-content/uploads/bluefin-logo.png
END:VEVENT
BEGIN:VEVENT
DTSTART;TZID=America/Anguilla:20260521T180000
DTEND;TZID=America/Anguilla:20260521T220000
DTSTAMP:20260422T064908
CREATED:20250927T083633Z
LAST-MODIFIED:20260420T144651Z
UID:100118685-1779386400-1779400800@sonestastmaarten.com
SUMMARY:Bluefin Restaurant
DESCRIPTION:Healthy poke-inspired dining featuring sustainably sourced fish with specialty and build-your-own bowls for a fresh dinner experience.
URL:https://sonestastmaarten.com/event/bluefin-restaurant/2026-05-21/
LOCATION:Bluefin Restaurant
CATEGORIES:OP Dining Hours
ATTACH;FMTTYPE=image/png:https://sonestastmaarten.com/wp-content/uploads/bluefin-logo.png
END:VEVENT
BEGIN:VEVENT
DTSTART;VALUE=DATE:20260522
DTEND;VALUE=DATE:20260524
DTSTAMP:20260422T064909
CREATED:20251104T162823Z
LAST-MODIFIED:20260205T192738Z
UID:100107024-1779411600-1779497999@sonestastmaarten.com
SUMMARY:24 Hour Room-Service
DESCRIPTION:All-day menu featuring salads\, pizzas\, sandwiches\, burgers\, and entrees including grilled chicken and pan-seared fish available for in-room dining.
URL:https://sonestastmaarten.com/event/24-hour-room-service/2026-05-22/
LOCATION:Room Service
CATEGORIES:OP Dining Hours
END:VEVENT
BEGIN:VEVENT
DTSTART;TZID=America/Anguilla:20260522T140000
DTEND;TZID=America/Anguilla:20260522T170000
DTSTAMP:20260422T064909
CREATED:20260103T161306Z
LAST-MODIFIED:20260320T155656Z
UID:100114162-1779458400-1779469200@sonestastmaarten.com
SUMMARY:Bluefin Bar & Light Bites
DESCRIPTION:Enjoy stunning ocean and sunset views from this bar located above Azul Restaurant. Light bites served 2:00 PM – 5:00 PM\, with libations available throughout – your perfect golden hour destination.
URL:https://sonestastmaarten.com/event/bluefin-bar-3/2026-05-22/
LOCATION:Bluefin Restaurant
CATEGORIES:OP Dining Hours
ATTACH;FMTTYPE=image/png:https://sonestastmaarten.com/wp-content/uploads/bluefin-logo.png
END:VEVENT
BEGIN:VEVENT
DTSTART;TZID=America/Anguilla:20260522T170000
DTEND;TZID=America/Anguilla:20260523T010000
DTSTAMP:20260422T064909
CREATED:20251110T181642Z
LAST-MODIFIED:20260205T192755Z
UID:100107398-1779469200-1779498000@sonestastmaarten.com
SUMMARY:The Cloud 9 Rooftop Experience
DESCRIPTION:Experience stunning Caribbean views and spectacular sunsets from the world’s best plane-spotting venue. Enjoy premium cocktails\, fine wines\, and spirits. Bar snacks served 5:30 PM – 12:30 AM.
URL:https://sonestastmaarten.com/event/the-cloud-9-rooftop-experience/2026-05-22/
LOCATION:Cloud 9
CATEGORIES:OP Dining Hours,Ultimate Dining Hours
ATTACH;FMTTYPE=image/png:https://sonestastmaarten.com/wp-content/uploads/Cloud9_Logo.png
END:VEVENT
BEGIN:VEVENT
DTSTART;VALUE=DATE:20260523
DTEND;VALUE=DATE:20260525
DTSTAMP:20260422T064909
CREATED:20251104T162823Z
LAST-MODIFIED:20260205T192738Z
UID:100107025-1779498000-1779584399@sonestastmaarten.com
SUMMARY:24 Hour Room-Service
DESCRIPTION:All-day menu featuring salads\, pizzas\, sandwiches\, burgers\, and entrees including grilled chicken and pan-seared fish available for in-room dining.
URL:https://sonestastmaarten.com/event/24-hour-room-service/2026-05-23/
LOCATION:Room Service
CATEGORIES:OP Dining Hours
END:VEVENT
BEGIN:VEVENT
DTSTART;TZID=America/Anguilla:20260523T153000
DTEND;TZID=America/Anguilla:20260523T173000
DTSTAMP:20260422T064909
CREATED:20250927T084345Z
LAST-MODIFIED:20260420T144506Z
UID:100118372-1779550200-1779557400@sonestastmaarten.com
SUMMARY:Point Pool Snacks
DESCRIPTION:Light poolside refreshments served at The Point Pool during late afternoon hours.
URL:https://sonestastmaarten.com/event/point-pool-snacks/2026-05-23/
LOCATION:The Point Pool
CATEGORIES:OP Dining Hours
ATTACH;FMTTYPE=image/png:https://sonestastmaarten.com/wp-content/uploads/one-zero-poolbar.png
END:VEVENT
BEGIN:VEVENT
DTSTART;TZID=America/Anguilla:20260523T170000
DTEND;TZID=America/Anguilla:20260524T010000
DTSTAMP:20260422T064909
CREATED:20251110T181642Z
LAST-MODIFIED:20260205T192755Z
UID:100107399-1779555600-1779584400@sonestastmaarten.com
SUMMARY:The Cloud 9 Rooftop Experience
DESCRIPTION:Experience stunning Caribbean views and spectacular sunsets from the world’s best plane-spotting venue. Enjoy premium cocktails\, fine wines\, and spirits. Bar snacks served 5:30 PM – 12:30 AM.
URL:https://sonestastmaarten.com/event/the-cloud-9-rooftop-experience/2026-05-23/
LOCATION:Cloud 9
CATEGORIES:OP Dining Hours,Ultimate Dining Hours
ATTACH;FMTTYPE=image/png:https://sonestastmaarten.com/wp-content/uploads/Cloud9_Logo.png
END:VEVENT
BEGIN:VEVENT
DTSTART;TZID=America/Anguilla:20260523T173000
DTEND;TZID=America/Anguilla:20260523T230000
DTSTAMP:20260422T064909
CREATED:20250928T163944Z
LAST-MODIFIED:20260420T144629Z
UID:100118526-1779557400-1779577200@sonestastmaarten.com
SUMMARY:Bluefin Bar
DESCRIPTION:Rooftop bar above Azul with front-row sunset views\, serving light bites and libations in an exclusive setting perfect for golden hour.
URL:https://sonestastmaarten.com/event/bluefin-bar-2/2026-05-23/
LOCATION:Bluefin Restaurant
CATEGORIES:OP Dining Hours
ATTACH;FMTTYPE=image/png:https://sonestastmaarten.com/wp-content/uploads/bluefin-logo.png
END:VEVENT
BEGIN:VEVENT
DTSTART;TZID=America/Anguilla:20260523T180000
DTEND;TZID=America/Anguilla:20260523T220000
DTSTAMP:20260422T064909
CREATED:20250927T083633Z
LAST-MODIFIED:20260420T144651Z
UID:100118686-1779559200-1779573600@sonestastmaarten.com
SUMMARY:Bluefin Restaurant
DESCRIPTION:Healthy poke-inspired dining featuring sustainably sourced fish with specialty and build-your-own bowls for a fresh dinner experience.
URL:https://sonestastmaarten.com/event/bluefin-restaurant/2026-05-23/
LOCATION:Bluefin Restaurant
CATEGORIES:OP Dining Hours
ATTACH;FMTTYPE=image/png:https://sonestastmaarten.com/wp-content/uploads/bluefin-logo.png
END:VEVENT
BEGIN:VEVENT
DTSTART;VALUE=DATE:20260524
DTEND;VALUE=DATE:20260526
DTSTAMP:20260422T064909
CREATED:20251104T162823Z
LAST-MODIFIED:20260205T192738Z
UID:100107026-1779584400-1779670799@sonestastmaarten.com
SUMMARY:24 Hour Room-Service
DESCRIPTION:All-day menu featuring salads\, pizzas\, sandwiches\, burgers\, and entrees including grilled chicken and pan-seared fish available for in-room dining.
URL:https://sonestastmaarten.com/event/24-hour-room-service/2026-05-24/
LOCATION:Room Service
CATEGORIES:OP Dining Hours
END:VEVENT
BEGIN:VEVENT
DTSTART;TZID=America/Anguilla:20260524T140000
DTEND;TZID=America/Anguilla:20260524T170000
DTSTAMP:20260422T064909
CREATED:20260103T161306Z
LAST-MODIFIED:20260320T155656Z
UID:100114163-1779631200-1779642000@sonestastmaarten.com
SUMMARY:Bluefin Bar & Light Bites
DESCRIPTION:Enjoy stunning ocean and sunset views from this bar located above Azul Restaurant. Light bites served 2:00 PM – 5:00 PM\, with libations available throughout – your perfect golden hour destination.
URL:https://sonestastmaarten.com/event/bluefin-bar-3/2026-05-24/
LOCATION:Bluefin Restaurant
CATEGORIES:OP Dining Hours
ATTACH;FMTTYPE=image/png:https://sonestastmaarten.com/wp-content/uploads/bluefin-logo.png
END:VEVENT
BEGIN:VEVENT
DTSTART;TZID=America/Anguilla:20260524T170000
DTEND;TZID=America/Anguilla:20260525T010000
DTSTAMP:20260422T064909
CREATED:20251110T181642Z
LAST-MODIFIED:20260205T192755Z
UID:100107400-1779642000-1779670800@sonestastmaarten.com
SUMMARY:The Cloud 9 Rooftop Experience
DESCRIPTION:Experience stunning Caribbean views and spectacular sunsets from the world’s best plane-spotting venue. Enjoy premium cocktails\, fine wines\, and spirits. Bar snacks served 5:30 PM – 12:30 AM.
URL:https://sonestastmaarten.com/event/the-cloud-9-rooftop-experience/2026-05-24/
LOCATION:Cloud 9
CATEGORIES:OP Dining Hours,Ultimate Dining Hours
ATTACH;FMTTYPE=image/png:https://sonestastmaarten.com/wp-content/uploads/Cloud9_Logo.png
END:VEVENT
BEGIN:VEVENT
DTSTART;VALUE=DATE:20260525
DTEND;VALUE=DATE:20260527
DTSTAMP:20260422T064909
CREATED:20251104T162823Z
LAST-MODIFIED:20260205T192738Z
UID:100107027-1779670800-1779757199@sonestastmaarten.com
SUMMARY:24 Hour Room-Service
DESCRIPTION:All-day menu featuring salads\, pizzas\, sandwiches\, burgers\, and entrees including grilled chicken and pan-seared fish available for in-room dining.
URL:https://sonestastmaarten.com/event/24-hour-room-service/2026-05-25/
LOCATION:Room Service
CATEGORIES:OP Dining Hours
END:VEVENT
BEGIN:VEVENT
DTSTART;TZID=America/Anguilla:20260525T140000
DTEND;TZID=America/Anguilla:20260525T170000
DTSTAMP:20260422T064909
CREATED:20260103T161306Z
LAST-MODIFIED:20260320T155656Z
UID:100114164-1779717600-1779728400@sonestastmaarten.com
SUMMARY:Bluefin Bar & Light Bites
DESCRIPTION:Enjoy stunning ocean and sunset views from this bar located above Azul Restaurant. Light bites served 2:00 PM – 5:00 PM\, with libations available throughout – your perfect golden hour destination.
URL:https://sonestastmaarten.com/event/bluefin-bar-3/2026-05-25/
LOCATION:Bluefin Restaurant
CATEGORIES:OP Dining Hours
ATTACH;FMTTYPE=image/png:https://sonestastmaarten.com/wp-content/uploads/bluefin-logo.png
END:VEVENT
END:VCALENDAR