BEGIN:VCALENDAR
VERSION:2.0
PRODID:-//Sonesta Resorts Sint Maarten - ECPv6.15.17.1//NONSGML v1.0//EN
CALSCALE:GREGORIAN
METHOD:PUBLISH
X-ORIGINAL-URL:https://sonestastmaarten.com
X-WR-CALDESC:Events for Sonesta Resorts Sint Maarten
REFRESH-INTERVAL;VALUE=DURATION:PT1H
X-Robots-Tag:noindex
X-PUBLISHED-TTL:PT1H
BEGIN:VTIMEZONE
TZID:America/Anguilla
BEGIN:STANDARD
TZOFFSETFROM:-0400
TZOFFSETTO:-0400
TZNAME:AST
DTSTART:20260101T000000
END:STANDARD
END:VTIMEZONE
BEGIN:VEVENT
DTSTART;TZID=America/Anguilla:20270119T170000
DTEND;TZID=America/Anguilla:20270120T010000
DTSTAMP:20260422T214806
CREATED:20251110T181642Z
LAST-MODIFIED:20260205T192755Z
UID:100107640-1800378000-1800406800@sonestastmaarten.com
SUMMARY:The Cloud 9 Rooftop Experience
DESCRIPTION:Experience stunning Caribbean views and spectacular sunsets from the world’s best plane-spotting venue. Enjoy premium cocktails\, fine wines\, and spirits. Bar snacks served 5:30 PM – 12:30 AM.
URL:https://sonestastmaarten.com/event/the-cloud-9-rooftop-experience/2027-01-19/
LOCATION:Cloud 9
CATEGORIES:OP Dining Hours,Ultimate Dining Hours
ATTACH;FMTTYPE=image/png:https://sonestastmaarten.com/wp-content/uploads/Cloud9_Logo.png
END:VEVENT
BEGIN:VEVENT
DTSTART;TZID=America/Anguilla:20270119T173000
DTEND;TZID=America/Anguilla:20270119T230000
DTSTAMP:20260422T214806
CREATED:20250928T163944Z
LAST-MODIFIED:20260420T144629Z
UID:100118629-1800379800-1800399600@sonestastmaarten.com
SUMMARY:Bluefin Bar
DESCRIPTION:Rooftop bar above Azul with front-row sunset views\, serving light bites and libations in an exclusive setting perfect for golden hour.
URL:https://sonestastmaarten.com/event/bluefin-bar-2/2027-01-19/
LOCATION:Bluefin Restaurant
CATEGORIES:OP Dining Hours
ATTACH;FMTTYPE=image/png:https://sonestastmaarten.com/wp-content/uploads/bluefin-logo.png
END:VEVENT
BEGIN:VEVENT
DTSTART;TZID=America/Anguilla:20270119T180000
DTEND;TZID=America/Anguilla:20270119T220000
DTSTAMP:20260422T214806
CREATED:20250927T083633Z
LAST-MODIFIED:20260420T144651Z
UID:100118789-1800381600-1800396000@sonestastmaarten.com
SUMMARY:Bluefin Restaurant
DESCRIPTION:Healthy poke-inspired dining featuring sustainably sourced fish with specialty and build-your-own bowls for a fresh dinner experience.
URL:https://sonestastmaarten.com/event/bluefin-restaurant/2027-01-19/
LOCATION:Bluefin Restaurant
CATEGORIES:OP Dining Hours
ATTACH;FMTTYPE=image/png:https://sonestastmaarten.com/wp-content/uploads/bluefin-logo.png
END:VEVENT
BEGIN:VEVENT
DTSTART;VALUE=DATE:20270120
DTEND;VALUE=DATE:20270122
DTSTAMP:20260422T214806
CREATED:20251104T162823Z
LAST-MODIFIED:20260205T192738Z
UID:100107267-1800406800-1800493199@sonestastmaarten.com
SUMMARY:24 Hour Room-Service
DESCRIPTION:All-day menu featuring salads\, pizzas\, sandwiches\, burgers\, and entrees including grilled chicken and pan-seared fish available for in-room dining.
URL:https://sonestastmaarten.com/event/24-hour-room-service/2027-01-20/
LOCATION:Room Service
CATEGORIES:OP Dining Hours
END:VEVENT
BEGIN:VEVENT
DTSTART;TZID=America/Anguilla:20270120T140000
DTEND;TZID=America/Anguilla:20270120T170000
DTSTAMP:20260422T214806
CREATED:20260103T161306Z
LAST-MODIFIED:20260320T155656Z
UID:100114301-1800453600-1800464400@sonestastmaarten.com
SUMMARY:Bluefin Bar & Light Bites
DESCRIPTION:Enjoy stunning ocean and sunset views from this bar located above Azul Restaurant. Light bites served 2:00 PM – 5:00 PM\, with libations available throughout – your perfect golden hour destination.
URL:https://sonestastmaarten.com/event/bluefin-bar-3/2027-01-20/
LOCATION:Bluefin Restaurant
CATEGORIES:OP Dining Hours
ATTACH;FMTTYPE=image/png:https://sonestastmaarten.com/wp-content/uploads/bluefin-logo.png
END:VEVENT
BEGIN:VEVENT
DTSTART;TZID=America/Anguilla:20270120T170000
DTEND;TZID=America/Anguilla:20270121T010000
DTSTAMP:20260422T214806
CREATED:20251110T181642Z
LAST-MODIFIED:20260205T192755Z
UID:100107641-1800464400-1800493200@sonestastmaarten.com
SUMMARY:The Cloud 9 Rooftop Experience
DESCRIPTION:Experience stunning Caribbean views and spectacular sunsets from the world’s best plane-spotting venue. Enjoy premium cocktails\, fine wines\, and spirits. Bar snacks served 5:30 PM – 12:30 AM.
URL:https://sonestastmaarten.com/event/the-cloud-9-rooftop-experience/2027-01-20/
LOCATION:Cloud 9
CATEGORIES:OP Dining Hours,Ultimate Dining Hours
ATTACH;FMTTYPE=image/png:https://sonestastmaarten.com/wp-content/uploads/Cloud9_Logo.png
END:VEVENT
BEGIN:VEVENT
DTSTART;VALUE=DATE:20270121
DTEND;VALUE=DATE:20270123
DTSTAMP:20260422T214806
CREATED:20251104T162823Z
LAST-MODIFIED:20260205T192738Z
UID:100107268-1800493200-1800579599@sonestastmaarten.com
SUMMARY:24 Hour Room-Service
DESCRIPTION:All-day menu featuring salads\, pizzas\, sandwiches\, burgers\, and entrees including grilled chicken and pan-seared fish available for in-room dining.
URL:https://sonestastmaarten.com/event/24-hour-room-service/2027-01-21/
LOCATION:Room Service
CATEGORIES:OP Dining Hours
END:VEVENT
BEGIN:VEVENT
DTSTART;TZID=America/Anguilla:20270121T153000
DTEND;TZID=America/Anguilla:20270121T173000
DTSTAMP:20260422T214806
CREATED:20250927T084345Z
LAST-MODIFIED:20260420T144506Z
UID:100118476-1800545400-1800552600@sonestastmaarten.com
SUMMARY:Point Pool Snacks
DESCRIPTION:Light poolside refreshments served at The Point Pool during late afternoon hours.
URL:https://sonestastmaarten.com/event/point-pool-snacks/2027-01-21/
LOCATION:The Point Pool
CATEGORIES:OP Dining Hours
ATTACH;FMTTYPE=image/png:https://sonestastmaarten.com/wp-content/uploads/one-zero-poolbar.png
END:VEVENT
BEGIN:VEVENT
DTSTART;TZID=America/Anguilla:20270121T170000
DTEND;TZID=America/Anguilla:20270122T010000
DTSTAMP:20260422T214806
CREATED:20251110T181642Z
LAST-MODIFIED:20260205T192755Z
UID:100107642-1800550800-1800579600@sonestastmaarten.com
SUMMARY:The Cloud 9 Rooftop Experience
DESCRIPTION:Experience stunning Caribbean views and spectacular sunsets from the world’s best plane-spotting venue. Enjoy premium cocktails\, fine wines\, and spirits. Bar snacks served 5:30 PM – 12:30 AM.
URL:https://sonestastmaarten.com/event/the-cloud-9-rooftop-experience/2027-01-21/
LOCATION:Cloud 9
CATEGORIES:OP Dining Hours,Ultimate Dining Hours
ATTACH;FMTTYPE=image/png:https://sonestastmaarten.com/wp-content/uploads/Cloud9_Logo.png
END:VEVENT
BEGIN:VEVENT
DTSTART;TZID=America/Anguilla:20270121T173000
DTEND;TZID=America/Anguilla:20270121T230000
DTSTAMP:20260422T214806
CREATED:20250928T163944Z
LAST-MODIFIED:20260420T144629Z
UID:100118630-1800552600-1800572400@sonestastmaarten.com
SUMMARY:Bluefin Bar
DESCRIPTION:Rooftop bar above Azul with front-row sunset views\, serving light bites and libations in an exclusive setting perfect for golden hour.
URL:https://sonestastmaarten.com/event/bluefin-bar-2/2027-01-21/
LOCATION:Bluefin Restaurant
CATEGORIES:OP Dining Hours
ATTACH;FMTTYPE=image/png:https://sonestastmaarten.com/wp-content/uploads/bluefin-logo.png
END:VEVENT
BEGIN:VEVENT
DTSTART;TZID=America/Anguilla:20270121T180000
DTEND;TZID=America/Anguilla:20270121T220000
DTSTAMP:20260422T214806
CREATED:20250927T083633Z
LAST-MODIFIED:20260420T144651Z
UID:100118790-1800554400-1800568800@sonestastmaarten.com
SUMMARY:Bluefin Restaurant
DESCRIPTION:Healthy poke-inspired dining featuring sustainably sourced fish with specialty and build-your-own bowls for a fresh dinner experience.
URL:https://sonestastmaarten.com/event/bluefin-restaurant/2027-01-21/
LOCATION:Bluefin Restaurant
CATEGORIES:OP Dining Hours
ATTACH;FMTTYPE=image/png:https://sonestastmaarten.com/wp-content/uploads/bluefin-logo.png
END:VEVENT
BEGIN:VEVENT
DTSTART;VALUE=DATE:20270122
DTEND;VALUE=DATE:20270124
DTSTAMP:20260422T214806
CREATED:20251104T162823Z
LAST-MODIFIED:20260205T192738Z
UID:100107269-1800579600-1800665999@sonestastmaarten.com
SUMMARY:24 Hour Room-Service
DESCRIPTION:All-day menu featuring salads\, pizzas\, sandwiches\, burgers\, and entrees including grilled chicken and pan-seared fish available for in-room dining.
URL:https://sonestastmaarten.com/event/24-hour-room-service/2027-01-22/
LOCATION:Room Service
CATEGORIES:OP Dining Hours
END:VEVENT
BEGIN:VEVENT
DTSTART;TZID=America/Anguilla:20270122T140000
DTEND;TZID=America/Anguilla:20270122T170000
DTSTAMP:20260422T214806
CREATED:20260103T161306Z
LAST-MODIFIED:20260320T155656Z
UID:100114302-1800626400-1800637200@sonestastmaarten.com
SUMMARY:Bluefin Bar & Light Bites
DESCRIPTION:Enjoy stunning ocean and sunset views from this bar located above Azul Restaurant. Light bites served 2:00 PM – 5:00 PM\, with libations available throughout – your perfect golden hour destination.
URL:https://sonestastmaarten.com/event/bluefin-bar-3/2027-01-22/
LOCATION:Bluefin Restaurant
CATEGORIES:OP Dining Hours
ATTACH;FMTTYPE=image/png:https://sonestastmaarten.com/wp-content/uploads/bluefin-logo.png
END:VEVENT
BEGIN:VEVENT
DTSTART;TZID=America/Anguilla:20270122T170000
DTEND;TZID=America/Anguilla:20270123T010000
DTSTAMP:20260422T214806
CREATED:20251110T181642Z
LAST-MODIFIED:20260205T192755Z
UID:100107643-1800637200-1800666000@sonestastmaarten.com
SUMMARY:The Cloud 9 Rooftop Experience
DESCRIPTION:Experience stunning Caribbean views and spectacular sunsets from the world’s best plane-spotting venue. Enjoy premium cocktails\, fine wines\, and spirits. Bar snacks served 5:30 PM – 12:30 AM.
URL:https://sonestastmaarten.com/event/the-cloud-9-rooftop-experience/2027-01-22/
LOCATION:Cloud 9
CATEGORIES:OP Dining Hours,Ultimate Dining Hours
ATTACH;FMTTYPE=image/png:https://sonestastmaarten.com/wp-content/uploads/Cloud9_Logo.png
END:VEVENT
BEGIN:VEVENT
DTSTART;VALUE=DATE:20270123
DTEND;VALUE=DATE:20270125
DTSTAMP:20260422T214806
CREATED:20251104T162823Z
LAST-MODIFIED:20260205T192738Z
UID:100107270-1800666000-1800752399@sonestastmaarten.com
SUMMARY:24 Hour Room-Service
DESCRIPTION:All-day menu featuring salads\, pizzas\, sandwiches\, burgers\, and entrees including grilled chicken and pan-seared fish available for in-room dining.
URL:https://sonestastmaarten.com/event/24-hour-room-service/2027-01-23/
LOCATION:Room Service
CATEGORIES:OP Dining Hours
END:VEVENT
BEGIN:VEVENT
DTSTART;TZID=America/Anguilla:20270123T153000
DTEND;TZID=America/Anguilla:20270123T173000
DTSTAMP:20260422T214806
CREATED:20250927T084345Z
LAST-MODIFIED:20260420T144506Z
UID:100118477-1800718200-1800725400@sonestastmaarten.com
SUMMARY:Point Pool Snacks
DESCRIPTION:Light poolside refreshments served at The Point Pool during late afternoon hours.
URL:https://sonestastmaarten.com/event/point-pool-snacks/2027-01-23/
LOCATION:The Point Pool
CATEGORIES:OP Dining Hours
ATTACH;FMTTYPE=image/png:https://sonestastmaarten.com/wp-content/uploads/one-zero-poolbar.png
END:VEVENT
BEGIN:VEVENT
DTSTART;TZID=America/Anguilla:20270123T170000
DTEND;TZID=America/Anguilla:20270124T010000
DTSTAMP:20260422T214806
CREATED:20251110T181642Z
LAST-MODIFIED:20260205T192755Z
UID:100107644-1800723600-1800752400@sonestastmaarten.com
SUMMARY:The Cloud 9 Rooftop Experience
DESCRIPTION:Experience stunning Caribbean views and spectacular sunsets from the world’s best plane-spotting venue. Enjoy premium cocktails\, fine wines\, and spirits. Bar snacks served 5:30 PM – 12:30 AM.
URL:https://sonestastmaarten.com/event/the-cloud-9-rooftop-experience/2027-01-23/
LOCATION:Cloud 9
CATEGORIES:OP Dining Hours,Ultimate Dining Hours
ATTACH;FMTTYPE=image/png:https://sonestastmaarten.com/wp-content/uploads/Cloud9_Logo.png
END:VEVENT
BEGIN:VEVENT
DTSTART;TZID=America/Anguilla:20270123T173000
DTEND;TZID=America/Anguilla:20270123T230000
DTSTAMP:20260422T214806
CREATED:20250928T163944Z
LAST-MODIFIED:20260420T144629Z
UID:100118631-1800725400-1800745200@sonestastmaarten.com
SUMMARY:Bluefin Bar
DESCRIPTION:Rooftop bar above Azul with front-row sunset views\, serving light bites and libations in an exclusive setting perfect for golden hour.
URL:https://sonestastmaarten.com/event/bluefin-bar-2/2027-01-23/
LOCATION:Bluefin Restaurant
CATEGORIES:OP Dining Hours
ATTACH;FMTTYPE=image/png:https://sonestastmaarten.com/wp-content/uploads/bluefin-logo.png
END:VEVENT
BEGIN:VEVENT
DTSTART;TZID=America/Anguilla:20270123T180000
DTEND;TZID=America/Anguilla:20270123T220000
DTSTAMP:20260422T214806
CREATED:20250927T083633Z
LAST-MODIFIED:20260420T144651Z
UID:100118791-1800727200-1800741600@sonestastmaarten.com
SUMMARY:Bluefin Restaurant
DESCRIPTION:Healthy poke-inspired dining featuring sustainably sourced fish with specialty and build-your-own bowls for a fresh dinner experience.
URL:https://sonestastmaarten.com/event/bluefin-restaurant/2027-01-23/
LOCATION:Bluefin Restaurant
CATEGORIES:OP Dining Hours
ATTACH;FMTTYPE=image/png:https://sonestastmaarten.com/wp-content/uploads/bluefin-logo.png
END:VEVENT
BEGIN:VEVENT
DTSTART;VALUE=DATE:20270124
DTEND;VALUE=DATE:20270126
DTSTAMP:20260422T214806
CREATED:20251104T162823Z
LAST-MODIFIED:20260205T192738Z
UID:100107271-1800752400-1800838799@sonestastmaarten.com
SUMMARY:24 Hour Room-Service
DESCRIPTION:All-day menu featuring salads\, pizzas\, sandwiches\, burgers\, and entrees including grilled chicken and pan-seared fish available for in-room dining.
URL:https://sonestastmaarten.com/event/24-hour-room-service/2027-01-24/
LOCATION:Room Service
CATEGORIES:OP Dining Hours
END:VEVENT
BEGIN:VEVENT
DTSTART;TZID=America/Anguilla:20270124T140000
DTEND;TZID=America/Anguilla:20270124T170000
DTSTAMP:20260422T214806
CREATED:20260103T161306Z
LAST-MODIFIED:20260320T155656Z
UID:100114303-1800799200-1800810000@sonestastmaarten.com
SUMMARY:Bluefin Bar & Light Bites
DESCRIPTION:Enjoy stunning ocean and sunset views from this bar located above Azul Restaurant. Light bites served 2:00 PM – 5:00 PM\, with libations available throughout – your perfect golden hour destination.
URL:https://sonestastmaarten.com/event/bluefin-bar-3/2027-01-24/
LOCATION:Bluefin Restaurant
CATEGORIES:OP Dining Hours
ATTACH;FMTTYPE=image/png:https://sonestastmaarten.com/wp-content/uploads/bluefin-logo.png
END:VEVENT
BEGIN:VEVENT
DTSTART;TZID=America/Anguilla:20270124T170000
DTEND;TZID=America/Anguilla:20270125T010000
DTSTAMP:20260422T214806
CREATED:20251110T181642Z
LAST-MODIFIED:20260205T192755Z
UID:100107645-1800810000-1800838800@sonestastmaarten.com
SUMMARY:The Cloud 9 Rooftop Experience
DESCRIPTION:Experience stunning Caribbean views and spectacular sunsets from the world’s best plane-spotting venue. Enjoy premium cocktails\, fine wines\, and spirits. Bar snacks served 5:30 PM – 12:30 AM.
URL:https://sonestastmaarten.com/event/the-cloud-9-rooftop-experience/2027-01-24/
LOCATION:Cloud 9
CATEGORIES:OP Dining Hours,Ultimate Dining Hours
ATTACH;FMTTYPE=image/png:https://sonestastmaarten.com/wp-content/uploads/Cloud9_Logo.png
END:VEVENT
BEGIN:VEVENT
DTSTART;VALUE=DATE:20270125
DTEND;VALUE=DATE:20270127
DTSTAMP:20260422T214806
CREATED:20251104T162823Z
LAST-MODIFIED:20260205T192738Z
UID:100107272-1800838800-1800925199@sonestastmaarten.com
SUMMARY:24 Hour Room-Service
DESCRIPTION:All-day menu featuring salads\, pizzas\, sandwiches\, burgers\, and entrees including grilled chicken and pan-seared fish available for in-room dining.
URL:https://sonestastmaarten.com/event/24-hour-room-service/2027-01-25/
LOCATION:Room Service
CATEGORIES:OP Dining Hours
END:VEVENT
BEGIN:VEVENT
DTSTART;TZID=America/Anguilla:20270125T140000
DTEND;TZID=America/Anguilla:20270125T170000
DTSTAMP:20260422T214806
CREATED:20260103T161306Z
LAST-MODIFIED:20260320T155656Z
UID:100114304-1800885600-1800896400@sonestastmaarten.com
SUMMARY:Bluefin Bar & Light Bites
DESCRIPTION:Enjoy stunning ocean and sunset views from this bar located above Azul Restaurant. Light bites served 2:00 PM – 5:00 PM\, with libations available throughout – your perfect golden hour destination.
URL:https://sonestastmaarten.com/event/bluefin-bar-3/2027-01-25/
LOCATION:Bluefin Restaurant
CATEGORIES:OP Dining Hours
ATTACH;FMTTYPE=image/png:https://sonestastmaarten.com/wp-content/uploads/bluefin-logo.png
END:VEVENT
BEGIN:VEVENT
DTSTART;TZID=America/Anguilla:20270125T170000
DTEND;TZID=America/Anguilla:20270126T010000
DTSTAMP:20260422T214806
CREATED:20251110T181642Z
LAST-MODIFIED:20260205T192755Z
UID:100107646-1800896400-1800925200@sonestastmaarten.com
SUMMARY:The Cloud 9 Rooftop Experience
DESCRIPTION:Experience stunning Caribbean views and spectacular sunsets from the world’s best plane-spotting venue. Enjoy premium cocktails\, fine wines\, and spirits. Bar snacks served 5:30 PM – 12:30 AM.
URL:https://sonestastmaarten.com/event/the-cloud-9-rooftop-experience/2027-01-25/
LOCATION:Cloud 9
CATEGORIES:OP Dining Hours,Ultimate Dining Hours
ATTACH;FMTTYPE=image/png:https://sonestastmaarten.com/wp-content/uploads/Cloud9_Logo.png
END:VEVENT
BEGIN:VEVENT
DTSTART;VALUE=DATE:20270126
DTEND;VALUE=DATE:20270128
DTSTAMP:20260422T214806
CREATED:20251104T162823Z
LAST-MODIFIED:20260205T192738Z
UID:100107273-1800925200-1801011599@sonestastmaarten.com
SUMMARY:24 Hour Room-Service
DESCRIPTION:All-day menu featuring salads\, pizzas\, sandwiches\, burgers\, and entrees including grilled chicken and pan-seared fish available for in-room dining.
URL:https://sonestastmaarten.com/event/24-hour-room-service/2027-01-26/
LOCATION:Room Service
CATEGORIES:OP Dining Hours
END:VEVENT
BEGIN:VEVENT
DTSTART;TZID=America/Anguilla:20270126T153000
DTEND;TZID=America/Anguilla:20270126T173000
DTSTAMP:20260422T214806
CREATED:20250927T084345Z
LAST-MODIFIED:20260420T144506Z
UID:100118478-1800977400-1800984600@sonestastmaarten.com
SUMMARY:Point Pool Snacks
DESCRIPTION:Light poolside refreshments served at The Point Pool during late afternoon hours.
URL:https://sonestastmaarten.com/event/point-pool-snacks/2027-01-26/
LOCATION:The Point Pool
CATEGORIES:OP Dining Hours
ATTACH;FMTTYPE=image/png:https://sonestastmaarten.com/wp-content/uploads/one-zero-poolbar.png
END:VEVENT
BEGIN:VEVENT
DTSTART;TZID=America/Anguilla:20270126T170000
DTEND;TZID=America/Anguilla:20270127T010000
DTSTAMP:20260422T214806
CREATED:20251110T181642Z
LAST-MODIFIED:20260205T192755Z
UID:100107647-1800982800-1801011600@sonestastmaarten.com
SUMMARY:The Cloud 9 Rooftop Experience
DESCRIPTION:Experience stunning Caribbean views and spectacular sunsets from the world’s best plane-spotting venue. Enjoy premium cocktails\, fine wines\, and spirits. Bar snacks served 5:30 PM – 12:30 AM.
URL:https://sonestastmaarten.com/event/the-cloud-9-rooftop-experience/2027-01-26/
LOCATION:Cloud 9
CATEGORIES:OP Dining Hours,Ultimate Dining Hours
ATTACH;FMTTYPE=image/png:https://sonestastmaarten.com/wp-content/uploads/Cloud9_Logo.png
END:VEVENT
BEGIN:VEVENT
DTSTART;TZID=America/Anguilla:20270126T173000
DTEND;TZID=America/Anguilla:20270126T230000
DTSTAMP:20260422T214806
CREATED:20250928T163944Z
LAST-MODIFIED:20260420T144629Z
UID:100118632-1800984600-1801004400@sonestastmaarten.com
SUMMARY:Bluefin Bar
DESCRIPTION:Rooftop bar above Azul with front-row sunset views\, serving light bites and libations in an exclusive setting perfect for golden hour.
URL:https://sonestastmaarten.com/event/bluefin-bar-2/2027-01-26/
LOCATION:Bluefin Restaurant
CATEGORIES:OP Dining Hours
ATTACH;FMTTYPE=image/png:https://sonestastmaarten.com/wp-content/uploads/bluefin-logo.png
END:VEVENT
BEGIN:VEVENT
DTSTART;TZID=America/Anguilla:20270126T180000
DTEND;TZID=America/Anguilla:20270126T220000
DTSTAMP:20260422T214806
CREATED:20250927T083633Z
LAST-MODIFIED:20260420T144651Z
UID:100118792-1800986400-1801000800@sonestastmaarten.com
SUMMARY:Bluefin Restaurant
DESCRIPTION:Healthy poke-inspired dining featuring sustainably sourced fish with specialty and build-your-own bowls for a fresh dinner experience.
URL:https://sonestastmaarten.com/event/bluefin-restaurant/2027-01-26/
LOCATION:Bluefin Restaurant
CATEGORIES:OP Dining Hours
ATTACH;FMTTYPE=image/png:https://sonestastmaarten.com/wp-content/uploads/bluefin-logo.png
END:VEVENT
END:VCALENDAR