BEGIN:VCALENDAR
VERSION:2.0
PRODID:-//Sonesta Resorts Sint Maarten - ECPv6.15.17.1//NONSGML v1.0//EN
CALSCALE:GREGORIAN
METHOD:PUBLISH
X-ORIGINAL-URL:https://sonestastmaarten.com
X-WR-CALDESC:Events for Sonesta Resorts Sint Maarten
REFRESH-INTERVAL;VALUE=DURATION:PT1H
X-Robots-Tag:noindex
X-PUBLISHED-TTL:PT1H
BEGIN:VTIMEZONE
TZID:America/Anguilla
BEGIN:STANDARD
TZOFFSETFROM:-0400
TZOFFSETTO:-0400
TZNAME:AST
DTSTART:20250101T000000
END:STANDARD
END:VTIMEZONE
BEGIN:VEVENT
DTSTART;TZID=America/Anguilla:20261020T173000
DTEND;TZID=America/Anguilla:20261020T230000
DTSTAMP:20260423T031002
CREATED:20250928T163944Z
LAST-MODIFIED:20260420T144629Z
UID:100118590-1792517400-1792537200@sonestastmaarten.com
SUMMARY:Bluefin Bar
DESCRIPTION:Rooftop bar above Azul with front-row sunset views\, serving light bites and libations in an exclusive setting perfect for golden hour.
URL:https://sonestastmaarten.com/event/bluefin-bar-2/2026-10-20/
LOCATION:Bluefin Restaurant
CATEGORIES:OP Dining Hours
ATTACH;FMTTYPE=image/png:https://sonestastmaarten.com/wp-content/uploads/bluefin-logo.png
END:VEVENT
BEGIN:VEVENT
DTSTART;TZID=America/Anguilla:20261020T180000
DTEND;TZID=America/Anguilla:20261020T220000
DTSTAMP:20260423T031002
CREATED:20250927T083633Z
LAST-MODIFIED:20260420T144651Z
UID:100118750-1792519200-1792533600@sonestastmaarten.com
SUMMARY:Bluefin Restaurant
DESCRIPTION:Healthy poke-inspired dining featuring sustainably sourced fish with specialty and build-your-own bowls for a fresh dinner experience.
URL:https://sonestastmaarten.com/event/bluefin-restaurant/2026-10-20/
LOCATION:Bluefin Restaurant
CATEGORIES:OP Dining Hours
ATTACH;FMTTYPE=image/png:https://sonestastmaarten.com/wp-content/uploads/bluefin-logo.png
END:VEVENT
BEGIN:VEVENT
DTSTART;VALUE=DATE:20261021
DTEND;VALUE=DATE:20261023
DTSTAMP:20260423T031002
CREATED:20251104T162823Z
LAST-MODIFIED:20260205T192738Z
UID:100107176-1792544400-1792630799@sonestastmaarten.com
SUMMARY:24 Hour Room-Service
DESCRIPTION:All-day menu featuring salads\, pizzas\, sandwiches\, burgers\, and entrees including grilled chicken and pan-seared fish available for in-room dining.
URL:https://sonestastmaarten.com/event/24-hour-room-service/2026-10-21/
LOCATION:Room Service
CATEGORIES:OP Dining Hours
END:VEVENT
BEGIN:VEVENT
DTSTART;TZID=America/Anguilla:20261021T140000
DTEND;TZID=America/Anguilla:20261021T170000
DTSTAMP:20260423T031002
CREATED:20260103T161306Z
LAST-MODIFIED:20260320T155656Z
UID:100114249-1792591200-1792602000@sonestastmaarten.com
SUMMARY:Bluefin Bar & Light Bites
DESCRIPTION:Enjoy stunning ocean and sunset views from this bar located above Azul Restaurant. Light bites served 2:00 PM – 5:00 PM\, with libations available throughout – your perfect golden hour destination.
URL:https://sonestastmaarten.com/event/bluefin-bar-3/2026-10-21/
LOCATION:Bluefin Restaurant
CATEGORIES:OP Dining Hours
ATTACH;FMTTYPE=image/png:https://sonestastmaarten.com/wp-content/uploads/bluefin-logo.png
END:VEVENT
BEGIN:VEVENT
DTSTART;TZID=America/Anguilla:20261021T170000
DTEND;TZID=America/Anguilla:20261022T010000
DTSTAMP:20260423T031002
CREATED:20251110T181642Z
LAST-MODIFIED:20260205T192755Z
UID:100107550-1792602000-1792630800@sonestastmaarten.com
SUMMARY:The Cloud 9 Rooftop Experience
DESCRIPTION:Experience stunning Caribbean views and spectacular sunsets from the world’s best plane-spotting venue. Enjoy premium cocktails\, fine wines\, and spirits. Bar snacks served 5:30 PM – 12:30 AM.
URL:https://sonestastmaarten.com/event/the-cloud-9-rooftop-experience/2026-10-21/
LOCATION:Cloud 9
CATEGORIES:OP Dining Hours,Ultimate Dining Hours
ATTACH;FMTTYPE=image/png:https://sonestastmaarten.com/wp-content/uploads/Cloud9_Logo.png
END:VEVENT
BEGIN:VEVENT
DTSTART;VALUE=DATE:20261022
DTEND;VALUE=DATE:20261024
DTSTAMP:20260423T031002
CREATED:20251104T162823Z
LAST-MODIFIED:20260205T192738Z
UID:100107177-1792630800-1792717199@sonestastmaarten.com
SUMMARY:24 Hour Room-Service
DESCRIPTION:All-day menu featuring salads\, pizzas\, sandwiches\, burgers\, and entrees including grilled chicken and pan-seared fish available for in-room dining.
URL:https://sonestastmaarten.com/event/24-hour-room-service/2026-10-22/
LOCATION:Room Service
CATEGORIES:OP Dining Hours
END:VEVENT
BEGIN:VEVENT
DTSTART;TZID=America/Anguilla:20261022T153000
DTEND;TZID=America/Anguilla:20261022T173000
DTSTAMP:20260423T031002
CREATED:20250927T084345Z
LAST-MODIFIED:20260420T144506Z
UID:100118437-1792683000-1792690200@sonestastmaarten.com
SUMMARY:Point Pool Snacks
DESCRIPTION:Light poolside refreshments served at The Point Pool during late afternoon hours.
URL:https://sonestastmaarten.com/event/point-pool-snacks/2026-10-22/
LOCATION:The Point Pool
CATEGORIES:OP Dining Hours
ATTACH;FMTTYPE=image/png:https://sonestastmaarten.com/wp-content/uploads/one-zero-poolbar.png
END:VEVENT
BEGIN:VEVENT
DTSTART;TZID=America/Anguilla:20261022T170000
DTEND;TZID=America/Anguilla:20261023T010000
DTSTAMP:20260423T031002
CREATED:20251110T181642Z
LAST-MODIFIED:20260205T192755Z
UID:100107551-1792688400-1792717200@sonestastmaarten.com
SUMMARY:The Cloud 9 Rooftop Experience
DESCRIPTION:Experience stunning Caribbean views and spectacular sunsets from the world’s best plane-spotting venue. Enjoy premium cocktails\, fine wines\, and spirits. Bar snacks served 5:30 PM – 12:30 AM.
URL:https://sonestastmaarten.com/event/the-cloud-9-rooftop-experience/2026-10-22/
LOCATION:Cloud 9
CATEGORIES:OP Dining Hours,Ultimate Dining Hours
ATTACH;FMTTYPE=image/png:https://sonestastmaarten.com/wp-content/uploads/Cloud9_Logo.png
END:VEVENT
BEGIN:VEVENT
DTSTART;TZID=America/Anguilla:20261022T173000
DTEND;TZID=America/Anguilla:20261022T230000
DTSTAMP:20260423T031002
CREATED:20250928T163944Z
LAST-MODIFIED:20260420T144629Z
UID:100118591-1792690200-1792710000@sonestastmaarten.com
SUMMARY:Bluefin Bar
DESCRIPTION:Rooftop bar above Azul with front-row sunset views\, serving light bites and libations in an exclusive setting perfect for golden hour.
URL:https://sonestastmaarten.com/event/bluefin-bar-2/2026-10-22/
LOCATION:Bluefin Restaurant
CATEGORIES:OP Dining Hours
ATTACH;FMTTYPE=image/png:https://sonestastmaarten.com/wp-content/uploads/bluefin-logo.png
END:VEVENT
BEGIN:VEVENT
DTSTART;TZID=America/Anguilla:20261022T180000
DTEND;TZID=America/Anguilla:20261022T220000
DTSTAMP:20260423T031002
CREATED:20250927T083633Z
LAST-MODIFIED:20260420T144651Z
UID:100118751-1792692000-1792706400@sonestastmaarten.com
SUMMARY:Bluefin Restaurant
DESCRIPTION:Healthy poke-inspired dining featuring sustainably sourced fish with specialty and build-your-own bowls for a fresh dinner experience.
URL:https://sonestastmaarten.com/event/bluefin-restaurant/2026-10-22/
LOCATION:Bluefin Restaurant
CATEGORIES:OP Dining Hours
ATTACH;FMTTYPE=image/png:https://sonestastmaarten.com/wp-content/uploads/bluefin-logo.png
END:VEVENT
BEGIN:VEVENT
DTSTART;VALUE=DATE:20261023
DTEND;VALUE=DATE:20261025
DTSTAMP:20260423T031002
CREATED:20251104T162823Z
LAST-MODIFIED:20260205T192738Z
UID:100107178-1792717200-1792803599@sonestastmaarten.com
SUMMARY:24 Hour Room-Service
DESCRIPTION:All-day menu featuring salads\, pizzas\, sandwiches\, burgers\, and entrees including grilled chicken and pan-seared fish available for in-room dining.
URL:https://sonestastmaarten.com/event/24-hour-room-service/2026-10-23/
LOCATION:Room Service
CATEGORIES:OP Dining Hours
END:VEVENT
BEGIN:VEVENT
DTSTART;TZID=America/Anguilla:20261023T140000
DTEND;TZID=America/Anguilla:20261023T170000
DTSTAMP:20260423T031002
CREATED:20260103T161306Z
LAST-MODIFIED:20260320T155656Z
UID:100114250-1792764000-1792774800@sonestastmaarten.com
SUMMARY:Bluefin Bar & Light Bites
DESCRIPTION:Enjoy stunning ocean and sunset views from this bar located above Azul Restaurant. Light bites served 2:00 PM – 5:00 PM\, with libations available throughout – your perfect golden hour destination.
URL:https://sonestastmaarten.com/event/bluefin-bar-3/2026-10-23/
LOCATION:Bluefin Restaurant
CATEGORIES:OP Dining Hours
ATTACH;FMTTYPE=image/png:https://sonestastmaarten.com/wp-content/uploads/bluefin-logo.png
END:VEVENT
BEGIN:VEVENT
DTSTART;TZID=America/Anguilla:20261023T170000
DTEND;TZID=America/Anguilla:20261024T010000
DTSTAMP:20260423T031002
CREATED:20251110T181642Z
LAST-MODIFIED:20260205T192755Z
UID:100107552-1792774800-1792803600@sonestastmaarten.com
SUMMARY:The Cloud 9 Rooftop Experience
DESCRIPTION:Experience stunning Caribbean views and spectacular sunsets from the world’s best plane-spotting venue. Enjoy premium cocktails\, fine wines\, and spirits. Bar snacks served 5:30 PM – 12:30 AM.
URL:https://sonestastmaarten.com/event/the-cloud-9-rooftop-experience/2026-10-23/
LOCATION:Cloud 9
CATEGORIES:OP Dining Hours,Ultimate Dining Hours
ATTACH;FMTTYPE=image/png:https://sonestastmaarten.com/wp-content/uploads/Cloud9_Logo.png
END:VEVENT
BEGIN:VEVENT
DTSTART;VALUE=DATE:20261024
DTEND;VALUE=DATE:20261026
DTSTAMP:20260423T031002
CREATED:20251104T162823Z
LAST-MODIFIED:20260205T192738Z
UID:100107179-1792803600-1792889999@sonestastmaarten.com
SUMMARY:24 Hour Room-Service
DESCRIPTION:All-day menu featuring salads\, pizzas\, sandwiches\, burgers\, and entrees including grilled chicken and pan-seared fish available for in-room dining.
URL:https://sonestastmaarten.com/event/24-hour-room-service/2026-10-24/
LOCATION:Room Service
CATEGORIES:OP Dining Hours
END:VEVENT
BEGIN:VEVENT
DTSTART;TZID=America/Anguilla:20261024T153000
DTEND;TZID=America/Anguilla:20261024T173000
DTSTAMP:20260423T031002
CREATED:20250927T084345Z
LAST-MODIFIED:20260420T144506Z
UID:100118438-1792855800-1792863000@sonestastmaarten.com
SUMMARY:Point Pool Snacks
DESCRIPTION:Light poolside refreshments served at The Point Pool during late afternoon hours.
URL:https://sonestastmaarten.com/event/point-pool-snacks/2026-10-24/
LOCATION:The Point Pool
CATEGORIES:OP Dining Hours
ATTACH;FMTTYPE=image/png:https://sonestastmaarten.com/wp-content/uploads/one-zero-poolbar.png
END:VEVENT
BEGIN:VEVENT
DTSTART;TZID=America/Anguilla:20261024T170000
DTEND;TZID=America/Anguilla:20261025T010000
DTSTAMP:20260423T031002
CREATED:20251110T181642Z
LAST-MODIFIED:20260205T192755Z
UID:100107553-1792861200-1792890000@sonestastmaarten.com
SUMMARY:The Cloud 9 Rooftop Experience
DESCRIPTION:Experience stunning Caribbean views and spectacular sunsets from the world’s best plane-spotting venue. Enjoy premium cocktails\, fine wines\, and spirits. Bar snacks served 5:30 PM – 12:30 AM.
URL:https://sonestastmaarten.com/event/the-cloud-9-rooftop-experience/2026-10-24/
LOCATION:Cloud 9
CATEGORIES:OP Dining Hours,Ultimate Dining Hours
ATTACH;FMTTYPE=image/png:https://sonestastmaarten.com/wp-content/uploads/Cloud9_Logo.png
END:VEVENT
BEGIN:VEVENT
DTSTART;TZID=America/Anguilla:20261024T173000
DTEND;TZID=America/Anguilla:20261024T230000
DTSTAMP:20260423T031002
CREATED:20250928T163944Z
LAST-MODIFIED:20260420T144629Z
UID:100118592-1792863000-1792882800@sonestastmaarten.com
SUMMARY:Bluefin Bar
DESCRIPTION:Rooftop bar above Azul with front-row sunset views\, serving light bites and libations in an exclusive setting perfect for golden hour.
URL:https://sonestastmaarten.com/event/bluefin-bar-2/2026-10-24/
LOCATION:Bluefin Restaurant
CATEGORIES:OP Dining Hours
ATTACH;FMTTYPE=image/png:https://sonestastmaarten.com/wp-content/uploads/bluefin-logo.png
END:VEVENT
BEGIN:VEVENT
DTSTART;TZID=America/Anguilla:20261024T180000
DTEND;TZID=America/Anguilla:20261024T220000
DTSTAMP:20260423T031002
CREATED:20250927T083633Z
LAST-MODIFIED:20260420T144651Z
UID:100118752-1792864800-1792879200@sonestastmaarten.com
SUMMARY:Bluefin Restaurant
DESCRIPTION:Healthy poke-inspired dining featuring sustainably sourced fish with specialty and build-your-own bowls for a fresh dinner experience.
URL:https://sonestastmaarten.com/event/bluefin-restaurant/2026-10-24/
LOCATION:Bluefin Restaurant
CATEGORIES:OP Dining Hours
ATTACH;FMTTYPE=image/png:https://sonestastmaarten.com/wp-content/uploads/bluefin-logo.png
END:VEVENT
BEGIN:VEVENT
DTSTART;VALUE=DATE:20261025
DTEND;VALUE=DATE:20261027
DTSTAMP:20260423T031002
CREATED:20251104T162823Z
LAST-MODIFIED:20260205T192738Z
UID:100107180-1792890000-1792976399@sonestastmaarten.com
SUMMARY:24 Hour Room-Service
DESCRIPTION:All-day menu featuring salads\, pizzas\, sandwiches\, burgers\, and entrees including grilled chicken and pan-seared fish available for in-room dining.
URL:https://sonestastmaarten.com/event/24-hour-room-service/2026-10-25/
LOCATION:Room Service
CATEGORIES:OP Dining Hours
END:VEVENT
BEGIN:VEVENT
DTSTART;TZID=America/Anguilla:20261025T140000
DTEND;TZID=America/Anguilla:20261025T170000
DTSTAMP:20260423T031002
CREATED:20260103T161306Z
LAST-MODIFIED:20260320T155656Z
UID:100114251-1792936800-1792947600@sonestastmaarten.com
SUMMARY:Bluefin Bar & Light Bites
DESCRIPTION:Enjoy stunning ocean and sunset views from this bar located above Azul Restaurant. Light bites served 2:00 PM – 5:00 PM\, with libations available throughout – your perfect golden hour destination.
URL:https://sonestastmaarten.com/event/bluefin-bar-3/2026-10-25/
LOCATION:Bluefin Restaurant
CATEGORIES:OP Dining Hours
ATTACH;FMTTYPE=image/png:https://sonestastmaarten.com/wp-content/uploads/bluefin-logo.png
END:VEVENT
BEGIN:VEVENT
DTSTART;TZID=America/Anguilla:20261025T170000
DTEND;TZID=America/Anguilla:20261026T010000
DTSTAMP:20260423T031002
CREATED:20251110T181642Z
LAST-MODIFIED:20260205T192755Z
UID:100107554-1792947600-1792976400@sonestastmaarten.com
SUMMARY:The Cloud 9 Rooftop Experience
DESCRIPTION:Experience stunning Caribbean views and spectacular sunsets from the world’s best plane-spotting venue. Enjoy premium cocktails\, fine wines\, and spirits. Bar snacks served 5:30 PM – 12:30 AM.
URL:https://sonestastmaarten.com/event/the-cloud-9-rooftop-experience/2026-10-25/
LOCATION:Cloud 9
CATEGORIES:OP Dining Hours,Ultimate Dining Hours
ATTACH;FMTTYPE=image/png:https://sonestastmaarten.com/wp-content/uploads/Cloud9_Logo.png
END:VEVENT
BEGIN:VEVENT
DTSTART;VALUE=DATE:20261026
DTEND;VALUE=DATE:20261028
DTSTAMP:20260423T031002
CREATED:20251104T162823Z
LAST-MODIFIED:20260205T192738Z
UID:100107181-1792976400-1793062799@sonestastmaarten.com
SUMMARY:24 Hour Room-Service
DESCRIPTION:All-day menu featuring salads\, pizzas\, sandwiches\, burgers\, and entrees including grilled chicken and pan-seared fish available for in-room dining.
URL:https://sonestastmaarten.com/event/24-hour-room-service/2026-10-26/
LOCATION:Room Service
CATEGORIES:OP Dining Hours
END:VEVENT
BEGIN:VEVENT
DTSTART;TZID=America/Anguilla:20261026T140000
DTEND;TZID=America/Anguilla:20261026T170000
DTSTAMP:20260423T031002
CREATED:20260103T161306Z
LAST-MODIFIED:20260320T155656Z
UID:100114252-1793023200-1793034000@sonestastmaarten.com
SUMMARY:Bluefin Bar & Light Bites
DESCRIPTION:Enjoy stunning ocean and sunset views from this bar located above Azul Restaurant. Light bites served 2:00 PM – 5:00 PM\, with libations available throughout – your perfect golden hour destination.
URL:https://sonestastmaarten.com/event/bluefin-bar-3/2026-10-26/
LOCATION:Bluefin Restaurant
CATEGORIES:OP Dining Hours
ATTACH;FMTTYPE=image/png:https://sonestastmaarten.com/wp-content/uploads/bluefin-logo.png
END:VEVENT
BEGIN:VEVENT
DTSTART;TZID=America/Anguilla:20261026T170000
DTEND;TZID=America/Anguilla:20261027T010000
DTSTAMP:20260423T031002
CREATED:20251110T181642Z
LAST-MODIFIED:20260205T192755Z
UID:100107555-1793034000-1793062800@sonestastmaarten.com
SUMMARY:The Cloud 9 Rooftop Experience
DESCRIPTION:Experience stunning Caribbean views and spectacular sunsets from the world’s best plane-spotting venue. Enjoy premium cocktails\, fine wines\, and spirits. Bar snacks served 5:30 PM – 12:30 AM.
URL:https://sonestastmaarten.com/event/the-cloud-9-rooftop-experience/2026-10-26/
LOCATION:Cloud 9
CATEGORIES:OP Dining Hours,Ultimate Dining Hours
ATTACH;FMTTYPE=image/png:https://sonestastmaarten.com/wp-content/uploads/Cloud9_Logo.png
END:VEVENT
BEGIN:VEVENT
DTSTART;VALUE=DATE:20261027
DTEND;VALUE=DATE:20261029
DTSTAMP:20260423T031002
CREATED:20251104T162823Z
LAST-MODIFIED:20260205T192738Z
UID:100107182-1793062800-1793149199@sonestastmaarten.com
SUMMARY:24 Hour Room-Service
DESCRIPTION:All-day menu featuring salads\, pizzas\, sandwiches\, burgers\, and entrees including grilled chicken and pan-seared fish available for in-room dining.
URL:https://sonestastmaarten.com/event/24-hour-room-service/2026-10-27/
LOCATION:Room Service
CATEGORIES:OP Dining Hours
END:VEVENT
BEGIN:VEVENT
DTSTART;TZID=America/Anguilla:20261027T153000
DTEND;TZID=America/Anguilla:20261027T173000
DTSTAMP:20260423T031002
CREATED:20250927T084345Z
LAST-MODIFIED:20260420T144506Z
UID:100118439-1793115000-1793122200@sonestastmaarten.com
SUMMARY:Point Pool Snacks
DESCRIPTION:Light poolside refreshments served at The Point Pool during late afternoon hours.
URL:https://sonestastmaarten.com/event/point-pool-snacks/2026-10-27/
LOCATION:The Point Pool
CATEGORIES:OP Dining Hours
ATTACH;FMTTYPE=image/png:https://sonestastmaarten.com/wp-content/uploads/one-zero-poolbar.png
END:VEVENT
BEGIN:VEVENT
DTSTART;TZID=America/Anguilla:20261027T170000
DTEND;TZID=America/Anguilla:20261028T010000
DTSTAMP:20260423T031002
CREATED:20251110T181642Z
LAST-MODIFIED:20260205T192755Z
UID:100107556-1793120400-1793149200@sonestastmaarten.com
SUMMARY:The Cloud 9 Rooftop Experience
DESCRIPTION:Experience stunning Caribbean views and spectacular sunsets from the world’s best plane-spotting venue. Enjoy premium cocktails\, fine wines\, and spirits. Bar snacks served 5:30 PM – 12:30 AM.
URL:https://sonestastmaarten.com/event/the-cloud-9-rooftop-experience/2026-10-27/
LOCATION:Cloud 9
CATEGORIES:OP Dining Hours,Ultimate Dining Hours
ATTACH;FMTTYPE=image/png:https://sonestastmaarten.com/wp-content/uploads/Cloud9_Logo.png
END:VEVENT
BEGIN:VEVENT
DTSTART;TZID=America/Anguilla:20261027T173000
DTEND;TZID=America/Anguilla:20261027T230000
DTSTAMP:20260423T031002
CREATED:20250928T163944Z
LAST-MODIFIED:20260420T144629Z
UID:100118593-1793122200-1793142000@sonestastmaarten.com
SUMMARY:Bluefin Bar
DESCRIPTION:Rooftop bar above Azul with front-row sunset views\, serving light bites and libations in an exclusive setting perfect for golden hour.
URL:https://sonestastmaarten.com/event/bluefin-bar-2/2026-10-27/
LOCATION:Bluefin Restaurant
CATEGORIES:OP Dining Hours
ATTACH;FMTTYPE=image/png:https://sonestastmaarten.com/wp-content/uploads/bluefin-logo.png
END:VEVENT
BEGIN:VEVENT
DTSTART;TZID=America/Anguilla:20261027T180000
DTEND;TZID=America/Anguilla:20261027T220000
DTSTAMP:20260423T031002
CREATED:20250927T083633Z
LAST-MODIFIED:20260420T144651Z
UID:100118753-1793124000-1793138400@sonestastmaarten.com
SUMMARY:Bluefin Restaurant
DESCRIPTION:Healthy poke-inspired dining featuring sustainably sourced fish with specialty and build-your-own bowls for a fresh dinner experience.
URL:https://sonestastmaarten.com/event/bluefin-restaurant/2026-10-27/
LOCATION:Bluefin Restaurant
CATEGORIES:OP Dining Hours
ATTACH;FMTTYPE=image/png:https://sonestastmaarten.com/wp-content/uploads/bluefin-logo.png
END:VEVENT
BEGIN:VEVENT
DTSTART;VALUE=DATE:20261028
DTEND;VALUE=DATE:20261030
DTSTAMP:20260423T031002
CREATED:20251104T162823Z
LAST-MODIFIED:20260205T192738Z
UID:100107183-1793149200-1793235599@sonestastmaarten.com
SUMMARY:24 Hour Room-Service
DESCRIPTION:All-day menu featuring salads\, pizzas\, sandwiches\, burgers\, and entrees including grilled chicken and pan-seared fish available for in-room dining.
URL:https://sonestastmaarten.com/event/24-hour-room-service/2026-10-28/
LOCATION:Room Service
CATEGORIES:OP Dining Hours
END:VEVENT
END:VCALENDAR