BEGIN:VCALENDAR
VERSION:2.0
PRODID:-//Sonesta Resorts Sint Maarten - ECPv6.15.17.1//NONSGML v1.0//EN
CALSCALE:GREGORIAN
METHOD:PUBLISH
X-WR-CALNAME:Sonesta Resorts Sint Maarten
X-ORIGINAL-URL:https://sonestastmaarten.com
X-WR-CALDESC:Events for Sonesta Resorts Sint Maarten
REFRESH-INTERVAL;VALUE=DURATION:PT1H
X-Robots-Tag:noindex
X-PUBLISHED-TTL:PT1H
BEGIN:VTIMEZONE
TZID:America/Anguilla
BEGIN:STANDARD
TZOFFSETFROM:-0400
TZOFFSETTO:-0400
TZNAME:AST
DTSTART:20250101T000000
END:STANDARD
END:VTIMEZONE
BEGIN:VEVENT
DTSTART;TZID=America/Anguilla:20261221T170000
DTEND;TZID=America/Anguilla:20261222T010000
DTSTAMP:20260422T211837
CREATED:20251110T181642Z
LAST-MODIFIED:20260205T192755Z
UID:100107611-1797872400-1797901200@sonestastmaarten.com
SUMMARY:The Cloud 9 Rooftop Experience
DESCRIPTION:Experience stunning Caribbean views and spectacular sunsets from the world’s best plane-spotting venue. Enjoy premium cocktails\, fine wines\, and spirits. Bar snacks served 5:30 PM – 12:30 AM.
URL:https://sonestastmaarten.com/event/the-cloud-9-rooftop-experience/2026-12-21/
LOCATION:Cloud 9
CATEGORIES:OP Dining Hours,Ultimate Dining Hours
ATTACH;FMTTYPE=image/png:https://sonestastmaarten.com/wp-content/uploads/Cloud9_Logo.png
END:VEVENT
BEGIN:VEVENT
DTSTART;VALUE=DATE:20261222
DTEND;VALUE=DATE:20261224
DTSTAMP:20260422T211837
CREATED:20251104T162823Z
LAST-MODIFIED:20260205T192738Z
UID:100107238-1797901200-1797987599@sonestastmaarten.com
SUMMARY:24 Hour Room-Service
DESCRIPTION:All-day menu featuring salads\, pizzas\, sandwiches\, burgers\, and entrees including grilled chicken and pan-seared fish available for in-room dining.
URL:https://sonestastmaarten.com/event/24-hour-room-service/2026-12-22/
LOCATION:Room Service
CATEGORIES:OP Dining Hours
END:VEVENT
BEGIN:VEVENT
DTSTART;TZID=America/Anguilla:20261222T153000
DTEND;TZID=America/Anguilla:20261222T173000
DTSTAMP:20260422T211837
CREATED:20250927T084345Z
LAST-MODIFIED:20260420T144506Z
UID:100118463-1797953400-1797960600@sonestastmaarten.com
SUMMARY:Point Pool Snacks
DESCRIPTION:Light poolside refreshments served at The Point Pool during late afternoon hours.
URL:https://sonestastmaarten.com/event/point-pool-snacks/2026-12-22/
LOCATION:The Point Pool
CATEGORIES:OP Dining Hours
ATTACH;FMTTYPE=image/png:https://sonestastmaarten.com/wp-content/uploads/one-zero-poolbar.png
END:VEVENT
BEGIN:VEVENT
DTSTART;TZID=America/Anguilla:20261222T170000
DTEND;TZID=America/Anguilla:20261223T010000
DTSTAMP:20260422T211837
CREATED:20251110T181642Z
LAST-MODIFIED:20260205T192755Z
UID:100107612-1797958800-1797987600@sonestastmaarten.com
SUMMARY:The Cloud 9 Rooftop Experience
DESCRIPTION:Experience stunning Caribbean views and spectacular sunsets from the world’s best plane-spotting venue. Enjoy premium cocktails\, fine wines\, and spirits. Bar snacks served 5:30 PM – 12:30 AM.
URL:https://sonestastmaarten.com/event/the-cloud-9-rooftop-experience/2026-12-22/
LOCATION:Cloud 9
CATEGORIES:OP Dining Hours,Ultimate Dining Hours
ATTACH;FMTTYPE=image/png:https://sonestastmaarten.com/wp-content/uploads/Cloud9_Logo.png
END:VEVENT
BEGIN:VEVENT
DTSTART;TZID=America/Anguilla:20261222T173000
DTEND;TZID=America/Anguilla:20261222T230000
DTSTAMP:20260422T211837
CREATED:20250928T163944Z
LAST-MODIFIED:20260420T144629Z
UID:100118617-1797960600-1797980400@sonestastmaarten.com
SUMMARY:Bluefin Bar
DESCRIPTION:Rooftop bar above Azul with front-row sunset views\, serving light bites and libations in an exclusive setting perfect for golden hour.
URL:https://sonestastmaarten.com/event/bluefin-bar-2/2026-12-22/
LOCATION:Bluefin Restaurant
CATEGORIES:OP Dining Hours
ATTACH;FMTTYPE=image/png:https://sonestastmaarten.com/wp-content/uploads/bluefin-logo.png
END:VEVENT
BEGIN:VEVENT
DTSTART;TZID=America/Anguilla:20261222T180000
DTEND;TZID=America/Anguilla:20261222T220000
DTSTAMP:20260422T211837
CREATED:20250927T083633Z
LAST-MODIFIED:20260420T144651Z
UID:100118777-1797962400-1797976800@sonestastmaarten.com
SUMMARY:Bluefin Restaurant
DESCRIPTION:Healthy poke-inspired dining featuring sustainably sourced fish with specialty and build-your-own bowls for a fresh dinner experience.
URL:https://sonestastmaarten.com/event/bluefin-restaurant/2026-12-22/
LOCATION:Bluefin Restaurant
CATEGORIES:OP Dining Hours
ATTACH;FMTTYPE=image/png:https://sonestastmaarten.com/wp-content/uploads/bluefin-logo.png
END:VEVENT
BEGIN:VEVENT
DTSTART;VALUE=DATE:20261223
DTEND;VALUE=DATE:20261225
DTSTAMP:20260422T211837
CREATED:20251104T162823Z
LAST-MODIFIED:20260205T192738Z
UID:100107239-1797987600-1798073999@sonestastmaarten.com
SUMMARY:24 Hour Room-Service
DESCRIPTION:All-day menu featuring salads\, pizzas\, sandwiches\, burgers\, and entrees including grilled chicken and pan-seared fish available for in-room dining.
URL:https://sonestastmaarten.com/event/24-hour-room-service/2026-12-23/
LOCATION:Room Service
CATEGORIES:OP Dining Hours
END:VEVENT
BEGIN:VEVENT
DTSTART;TZID=America/Anguilla:20261223T140000
DTEND;TZID=America/Anguilla:20261223T170000
DTSTAMP:20260422T211837
CREATED:20260103T161306Z
LAST-MODIFIED:20260320T155656Z
UID:100114285-1798034400-1798045200@sonestastmaarten.com
SUMMARY:Bluefin Bar & Light Bites
DESCRIPTION:Enjoy stunning ocean and sunset views from this bar located above Azul Restaurant. Light bites served 2:00 PM – 5:00 PM\, with libations available throughout – your perfect golden hour destination.
URL:https://sonestastmaarten.com/event/bluefin-bar-3/2026-12-23/
LOCATION:Bluefin Restaurant
CATEGORIES:OP Dining Hours
ATTACH;FMTTYPE=image/png:https://sonestastmaarten.com/wp-content/uploads/bluefin-logo.png
END:VEVENT
BEGIN:VEVENT
DTSTART;TZID=America/Anguilla:20261223T170000
DTEND;TZID=America/Anguilla:20261224T010000
DTSTAMP:20260422T211837
CREATED:20251110T181642Z
LAST-MODIFIED:20260205T192755Z
UID:100107613-1798045200-1798074000@sonestastmaarten.com
SUMMARY:The Cloud 9 Rooftop Experience
DESCRIPTION:Experience stunning Caribbean views and spectacular sunsets from the world’s best plane-spotting venue. Enjoy premium cocktails\, fine wines\, and spirits. Bar snacks served 5:30 PM – 12:30 AM.
URL:https://sonestastmaarten.com/event/the-cloud-9-rooftop-experience/2026-12-23/
LOCATION:Cloud 9
CATEGORIES:OP Dining Hours,Ultimate Dining Hours
ATTACH;FMTTYPE=image/png:https://sonestastmaarten.com/wp-content/uploads/Cloud9_Logo.png
END:VEVENT
BEGIN:VEVENT
DTSTART;VALUE=DATE:20261224
DTEND;VALUE=DATE:20261226
DTSTAMP:20260422T211837
CREATED:20251104T162823Z
LAST-MODIFIED:20260205T192738Z
UID:100107240-1798074000-1798160399@sonestastmaarten.com
SUMMARY:24 Hour Room-Service
DESCRIPTION:All-day menu featuring salads\, pizzas\, sandwiches\, burgers\, and entrees including grilled chicken and pan-seared fish available for in-room dining.
URL:https://sonestastmaarten.com/event/24-hour-room-service/2026-12-24/
LOCATION:Room Service
CATEGORIES:OP Dining Hours
END:VEVENT
BEGIN:VEVENT
DTSTART;TZID=America/Anguilla:20261224T153000
DTEND;TZID=America/Anguilla:20261224T173000
DTSTAMP:20260422T211837
CREATED:20250927T084345Z
LAST-MODIFIED:20260420T144506Z
UID:100118464-1798126200-1798133400@sonestastmaarten.com
SUMMARY:Point Pool Snacks
DESCRIPTION:Light poolside refreshments served at The Point Pool during late afternoon hours.
URL:https://sonestastmaarten.com/event/point-pool-snacks/2026-12-24/
LOCATION:The Point Pool
CATEGORIES:OP Dining Hours
ATTACH;FMTTYPE=image/png:https://sonestastmaarten.com/wp-content/uploads/one-zero-poolbar.png
END:VEVENT
BEGIN:VEVENT
DTSTART;TZID=America/Anguilla:20261224T170000
DTEND;TZID=America/Anguilla:20261225T010000
DTSTAMP:20260422T211837
CREATED:20251110T181642Z
LAST-MODIFIED:20260205T192755Z
UID:100107614-1798131600-1798160400@sonestastmaarten.com
SUMMARY:The Cloud 9 Rooftop Experience
DESCRIPTION:Experience stunning Caribbean views and spectacular sunsets from the world’s best plane-spotting venue. Enjoy premium cocktails\, fine wines\, and spirits. Bar snacks served 5:30 PM – 12:30 AM.
URL:https://sonestastmaarten.com/event/the-cloud-9-rooftop-experience/2026-12-24/
LOCATION:Cloud 9
CATEGORIES:OP Dining Hours,Ultimate Dining Hours
ATTACH;FMTTYPE=image/png:https://sonestastmaarten.com/wp-content/uploads/Cloud9_Logo.png
END:VEVENT
BEGIN:VEVENT
DTSTART;TZID=America/Anguilla:20261224T173000
DTEND;TZID=America/Anguilla:20261224T230000
DTSTAMP:20260422T211837
CREATED:20250928T163944Z
LAST-MODIFIED:20260420T144629Z
UID:100118618-1798133400-1798153200@sonestastmaarten.com
SUMMARY:Bluefin Bar
DESCRIPTION:Rooftop bar above Azul with front-row sunset views\, serving light bites and libations in an exclusive setting perfect for golden hour.
URL:https://sonestastmaarten.com/event/bluefin-bar-2/2026-12-24/
LOCATION:Bluefin Restaurant
CATEGORIES:OP Dining Hours
ATTACH;FMTTYPE=image/png:https://sonestastmaarten.com/wp-content/uploads/bluefin-logo.png
END:VEVENT
BEGIN:VEVENT
DTSTART;TZID=America/Anguilla:20261224T180000
DTEND;TZID=America/Anguilla:20261224T220000
DTSTAMP:20260422T211837
CREATED:20250927T083633Z
LAST-MODIFIED:20260420T144651Z
UID:100118778-1798135200-1798149600@sonestastmaarten.com
SUMMARY:Bluefin Restaurant
DESCRIPTION:Healthy poke-inspired dining featuring sustainably sourced fish with specialty and build-your-own bowls for a fresh dinner experience.
URL:https://sonestastmaarten.com/event/bluefin-restaurant/2026-12-24/
LOCATION:Bluefin Restaurant
CATEGORIES:OP Dining Hours
ATTACH;FMTTYPE=image/png:https://sonestastmaarten.com/wp-content/uploads/bluefin-logo.png
END:VEVENT
BEGIN:VEVENT
DTSTART;VALUE=DATE:20261225
DTEND;VALUE=DATE:20261227
DTSTAMP:20260422T211837
CREATED:20251104T162823Z
LAST-MODIFIED:20260205T192738Z
UID:100107241-1798160400-1798246799@sonestastmaarten.com
SUMMARY:24 Hour Room-Service
DESCRIPTION:All-day menu featuring salads\, pizzas\, sandwiches\, burgers\, and entrees including grilled chicken and pan-seared fish available for in-room dining.
URL:https://sonestastmaarten.com/event/24-hour-room-service/2026-12-25/
LOCATION:Room Service
CATEGORIES:OP Dining Hours
END:VEVENT
BEGIN:VEVENT
DTSTART;TZID=America/Anguilla:20261225T140000
DTEND;TZID=America/Anguilla:20261225T170000
DTSTAMP:20260422T211837
CREATED:20260103T161306Z
LAST-MODIFIED:20260320T155656Z
UID:100114286-1798207200-1798218000@sonestastmaarten.com
SUMMARY:Bluefin Bar & Light Bites
DESCRIPTION:Enjoy stunning ocean and sunset views from this bar located above Azul Restaurant. Light bites served 2:00 PM – 5:00 PM\, with libations available throughout – your perfect golden hour destination.
URL:https://sonestastmaarten.com/event/bluefin-bar-3/2026-12-25/
LOCATION:Bluefin Restaurant
CATEGORIES:OP Dining Hours
ATTACH;FMTTYPE=image/png:https://sonestastmaarten.com/wp-content/uploads/bluefin-logo.png
END:VEVENT
BEGIN:VEVENT
DTSTART;TZID=America/Anguilla:20261225T170000
DTEND;TZID=America/Anguilla:20261226T010000
DTSTAMP:20260422T211837
CREATED:20251110T181642Z
LAST-MODIFIED:20260205T192755Z
UID:100107615-1798218000-1798246800@sonestastmaarten.com
SUMMARY:The Cloud 9 Rooftop Experience
DESCRIPTION:Experience stunning Caribbean views and spectacular sunsets from the world’s best plane-spotting venue. Enjoy premium cocktails\, fine wines\, and spirits. Bar snacks served 5:30 PM – 12:30 AM.
URL:https://sonestastmaarten.com/event/the-cloud-9-rooftop-experience/2026-12-25/
LOCATION:Cloud 9
CATEGORIES:OP Dining Hours,Ultimate Dining Hours
ATTACH;FMTTYPE=image/png:https://sonestastmaarten.com/wp-content/uploads/Cloud9_Logo.png
END:VEVENT
BEGIN:VEVENT
DTSTART;VALUE=DATE:20261226
DTEND;VALUE=DATE:20261228
DTSTAMP:20260422T211837
CREATED:20251104T162823Z
LAST-MODIFIED:20260205T192738Z
UID:100107242-1798246800-1798333199@sonestastmaarten.com
SUMMARY:24 Hour Room-Service
DESCRIPTION:All-day menu featuring salads\, pizzas\, sandwiches\, burgers\, and entrees including grilled chicken and pan-seared fish available for in-room dining.
URL:https://sonestastmaarten.com/event/24-hour-room-service/2026-12-26/
LOCATION:Room Service
CATEGORIES:OP Dining Hours
END:VEVENT
BEGIN:VEVENT
DTSTART;TZID=America/Anguilla:20261226T153000
DTEND;TZID=America/Anguilla:20261226T173000
DTSTAMP:20260422T211838
CREATED:20250927T084345Z
LAST-MODIFIED:20260420T144506Z
UID:100118465-1798299000-1798306200@sonestastmaarten.com
SUMMARY:Point Pool Snacks
DESCRIPTION:Light poolside refreshments served at The Point Pool during late afternoon hours.
URL:https://sonestastmaarten.com/event/point-pool-snacks/2026-12-26/
LOCATION:The Point Pool
CATEGORIES:OP Dining Hours
ATTACH;FMTTYPE=image/png:https://sonestastmaarten.com/wp-content/uploads/one-zero-poolbar.png
END:VEVENT
BEGIN:VEVENT
DTSTART;TZID=America/Anguilla:20261226T170000
DTEND;TZID=America/Anguilla:20261227T010000
DTSTAMP:20260422T211838
CREATED:20251110T181642Z
LAST-MODIFIED:20260205T192755Z
UID:100107616-1798304400-1798333200@sonestastmaarten.com
SUMMARY:The Cloud 9 Rooftop Experience
DESCRIPTION:Experience stunning Caribbean views and spectacular sunsets from the world’s best plane-spotting venue. Enjoy premium cocktails\, fine wines\, and spirits. Bar snacks served 5:30 PM – 12:30 AM.
URL:https://sonestastmaarten.com/event/the-cloud-9-rooftop-experience/2026-12-26/
LOCATION:Cloud 9
CATEGORIES:OP Dining Hours,Ultimate Dining Hours
ATTACH;FMTTYPE=image/png:https://sonestastmaarten.com/wp-content/uploads/Cloud9_Logo.png
END:VEVENT
BEGIN:VEVENT
DTSTART;TZID=America/Anguilla:20261226T173000
DTEND;TZID=America/Anguilla:20261226T230000
DTSTAMP:20260422T211838
CREATED:20250928T163944Z
LAST-MODIFIED:20260420T144629Z
UID:100118619-1798306200-1798326000@sonestastmaarten.com
SUMMARY:Bluefin Bar
DESCRIPTION:Rooftop bar above Azul with front-row sunset views\, serving light bites and libations in an exclusive setting perfect for golden hour.
URL:https://sonestastmaarten.com/event/bluefin-bar-2/2026-12-26/
LOCATION:Bluefin Restaurant
CATEGORIES:OP Dining Hours
ATTACH;FMTTYPE=image/png:https://sonestastmaarten.com/wp-content/uploads/bluefin-logo.png
END:VEVENT
BEGIN:VEVENT
DTSTART;TZID=America/Anguilla:20261226T180000
DTEND;TZID=America/Anguilla:20261226T220000
DTSTAMP:20260422T211838
CREATED:20250927T083633Z
LAST-MODIFIED:20260420T144651Z
UID:100118779-1798308000-1798322400@sonestastmaarten.com
SUMMARY:Bluefin Restaurant
DESCRIPTION:Healthy poke-inspired dining featuring sustainably sourced fish with specialty and build-your-own bowls for a fresh dinner experience.
URL:https://sonestastmaarten.com/event/bluefin-restaurant/2026-12-26/
LOCATION:Bluefin Restaurant
CATEGORIES:OP Dining Hours
ATTACH;FMTTYPE=image/png:https://sonestastmaarten.com/wp-content/uploads/bluefin-logo.png
END:VEVENT
BEGIN:VEVENT
DTSTART;VALUE=DATE:20261227
DTEND;VALUE=DATE:20261229
DTSTAMP:20260422T211838
CREATED:20251104T162823Z
LAST-MODIFIED:20260205T192738Z
UID:100107243-1798333200-1798419599@sonestastmaarten.com
SUMMARY:24 Hour Room-Service
DESCRIPTION:All-day menu featuring salads\, pizzas\, sandwiches\, burgers\, and entrees including grilled chicken and pan-seared fish available for in-room dining.
URL:https://sonestastmaarten.com/event/24-hour-room-service/2026-12-27/
LOCATION:Room Service
CATEGORIES:OP Dining Hours
END:VEVENT
BEGIN:VEVENT
DTSTART;TZID=America/Anguilla:20261227T140000
DTEND;TZID=America/Anguilla:20261227T170000
DTSTAMP:20260422T211838
CREATED:20260103T161306Z
LAST-MODIFIED:20260320T155656Z
UID:100114287-1798380000-1798390800@sonestastmaarten.com
SUMMARY:Bluefin Bar & Light Bites
DESCRIPTION:Enjoy stunning ocean and sunset views from this bar located above Azul Restaurant. Light bites served 2:00 PM – 5:00 PM\, with libations available throughout – your perfect golden hour destination.
URL:https://sonestastmaarten.com/event/bluefin-bar-3/2026-12-27/
LOCATION:Bluefin Restaurant
CATEGORIES:OP Dining Hours
ATTACH;FMTTYPE=image/png:https://sonestastmaarten.com/wp-content/uploads/bluefin-logo.png
END:VEVENT
BEGIN:VEVENT
DTSTART;TZID=America/Anguilla:20261227T170000
DTEND;TZID=America/Anguilla:20261228T010000
DTSTAMP:20260422T211838
CREATED:20251110T181642Z
LAST-MODIFIED:20260205T192755Z
UID:100107617-1798390800-1798419600@sonestastmaarten.com
SUMMARY:The Cloud 9 Rooftop Experience
DESCRIPTION:Experience stunning Caribbean views and spectacular sunsets from the world’s best plane-spotting venue. Enjoy premium cocktails\, fine wines\, and spirits. Bar snacks served 5:30 PM – 12:30 AM.
URL:https://sonestastmaarten.com/event/the-cloud-9-rooftop-experience/2026-12-27/
LOCATION:Cloud 9
CATEGORIES:OP Dining Hours,Ultimate Dining Hours
ATTACH;FMTTYPE=image/png:https://sonestastmaarten.com/wp-content/uploads/Cloud9_Logo.png
END:VEVENT
BEGIN:VEVENT
DTSTART;VALUE=DATE:20261228
DTEND;VALUE=DATE:20261230
DTSTAMP:20260422T211838
CREATED:20251104T162823Z
LAST-MODIFIED:20260205T192738Z
UID:100107244-1798419600-1798505999@sonestastmaarten.com
SUMMARY:24 Hour Room-Service
DESCRIPTION:All-day menu featuring salads\, pizzas\, sandwiches\, burgers\, and entrees including grilled chicken and pan-seared fish available for in-room dining.
URL:https://sonestastmaarten.com/event/24-hour-room-service/2026-12-28/
LOCATION:Room Service
CATEGORIES:OP Dining Hours
END:VEVENT
BEGIN:VEVENT
DTSTART;TZID=America/Anguilla:20261228T140000
DTEND;TZID=America/Anguilla:20261228T170000
DTSTAMP:20260422T211838
CREATED:20260103T161306Z
LAST-MODIFIED:20260320T155656Z
UID:100114288-1798466400-1798477200@sonestastmaarten.com
SUMMARY:Bluefin Bar & Light Bites
DESCRIPTION:Enjoy stunning ocean and sunset views from this bar located above Azul Restaurant. Light bites served 2:00 PM – 5:00 PM\, with libations available throughout – your perfect golden hour destination.
URL:https://sonestastmaarten.com/event/bluefin-bar-3/2026-12-28/
LOCATION:Bluefin Restaurant
CATEGORIES:OP Dining Hours
ATTACH;FMTTYPE=image/png:https://sonestastmaarten.com/wp-content/uploads/bluefin-logo.png
END:VEVENT
BEGIN:VEVENT
DTSTART;TZID=America/Anguilla:20261228T170000
DTEND;TZID=America/Anguilla:20261229T010000
DTSTAMP:20260422T211838
CREATED:20251110T181642Z
LAST-MODIFIED:20260205T192755Z
UID:100107618-1798477200-1798506000@sonestastmaarten.com
SUMMARY:The Cloud 9 Rooftop Experience
DESCRIPTION:Experience stunning Caribbean views and spectacular sunsets from the world’s best plane-spotting venue. Enjoy premium cocktails\, fine wines\, and spirits. Bar snacks served 5:30 PM – 12:30 AM.
URL:https://sonestastmaarten.com/event/the-cloud-9-rooftop-experience/2026-12-28/
LOCATION:Cloud 9
CATEGORIES:OP Dining Hours,Ultimate Dining Hours
ATTACH;FMTTYPE=image/png:https://sonestastmaarten.com/wp-content/uploads/Cloud9_Logo.png
END:VEVENT
BEGIN:VEVENT
DTSTART;VALUE=DATE:20261229
DTEND;VALUE=DATE:20261231
DTSTAMP:20260422T211838
CREATED:20251104T162823Z
LAST-MODIFIED:20260205T192738Z
UID:100107245-1798506000-1798592399@sonestastmaarten.com
SUMMARY:24 Hour Room-Service
DESCRIPTION:All-day menu featuring salads\, pizzas\, sandwiches\, burgers\, and entrees including grilled chicken and pan-seared fish available for in-room dining.
URL:https://sonestastmaarten.com/event/24-hour-room-service/2026-12-29/
LOCATION:Room Service
CATEGORIES:OP Dining Hours
END:VEVENT
BEGIN:VEVENT
DTSTART;TZID=America/Anguilla:20261229T153000
DTEND;TZID=America/Anguilla:20261229T173000
DTSTAMP:20260422T211838
CREATED:20250927T084345Z
LAST-MODIFIED:20260420T144506Z
UID:100118466-1798558200-1798565400@sonestastmaarten.com
SUMMARY:Point Pool Snacks
DESCRIPTION:Light poolside refreshments served at The Point Pool during late afternoon hours.
URL:https://sonestastmaarten.com/event/point-pool-snacks/2026-12-29/
LOCATION:The Point Pool
CATEGORIES:OP Dining Hours
ATTACH;FMTTYPE=image/png:https://sonestastmaarten.com/wp-content/uploads/one-zero-poolbar.png
END:VEVENT
END:VCALENDAR