BEGIN:VCALENDAR
VERSION:2.0
PRODID:-//Sonesta Resorts Sint Maarten - ECPv6.15.17.1//NONSGML v1.0//EN
CALSCALE:GREGORIAN
METHOD:PUBLISH
X-ORIGINAL-URL:https://sonestastmaarten.com
X-WR-CALDESC:Events for Sonesta Resorts Sint Maarten
REFRESH-INTERVAL;VALUE=DURATION:PT1H
X-Robots-Tag:noindex
X-PUBLISHED-TTL:PT1H
BEGIN:VTIMEZONE
TZID:America/Anguilla
BEGIN:STANDARD
TZOFFSETFROM:-0400
TZOFFSETTO:-0400
TZNAME:AST
DTSTART:20270101T000000
END:STANDARD
END:VTIMEZONE
BEGIN:VEVENT
DTSTART;TZID=America/Anguilla:20280204T203000
DTEND;TZID=America/Anguilla:20280204T223000
DTSTAMP:20260422T083513
CREATED:20250819T113705Z
LAST-MODIFIED:20260412T161230Z
UID:100117793-1833309000-1833316200@sonestastmaarten.com
SUMMARY:White Hot Dance Party with DJ Spin
DESCRIPTION:Get ready for the ultimate all-white party under the stars! Dress to impress in your best white attire and dance the night away as DJ Spin brings the hottest beats.
URL:https://sonestastmaarten.com/event/dance-party/2028-02-04/
LOCATION:The Piazza at La Fontana
CATEGORIES:Maho Beach Resort,Ocean Point Resort
ATTACH;FMTTYPE=image/png:https://sonestastmaarten.com/wp-content/uploads/White-Hot-Dacne-Party.png
END:VEVENT
BEGIN:VEVENT
DTSTART;TZID=America/Anguilla:20280208T110000
DTEND;TZID=America/Anguilla:20280208T113000
DTSTAMP:20260422T083513
CREATED:20260301T164826Z
LAST-MODIFIED:20260412T155718Z
UID:100116794-1833620400-1833622200@sonestastmaarten.com
SUMMARY:SunFit: Shallow Water Aerobics
DESCRIPTION:A low impact but high intensity water aerobics class where no swimming skills are needed. Improve flexibility\, strength\, and endurance while water resistance cushions joints\, all to motivating music.
URL:https://sonestastmaarten.com/event/sunfit-shallow-water-aerobics-5/2028-02-08/
LOCATION:The Point Pool
CATEGORIES:Ocean Point Resort
ATTACH;FMTTYPE=image/jpeg:https://sonestastmaarten.com/wp-content/uploads/OP_Pool_Point_2024_008.jpg
END:VEVENT
BEGIN:VEVENT
DTSTART;TZID=America/Anguilla:20280210T110000
DTEND;TZID=America/Anguilla:20280210T113000
DTSTAMP:20260422T083513
CREATED:20260301T164826Z
LAST-MODIFIED:20260412T155718Z
UID:100117559-1833793200-1833795000@sonestastmaarten.com
SUMMARY:SunFit: Shallow Water Aerobics
DESCRIPTION:A low impact but high intensity water aerobics class where no swimming skills are needed. Improve flexibility\, strength\, and endurance while water resistance cushions joints\, all to motivating music.
URL:https://sonestastmaarten.com/event/sunfit-shallow-water-aerobics-5/2028-02-10/
LOCATION:The Point Pool
CATEGORIES:Ocean Point Resort
ATTACH;FMTTYPE=image/jpeg:https://sonestastmaarten.com/wp-content/uploads/OP_Pool_Point_2024_008.jpg
END:VEVENT
BEGIN:VEVENT
DTSTART;TZID=America/Anguilla:20280211T203000
DTEND;TZID=America/Anguilla:20280211T223000
DTSTAMP:20260422T083513
CREATED:20250819T113705Z
LAST-MODIFIED:20260412T161230Z
UID:100117794-1833913800-1833921000@sonestastmaarten.com
SUMMARY:White Hot Dance Party with DJ Spin
DESCRIPTION:Get ready for the ultimate all-white party under the stars! Dress to impress in your best white attire and dance the night away as DJ Spin brings the hottest beats.
URL:https://sonestastmaarten.com/event/dance-party/2028-02-11/
LOCATION:The Piazza at La Fontana
CATEGORIES:Maho Beach Resort,Ocean Point Resort
ATTACH;FMTTYPE=image/png:https://sonestastmaarten.com/wp-content/uploads/White-Hot-Dacne-Party.png
END:VEVENT
BEGIN:VEVENT
DTSTART;TZID=America/Anguilla:20280215T110000
DTEND;TZID=America/Anguilla:20280215T113000
DTSTAMP:20260422T083513
CREATED:20260301T164826Z
LAST-MODIFIED:20260412T155718Z
UID:100116795-1834225200-1834227000@sonestastmaarten.com
SUMMARY:SunFit: Shallow Water Aerobics
DESCRIPTION:A low impact but high intensity water aerobics class where no swimming skills are needed. Improve flexibility\, strength\, and endurance while water resistance cushions joints\, all to motivating music.
URL:https://sonestastmaarten.com/event/sunfit-shallow-water-aerobics-5/2028-02-15/
LOCATION:The Point Pool
CATEGORIES:Ocean Point Resort
ATTACH;FMTTYPE=image/jpeg:https://sonestastmaarten.com/wp-content/uploads/OP_Pool_Point_2024_008.jpg
END:VEVENT
BEGIN:VEVENT
DTSTART;TZID=America/Anguilla:20280217T110000
DTEND;TZID=America/Anguilla:20280217T113000
DTSTAMP:20260422T083513
CREATED:20260301T164826Z
LAST-MODIFIED:20260412T155718Z
UID:100117560-1834398000-1834399800@sonestastmaarten.com
SUMMARY:SunFit: Shallow Water Aerobics
DESCRIPTION:A low impact but high intensity water aerobics class where no swimming skills are needed. Improve flexibility\, strength\, and endurance while water resistance cushions joints\, all to motivating music.
URL:https://sonestastmaarten.com/event/sunfit-shallow-water-aerobics-5/2028-02-17/
LOCATION:The Point Pool
CATEGORIES:Ocean Point Resort
ATTACH;FMTTYPE=image/jpeg:https://sonestastmaarten.com/wp-content/uploads/OP_Pool_Point_2024_008.jpg
END:VEVENT
BEGIN:VEVENT
DTSTART;TZID=America/Anguilla:20280218T203000
DTEND;TZID=America/Anguilla:20280218T223000
DTSTAMP:20260422T083513
CREATED:20250819T113705Z
LAST-MODIFIED:20260412T161230Z
UID:100117795-1834518600-1834525800@sonestastmaarten.com
SUMMARY:White Hot Dance Party with DJ Spin
DESCRIPTION:Get ready for the ultimate all-white party under the stars! Dress to impress in your best white attire and dance the night away as DJ Spin brings the hottest beats.
URL:https://sonestastmaarten.com/event/dance-party/2028-02-18/
LOCATION:The Piazza at La Fontana
CATEGORIES:Maho Beach Resort,Ocean Point Resort
ATTACH;FMTTYPE=image/png:https://sonestastmaarten.com/wp-content/uploads/White-Hot-Dacne-Party.png
END:VEVENT
BEGIN:VEVENT
DTSTART;TZID=America/Anguilla:20280222T110000
DTEND;TZID=America/Anguilla:20280222T113000
DTSTAMP:20260422T083513
CREATED:20260301T164826Z
LAST-MODIFIED:20260412T155718Z
UID:100116796-1834830000-1834831800@sonestastmaarten.com
SUMMARY:SunFit: Shallow Water Aerobics
DESCRIPTION:A low impact but high intensity water aerobics class where no swimming skills are needed. Improve flexibility\, strength\, and endurance while water resistance cushions joints\, all to motivating music.
URL:https://sonestastmaarten.com/event/sunfit-shallow-water-aerobics-5/2028-02-22/
LOCATION:The Point Pool
CATEGORIES:Ocean Point Resort
ATTACH;FMTTYPE=image/jpeg:https://sonestastmaarten.com/wp-content/uploads/OP_Pool_Point_2024_008.jpg
END:VEVENT
BEGIN:VEVENT
DTSTART;TZID=America/Anguilla:20280224T110000
DTEND;TZID=America/Anguilla:20280224T113000
DTSTAMP:20260422T083513
CREATED:20260301T164826Z
LAST-MODIFIED:20260412T155718Z
UID:100117561-1835002800-1835004600@sonestastmaarten.com
SUMMARY:SunFit: Shallow Water Aerobics
DESCRIPTION:A low impact but high intensity water aerobics class where no swimming skills are needed. Improve flexibility\, strength\, and endurance while water resistance cushions joints\, all to motivating music.
URL:https://sonestastmaarten.com/event/sunfit-shallow-water-aerobics-5/2028-02-24/
LOCATION:The Point Pool
CATEGORIES:Ocean Point Resort
ATTACH;FMTTYPE=image/jpeg:https://sonestastmaarten.com/wp-content/uploads/OP_Pool_Point_2024_008.jpg
END:VEVENT
BEGIN:VEVENT
DTSTART;TZID=America/Anguilla:20280225T203000
DTEND;TZID=America/Anguilla:20280225T223000
DTSTAMP:20260422T083513
CREATED:20250819T113705Z
LAST-MODIFIED:20260412T161230Z
UID:100117796-1835123400-1835130600@sonestastmaarten.com
SUMMARY:White Hot Dance Party with DJ Spin
DESCRIPTION:Get ready for the ultimate all-white party under the stars! Dress to impress in your best white attire and dance the night away as DJ Spin brings the hottest beats.
URL:https://sonestastmaarten.com/event/dance-party/2028-02-25/
LOCATION:The Piazza at La Fontana
CATEGORIES:Maho Beach Resort,Ocean Point Resort
ATTACH;FMTTYPE=image/png:https://sonestastmaarten.com/wp-content/uploads/White-Hot-Dacne-Party.png
END:VEVENT
BEGIN:VEVENT
DTSTART;TZID=America/Anguilla:20280229T110000
DTEND;TZID=America/Anguilla:20280229T113000
DTSTAMP:20260422T083513
CREATED:20260301T164826Z
LAST-MODIFIED:20260412T155718Z
UID:100116797-1835434800-1835436600@sonestastmaarten.com
SUMMARY:SunFit: Shallow Water Aerobics
DESCRIPTION:A low impact but high intensity water aerobics class where no swimming skills are needed. Improve flexibility\, strength\, and endurance while water resistance cushions joints\, all to motivating music.
URL:https://sonestastmaarten.com/event/sunfit-shallow-water-aerobics-5/2028-02-29/
LOCATION:The Point Pool
CATEGORIES:Ocean Point Resort
ATTACH;FMTTYPE=image/jpeg:https://sonestastmaarten.com/wp-content/uploads/OP_Pool_Point_2024_008.jpg
END:VEVENT
BEGIN:VEVENT
DTSTART;TZID=America/Anguilla:20280302T110000
DTEND;TZID=America/Anguilla:20280302T113000
DTSTAMP:20260422T083513
CREATED:20260301T164826Z
LAST-MODIFIED:20260412T155718Z
UID:100117562-1835607600-1835609400@sonestastmaarten.com
SUMMARY:SunFit: Shallow Water Aerobics
DESCRIPTION:A low impact but high intensity water aerobics class where no swimming skills are needed. Improve flexibility\, strength\, and endurance while water resistance cushions joints\, all to motivating music.
URL:https://sonestastmaarten.com/event/sunfit-shallow-water-aerobics-5/2028-03-02/
LOCATION:The Point Pool
CATEGORIES:Ocean Point Resort
ATTACH;FMTTYPE=image/jpeg:https://sonestastmaarten.com/wp-content/uploads/OP_Pool_Point_2024_008.jpg
END:VEVENT
BEGIN:VEVENT
DTSTART;TZID=America/Anguilla:20280303T203000
DTEND;TZID=America/Anguilla:20280303T223000
DTSTAMP:20260422T083513
CREATED:20250819T113705Z
LAST-MODIFIED:20260412T161230Z
UID:100117797-1835728200-1835735400@sonestastmaarten.com
SUMMARY:White Hot Dance Party with DJ Spin
DESCRIPTION:Get ready for the ultimate all-white party under the stars! Dress to impress in your best white attire and dance the night away as DJ Spin brings the hottest beats.
URL:https://sonestastmaarten.com/event/dance-party/2028-03-03/
LOCATION:The Piazza at La Fontana
CATEGORIES:Maho Beach Resort,Ocean Point Resort
ATTACH;FMTTYPE=image/png:https://sonestastmaarten.com/wp-content/uploads/White-Hot-Dacne-Party.png
END:VEVENT
BEGIN:VEVENT
DTSTART;TZID=America/Anguilla:20280307T110000
DTEND;TZID=America/Anguilla:20280307T113000
DTSTAMP:20260422T083513
CREATED:20260301T164826Z
LAST-MODIFIED:20260412T155718Z
UID:100116798-1836039600-1836041400@sonestastmaarten.com
SUMMARY:SunFit: Shallow Water Aerobics
DESCRIPTION:A low impact but high intensity water aerobics class where no swimming skills are needed. Improve flexibility\, strength\, and endurance while water resistance cushions joints\, all to motivating music.
URL:https://sonestastmaarten.com/event/sunfit-shallow-water-aerobics-5/2028-03-07/
LOCATION:The Point Pool
CATEGORIES:Ocean Point Resort
ATTACH;FMTTYPE=image/jpeg:https://sonestastmaarten.com/wp-content/uploads/OP_Pool_Point_2024_008.jpg
END:VEVENT
BEGIN:VEVENT
DTSTART;TZID=America/Anguilla:20280309T110000
DTEND;TZID=America/Anguilla:20280309T113000
DTSTAMP:20260422T083513
CREATED:20260301T164826Z
LAST-MODIFIED:20260412T155718Z
UID:100117563-1836212400-1836214200@sonestastmaarten.com
SUMMARY:SunFit: Shallow Water Aerobics
DESCRIPTION:A low impact but high intensity water aerobics class where no swimming skills are needed. Improve flexibility\, strength\, and endurance while water resistance cushions joints\, all to motivating music.
URL:https://sonestastmaarten.com/event/sunfit-shallow-water-aerobics-5/2028-03-09/
LOCATION:The Point Pool
CATEGORIES:Ocean Point Resort
ATTACH;FMTTYPE=image/jpeg:https://sonestastmaarten.com/wp-content/uploads/OP_Pool_Point_2024_008.jpg
END:VEVENT
BEGIN:VEVENT
DTSTART;TZID=America/Anguilla:20280310T203000
DTEND;TZID=America/Anguilla:20280310T223000
DTSTAMP:20260422T083513
CREATED:20250819T113705Z
LAST-MODIFIED:20260412T161230Z
UID:100117798-1836333000-1836340200@sonestastmaarten.com
SUMMARY:White Hot Dance Party with DJ Spin
DESCRIPTION:Get ready for the ultimate all-white party under the stars! Dress to impress in your best white attire and dance the night away as DJ Spin brings the hottest beats.
URL:https://sonestastmaarten.com/event/dance-party/2028-03-10/
LOCATION:The Piazza at La Fontana
CATEGORIES:Maho Beach Resort,Ocean Point Resort
ATTACH;FMTTYPE=image/png:https://sonestastmaarten.com/wp-content/uploads/White-Hot-Dacne-Party.png
END:VEVENT
BEGIN:VEVENT
DTSTART;TZID=America/Anguilla:20280314T110000
DTEND;TZID=America/Anguilla:20280314T113000
DTSTAMP:20260422T083513
CREATED:20260301T164826Z
LAST-MODIFIED:20260412T155718Z
UID:100116799-1836644400-1836646200@sonestastmaarten.com
SUMMARY:SunFit: Shallow Water Aerobics
DESCRIPTION:A low impact but high intensity water aerobics class where no swimming skills are needed. Improve flexibility\, strength\, and endurance while water resistance cushions joints\, all to motivating music.
URL:https://sonestastmaarten.com/event/sunfit-shallow-water-aerobics-5/2028-03-14/
LOCATION:The Point Pool
CATEGORIES:Ocean Point Resort
ATTACH;FMTTYPE=image/jpeg:https://sonestastmaarten.com/wp-content/uploads/OP_Pool_Point_2024_008.jpg
END:VEVENT
BEGIN:VEVENT
DTSTART;TZID=America/Anguilla:20280316T110000
DTEND;TZID=America/Anguilla:20280316T113000
DTSTAMP:20260422T083513
CREATED:20260301T164826Z
LAST-MODIFIED:20260412T155718Z
UID:100117564-1836817200-1836819000@sonestastmaarten.com
SUMMARY:SunFit: Shallow Water Aerobics
DESCRIPTION:A low impact but high intensity water aerobics class where no swimming skills are needed. Improve flexibility\, strength\, and endurance while water resistance cushions joints\, all to motivating music.
URL:https://sonestastmaarten.com/event/sunfit-shallow-water-aerobics-5/2028-03-16/
LOCATION:The Point Pool
CATEGORIES:Ocean Point Resort
ATTACH;FMTTYPE=image/jpeg:https://sonestastmaarten.com/wp-content/uploads/OP_Pool_Point_2024_008.jpg
END:VEVENT
BEGIN:VEVENT
DTSTART;TZID=America/Anguilla:20280317T203000
DTEND;TZID=America/Anguilla:20280317T223000
DTSTAMP:20260422T083513
CREATED:20250819T113705Z
LAST-MODIFIED:20260412T161230Z
UID:100117799-1836937800-1836945000@sonestastmaarten.com
SUMMARY:White Hot Dance Party with DJ Spin
DESCRIPTION:Get ready for the ultimate all-white party under the stars! Dress to impress in your best white attire and dance the night away as DJ Spin brings the hottest beats.
URL:https://sonestastmaarten.com/event/dance-party/2028-03-17/
LOCATION:The Piazza at La Fontana
CATEGORIES:Maho Beach Resort,Ocean Point Resort
ATTACH;FMTTYPE=image/png:https://sonestastmaarten.com/wp-content/uploads/White-Hot-Dacne-Party.png
END:VEVENT
BEGIN:VEVENT
DTSTART;TZID=America/Anguilla:20280321T110000
DTEND;TZID=America/Anguilla:20280321T113000
DTSTAMP:20260422T083513
CREATED:20260301T164826Z
LAST-MODIFIED:20260412T155718Z
UID:100116800-1837249200-1837251000@sonestastmaarten.com
SUMMARY:SunFit: Shallow Water Aerobics
DESCRIPTION:A low impact but high intensity water aerobics class where no swimming skills are needed. Improve flexibility\, strength\, and endurance while water resistance cushions joints\, all to motivating music.
URL:https://sonestastmaarten.com/event/sunfit-shallow-water-aerobics-5/2028-03-21/
LOCATION:The Point Pool
CATEGORIES:Ocean Point Resort
ATTACH;FMTTYPE=image/jpeg:https://sonestastmaarten.com/wp-content/uploads/OP_Pool_Point_2024_008.jpg
END:VEVENT
BEGIN:VEVENT
DTSTART;TZID=America/Anguilla:20280323T110000
DTEND;TZID=America/Anguilla:20280323T113000
DTSTAMP:20260422T083513
CREATED:20260301T164826Z
LAST-MODIFIED:20260412T155718Z
UID:100117565-1837422000-1837423800@sonestastmaarten.com
SUMMARY:SunFit: Shallow Water Aerobics
DESCRIPTION:A low impact but high intensity water aerobics class where no swimming skills are needed. Improve flexibility\, strength\, and endurance while water resistance cushions joints\, all to motivating music.
URL:https://sonestastmaarten.com/event/sunfit-shallow-water-aerobics-5/2028-03-23/
LOCATION:The Point Pool
CATEGORIES:Ocean Point Resort
ATTACH;FMTTYPE=image/jpeg:https://sonestastmaarten.com/wp-content/uploads/OP_Pool_Point_2024_008.jpg
END:VEVENT
BEGIN:VEVENT
DTSTART;TZID=America/Anguilla:20280324T203000
DTEND;TZID=America/Anguilla:20280324T223000
DTSTAMP:20260422T083513
CREATED:20250819T113705Z
LAST-MODIFIED:20260412T161230Z
UID:100117800-1837542600-1837549800@sonestastmaarten.com
SUMMARY:White Hot Dance Party with DJ Spin
DESCRIPTION:Get ready for the ultimate all-white party under the stars! Dress to impress in your best white attire and dance the night away as DJ Spin brings the hottest beats.
URL:https://sonestastmaarten.com/event/dance-party/2028-03-24/
LOCATION:The Piazza at La Fontana
CATEGORIES:Maho Beach Resort,Ocean Point Resort
ATTACH;FMTTYPE=image/png:https://sonestastmaarten.com/wp-content/uploads/White-Hot-Dacne-Party.png
END:VEVENT
BEGIN:VEVENT
DTSTART;TZID=America/Anguilla:20280328T110000
DTEND;TZID=America/Anguilla:20280328T113000
DTSTAMP:20260422T083513
CREATED:20260301T164826Z
LAST-MODIFIED:20260412T155718Z
UID:100116801-1837854000-1837855800@sonestastmaarten.com
SUMMARY:SunFit: Shallow Water Aerobics
DESCRIPTION:A low impact but high intensity water aerobics class where no swimming skills are needed. Improve flexibility\, strength\, and endurance while water resistance cushions joints\, all to motivating music.
URL:https://sonestastmaarten.com/event/sunfit-shallow-water-aerobics-5/2028-03-28/
LOCATION:The Point Pool
CATEGORIES:Ocean Point Resort
ATTACH;FMTTYPE=image/jpeg:https://sonestastmaarten.com/wp-content/uploads/OP_Pool_Point_2024_008.jpg
END:VEVENT
BEGIN:VEVENT
DTSTART;TZID=America/Anguilla:20280330T110000
DTEND;TZID=America/Anguilla:20280330T113000
DTSTAMP:20260422T083513
CREATED:20260301T164826Z
LAST-MODIFIED:20260412T155718Z
UID:100117566-1838026800-1838028600@sonestastmaarten.com
SUMMARY:SunFit: Shallow Water Aerobics
DESCRIPTION:A low impact but high intensity water aerobics class where no swimming skills are needed. Improve flexibility\, strength\, and endurance while water resistance cushions joints\, all to motivating music.
URL:https://sonestastmaarten.com/event/sunfit-shallow-water-aerobics-5/2028-03-30/
LOCATION:The Point Pool
CATEGORIES:Ocean Point Resort
ATTACH;FMTTYPE=image/jpeg:https://sonestastmaarten.com/wp-content/uploads/OP_Pool_Point_2024_008.jpg
END:VEVENT
BEGIN:VEVENT
DTSTART;TZID=America/Anguilla:20280331T203000
DTEND;TZID=America/Anguilla:20280331T223000
DTSTAMP:20260422T083513
CREATED:20250819T113705Z
LAST-MODIFIED:20260412T161230Z
UID:100117801-1838147400-1838154600@sonestastmaarten.com
SUMMARY:White Hot Dance Party with DJ Spin
DESCRIPTION:Get ready for the ultimate all-white party under the stars! Dress to impress in your best white attire and dance the night away as DJ Spin brings the hottest beats.
URL:https://sonestastmaarten.com/event/dance-party/2028-03-31/
LOCATION:The Piazza at La Fontana
CATEGORIES:Maho Beach Resort,Ocean Point Resort
ATTACH;FMTTYPE=image/png:https://sonestastmaarten.com/wp-content/uploads/White-Hot-Dacne-Party.png
END:VEVENT
BEGIN:VEVENT
DTSTART;TZID=America/Anguilla:20280404T110000
DTEND;TZID=America/Anguilla:20280404T113000
DTSTAMP:20260422T083513
CREATED:20260301T164826Z
LAST-MODIFIED:20260412T155718Z
UID:100116802-1838458800-1838460600@sonestastmaarten.com
SUMMARY:SunFit: Shallow Water Aerobics
DESCRIPTION:A low impact but high intensity water aerobics class where no swimming skills are needed. Improve flexibility\, strength\, and endurance while water resistance cushions joints\, all to motivating music.
URL:https://sonestastmaarten.com/event/sunfit-shallow-water-aerobics-5/2028-04-04/
LOCATION:The Point Pool
CATEGORIES:Ocean Point Resort
ATTACH;FMTTYPE=image/jpeg:https://sonestastmaarten.com/wp-content/uploads/OP_Pool_Point_2024_008.jpg
END:VEVENT
BEGIN:VEVENT
DTSTART;TZID=America/Anguilla:20280406T110000
DTEND;TZID=America/Anguilla:20280406T113000
DTSTAMP:20260422T083513
CREATED:20260301T164826Z
LAST-MODIFIED:20260412T155718Z
UID:100117567-1838631600-1838633400@sonestastmaarten.com
SUMMARY:SunFit: Shallow Water Aerobics
DESCRIPTION:A low impact but high intensity water aerobics class where no swimming skills are needed. Improve flexibility\, strength\, and endurance while water resistance cushions joints\, all to motivating music.
URL:https://sonestastmaarten.com/event/sunfit-shallow-water-aerobics-5/2028-04-06/
LOCATION:The Point Pool
CATEGORIES:Ocean Point Resort
ATTACH;FMTTYPE=image/jpeg:https://sonestastmaarten.com/wp-content/uploads/OP_Pool_Point_2024_008.jpg
END:VEVENT
BEGIN:VEVENT
DTSTART;TZID=America/Anguilla:20280407T203000
DTEND;TZID=America/Anguilla:20280407T223000
DTSTAMP:20260422T083513
CREATED:20250819T113705Z
LAST-MODIFIED:20260412T161230Z
UID:100117802-1838752200-1838759400@sonestastmaarten.com
SUMMARY:White Hot Dance Party with DJ Spin
DESCRIPTION:Get ready for the ultimate all-white party under the stars! Dress to impress in your best white attire and dance the night away as DJ Spin brings the hottest beats.
URL:https://sonestastmaarten.com/event/dance-party/2028-04-07/
LOCATION:The Piazza at La Fontana
CATEGORIES:Maho Beach Resort,Ocean Point Resort
ATTACH;FMTTYPE=image/png:https://sonestastmaarten.com/wp-content/uploads/White-Hot-Dacne-Party.png
END:VEVENT
BEGIN:VEVENT
DTSTART;TZID=America/Anguilla:20280411T110000
DTEND;TZID=America/Anguilla:20280411T113000
DTSTAMP:20260422T083513
CREATED:20260301T164826Z
LAST-MODIFIED:20260412T155718Z
UID:100116803-1839063600-1839065400@sonestastmaarten.com
SUMMARY:SunFit: Shallow Water Aerobics
DESCRIPTION:A low impact but high intensity water aerobics class where no swimming skills are needed. Improve flexibility\, strength\, and endurance while water resistance cushions joints\, all to motivating music.
URL:https://sonestastmaarten.com/event/sunfit-shallow-water-aerobics-5/2028-04-11/
LOCATION:The Point Pool
CATEGORIES:Ocean Point Resort
ATTACH;FMTTYPE=image/jpeg:https://sonestastmaarten.com/wp-content/uploads/OP_Pool_Point_2024_008.jpg
END:VEVENT
BEGIN:VEVENT
DTSTART;TZID=America/Anguilla:20280414T203000
DTEND;TZID=America/Anguilla:20280414T223000
DTSTAMP:20260422T083513
CREATED:20250819T113705Z
LAST-MODIFIED:20260412T161230Z
UID:100117803-1839357000-1839364200@sonestastmaarten.com
SUMMARY:White Hot Dance Party with DJ Spin
DESCRIPTION:Get ready for the ultimate all-white party under the stars! Dress to impress in your best white attire and dance the night away as DJ Spin brings the hottest beats.
URL:https://sonestastmaarten.com/event/dance-party/2028-04-14/
LOCATION:The Piazza at La Fontana
CATEGORIES:Maho Beach Resort,Ocean Point Resort
ATTACH;FMTTYPE=image/png:https://sonestastmaarten.com/wp-content/uploads/White-Hot-Dacne-Party.png
END:VEVENT
END:VCALENDAR