BEGIN:VCALENDAR
VERSION:2.0
PRODID:-//Sonesta Resorts Sint Maarten - ECPv6.15.17.1//NONSGML v1.0//EN
CALSCALE:GREGORIAN
METHOD:PUBLISH
X-ORIGINAL-URL:https://sonestastmaarten.com
X-WR-CALDESC:Events for Sonesta Resorts Sint Maarten
REFRESH-INTERVAL;VALUE=DURATION:PT1H
X-Robots-Tag:noindex
X-PUBLISHED-TTL:PT1H
BEGIN:VTIMEZONE
TZID:America/Anguilla
BEGIN:STANDARD
TZOFFSETFROM:-0400
TZOFFSETTO:-0400
TZNAME:AST
DTSTART:20250101T000000
END:STANDARD
END:VTIMEZONE
BEGIN:VEVENT
DTSTART;TZID=America/Anguilla:20260519T100000
DTEND;TZID=America/Anguilla:20260520T010000
DTSTAMP:20260422T185747
CREATED:20250928T162547Z
LAST-MODIFIED:20251219T173311Z
UID:100119039-1779184800-1779238800@sonestastmaarten.com
SUMMARY:Latitude Bar
DESCRIPTION:Lobby bar with live entertainment\, sports on big screens\, and slot machines for 24-hour gaming.
URL:https://sonestastmaarten.com/event/latitude-bar/2026-05-19/
LOCATION:The Latitude Lobby Bar\, Maho Beach Lobby
CATEGORIES:MB Dining Hours
ATTACH;FMTTYPE=image/png:https://sonestastmaarten.com/wp-content/uploads/latitude-bar.png
END:VEVENT
BEGIN:VEVENT
DTSTART;TZID=America/Anguilla:20260519T113000
DTEND;TZID=America/Anguilla:20260519T223000
DTSTAMP:20260422T185747
CREATED:20250927T090536Z
LAST-MODIFIED:20251219T173318Z
UID:100119045-1779190200-1779229800@sonestastmaarten.com
SUMMARY:Pizzeria Napoli
DESCRIPTION:Handcrafted\, made-to-order pizza slices hot from a traditional oven with fresh ingredients throughout the day.
URL:https://sonestastmaarten.com/event/pizzeria-napoli/2026-05-19/
LOCATION:Pizzeria Napoli
CATEGORIES:MB Dining Hours
ATTACH;FMTTYPE=image/png:https://sonestastmaarten.com/wp-content/uploads/pizzeria-napoli.png
END:VEVENT
BEGIN:VEVENT
DTSTART;TZID=America/Anguilla:20260519T120000
DTEND;TZID=America/Anguilla:20260519T160000
DTSTAMP:20260422T185747
CREATED:20250927T081051Z
LAST-MODIFIED:20260103T161919Z
UID:100119083-1779192000-1779206400@sonestastmaarten.com
SUMMARY:Palms Grill (Lunch)
DESCRIPTION:Oceanfront lunch with Caribbean grill specialties including jerk chicken\, BBQ ribs\, fresh catch of the day\, burgers\, and made-to-order pasta.
URL:https://sonestastmaarten.com/event/palms-grill/2026-05-19/
LOCATION:Palms Grill
CATEGORIES:MB Dining Hours
ATTACH;FMTTYPE=image/png:https://sonestastmaarten.com/wp-content/uploads/the-palms-grill.png
END:VEVENT
BEGIN:VEVENT
DTSTART;TZID=America/Anguilla:20260519T123000
DTEND;TZID=America/Anguilla:20260519T150000
DTSTAMP:20260422T185747
CREATED:20250927T080903Z
LAST-MODIFIED:20260103T161858Z
UID:100119087-1779193800-1779202800@sonestastmaarten.com
SUMMARY:Ocean Terrace (Lunch)
DESCRIPTION:Buffet lunch featuring soups\, salads\, a made-to-order pasta station\, and varied international options.
URL:https://sonestastmaarten.com/event/ocean-terrace-2/2026-05-19/
LOCATION:Ocean Terrace
CATEGORIES:MB Dining Hours
ATTACH;FMTTYPE=image/png:https://sonestastmaarten.com/wp-content/uploads/ocean-terrace.png
END:VEVENT
BEGIN:VEVENT
DTSTART;TZID=America/Anguilla:20260519T140000
DTEND;TZID=America/Anguilla:20260519T180000
DTSTAMP:20260422T185747
CREATED:20251117T093638Z
LAST-MODIFIED:20260205T194202Z
UID:100108155-1779199200-1779213600@sonestastmaarten.com
SUMMARY:Oasis Snack Shack
DESCRIPTION:Freshly cooked burgers and hotdogs served hot and delicious at Oasis Snack Shack
URL:https://sonestastmaarten.com/event/oasis-snack-shack-2/2026-05-19/
LOCATION:The Oasis Pool
CATEGORIES:MB Dining Hours
END:VEVENT
BEGIN:VEVENT
DTSTART;TZID=America/Anguilla:20260519T160000
DTEND;TZID=America/Anguilla:20260519T230000
DTSTAMP:20260422T185747
CREATED:20250928T164218Z
LAST-MODIFIED:20251117T091939Z
UID:100119104-1779206400-1779231600@sonestastmaarten.com
SUMMARY:La Fontana Bar
DESCRIPTION:Waterfront piazza bar on Via Maho near the famous gazebo overlooking Maho Bay\, serving refreshments\, frozen drinks\, cocktails\, and aperitivos.
URL:https://sonestastmaarten.com/event/la-fontana-bar/2026-05-19/
LOCATION:La Fontana Restaurant
CATEGORIES:MB Dining Hours
ATTACH;FMTTYPE=image/png:https://sonestastmaarten.com/wp-content/uploads/la-fontana.png
END:VEVENT
BEGIN:VEVENT
DTSTART;TZID=America/Anguilla:20260519T180000
DTEND;TZID=America/Anguilla:20260519T220000
DTSTAMP:20260422T185747
CREATED:20251112T205425Z
LAST-MODIFIED:20260205T194619Z
UID:100108496-1779213600-1779228000@sonestastmaarten.com
SUMMARY:Ocean Terrace (French Theme Dinner)
DESCRIPTION:Buffet dinner with tonight’s culinary theme French
URL:https://sonestastmaarten.com/event/ocean-terrace-french-theme-dinner/2026-05-19/
LOCATION:Ocean Terrace
CATEGORIES:MB Dining Hours
ATTACH;FMTTYPE=image/png:https://sonestastmaarten.com/wp-content/uploads/ocean-terrace.png
END:VEVENT
BEGIN:VEVENT
DTSTART;TZID=America/Anguilla:20260519T180000
DTEND;TZID=America/Anguilla:20260520T010000
DTSTAMP:20260422T185747
CREATED:20251110T174757Z
LAST-MODIFIED:20260205T195025Z
UID:100108885-1779213600-1779238800@sonestastmaarten.com
SUMMARY:The Village Tavern Bar
DESCRIPTION:Enjoy live entertainment and sports on big screens at our bar located upstairs in Maho Village. Late-night pub fare served from 10:00 PM – 12:30 AM.
URL:https://sonestastmaarten.com/event/the-village-tavern-bar/2026-05-19/
LOCATION:The Village Tavern\, Sint Maarten
CATEGORIES:MB Dining Hours
ATTACH;FMTTYPE=image/png:https://sonestastmaarten.com/wp-content/uploads/village_tavern.png
END:VEVENT
BEGIN:VEVENT
DTSTART;TZID=America/Anguilla:20260520T100000
DTEND;TZID=America/Anguilla:20260520T180000
DTSTAMP:20260422T185747
CREATED:20250928T162047Z
LAST-MODIFIED:20251219T173248Z
UID:100119031-1779271200-1779300000@sonestastmaarten.com
SUMMARY:Oasis Pool Bar
DESCRIPTION:Swim-up bar at the signature pool with live entertainment and Teeny Tiki kids’ service area.
URL:https://sonestastmaarten.com/event/oasis-pool-bar/2026-05-20/
LOCATION:The Oasis Pool
CATEGORIES:MB Dining Hours
ATTACH;FMTTYPE=image/png:https://sonestastmaarten.com/wp-content/uploads/oasis-swim-up-bar.png
END:VEVENT
BEGIN:VEVENT
DTSTART;TZID=America/Anguilla:20260520T100000
DTEND;TZID=America/Anguilla:20260520T230000
DTSTAMP:20260422T185747
CREATED:20250928T162828Z
LAST-MODIFIED:20260103T161936Z
UID:100119034-1779271200-1779318000@sonestastmaarten.com
SUMMARY:The Palms Grill Bar
DESCRIPTION:Oceanfront bar adjacent to the beach and Waterfront Stage serving Caribbean cocktails\, beers\, wines\, and soft drinks.
URL:https://sonestastmaarten.com/event/the-palms-grill-bar/2026-05-20/
LOCATION:Palms Grill
CATEGORIES:MB Dining Hours
ATTACH;FMTTYPE=image/png:https://sonestastmaarten.com/wp-content/uploads/the-palms-grill.png
END:VEVENT
BEGIN:VEVENT
DTSTART;TZID=America/Anguilla:20260520T100000
DTEND;TZID=America/Anguilla:20260521T010000
DTSTAMP:20260422T185747
CREATED:20250928T162547Z
LAST-MODIFIED:20251219T173311Z
UID:100119040-1779271200-1779325200@sonestastmaarten.com
SUMMARY:Latitude Bar
DESCRIPTION:Lobby bar with live entertainment\, sports on big screens\, and slot machines for 24-hour gaming.
URL:https://sonestastmaarten.com/event/latitude-bar/2026-05-20/
LOCATION:The Latitude Lobby Bar\, Maho Beach Lobby
CATEGORIES:MB Dining Hours
ATTACH;FMTTYPE=image/png:https://sonestastmaarten.com/wp-content/uploads/latitude-bar.png
END:VEVENT
BEGIN:VEVENT
DTSTART;TZID=America/Anguilla:20260520T113000
DTEND;TZID=America/Anguilla:20260520T223000
DTSTAMP:20260422T185747
CREATED:20250927T090536Z
LAST-MODIFIED:20251219T173318Z
UID:100119046-1779276600-1779316200@sonestastmaarten.com
SUMMARY:Pizzeria Napoli
DESCRIPTION:Handcrafted\, made-to-order pizza slices hot from a traditional oven with fresh ingredients throughout the day.
URL:https://sonestastmaarten.com/event/pizzeria-napoli/2026-05-20/
LOCATION:Pizzeria Napoli
CATEGORIES:MB Dining Hours
ATTACH;FMTTYPE=image/png:https://sonestastmaarten.com/wp-content/uploads/pizzeria-napoli.png
END:VEVENT
BEGIN:VEVENT
DTSTART;TZID=America/Anguilla:20260520T120000
DTEND;TZID=America/Anguilla:20260520T160000
DTSTAMP:20260422T185747
CREATED:20250927T081051Z
LAST-MODIFIED:20260103T161919Z
UID:100119084-1779278400-1779292800@sonestastmaarten.com
SUMMARY:Palms Grill (Lunch)
DESCRIPTION:Oceanfront lunch with Caribbean grill specialties including jerk chicken\, BBQ ribs\, fresh catch of the day\, burgers\, and made-to-order pasta.
URL:https://sonestastmaarten.com/event/palms-grill/2026-05-20/
LOCATION:Palms Grill
CATEGORIES:MB Dining Hours
ATTACH;FMTTYPE=image/png:https://sonestastmaarten.com/wp-content/uploads/the-palms-grill.png
END:VEVENT
BEGIN:VEVENT
DTSTART;TZID=America/Anguilla:20260520T123000
DTEND;TZID=America/Anguilla:20260520T150000
DTSTAMP:20260422T185747
CREATED:20250927T080903Z
LAST-MODIFIED:20260103T161858Z
UID:100119088-1779280200-1779289200@sonestastmaarten.com
SUMMARY:Ocean Terrace (Lunch)
DESCRIPTION:Buffet lunch featuring soups\, salads\, a made-to-order pasta station\, and varied international options.
URL:https://sonestastmaarten.com/event/ocean-terrace-2/2026-05-20/
LOCATION:Ocean Terrace
CATEGORIES:MB Dining Hours
ATTACH;FMTTYPE=image/png:https://sonestastmaarten.com/wp-content/uploads/ocean-terrace.png
END:VEVENT
BEGIN:VEVENT
DTSTART;TZID=America/Anguilla:20260520T140000
DTEND;TZID=America/Anguilla:20260520T180000
DTSTAMP:20260422T185747
CREATED:20251117T093638Z
LAST-MODIFIED:20260205T194202Z
UID:100108156-1779285600-1779300000@sonestastmaarten.com
SUMMARY:Oasis Snack Shack
DESCRIPTION:Freshly cooked burgers and hotdogs served hot and delicious at Oasis Snack Shack
URL:https://sonestastmaarten.com/event/oasis-snack-shack-2/2026-05-20/
LOCATION:The Oasis Pool
CATEGORIES:MB Dining Hours
END:VEVENT
BEGIN:VEVENT
DTSTART;TZID=America/Anguilla:20260520T160000
DTEND;TZID=America/Anguilla:20260520T230000
DTSTAMP:20260422T185747
CREATED:20250928T164218Z
LAST-MODIFIED:20251117T091939Z
UID:100119105-1779292800-1779318000@sonestastmaarten.com
SUMMARY:La Fontana Bar
DESCRIPTION:Waterfront piazza bar on Via Maho near the famous gazebo overlooking Maho Bay\, serving refreshments\, frozen drinks\, cocktails\, and aperitivos.
URL:https://sonestastmaarten.com/event/la-fontana-bar/2026-05-20/
LOCATION:La Fontana Restaurant
CATEGORIES:MB Dining Hours
ATTACH;FMTTYPE=image/png:https://sonestastmaarten.com/wp-content/uploads/la-fontana.png
END:VEVENT
BEGIN:VEVENT
DTSTART;TZID=America/Anguilla:20260520T180000
DTEND;TZID=America/Anguilla:20260520T220000
DTSTAMP:20260422T185747
CREATED:20251226T182801Z
LAST-MODIFIED:20260205T194649Z
UID:100108548-1779300000-1779314400@sonestastmaarten.com
SUMMARY:Ocean Terrace (American Theme)
DESCRIPTION:Buffet dinner with tonight’s culinary theme American!
URL:https://sonestastmaarten.com/event/ocean-terrace-nye-gala-dinner/2026-05-20/
LOCATION:Ocean Terrace
CATEGORIES:MB Dining Hours
ATTACH;FMTTYPE=image/png:https://sonestastmaarten.com/wp-content/uploads/ocean-terrace.png
END:VEVENT
BEGIN:VEVENT
DTSTART;TZID=America/Anguilla:20260520T180000
DTEND;TZID=America/Anguilla:20260520T220000
DTSTAMP:20260422T185748
CREATED:20260103T161601Z
LAST-MODIFIED:20260205T165516Z
UID:100106760-1779300000-1779314400@sonestastmaarten.com
SUMMARY:Jing's Kitchen
DESCRIPTION:Asian fare restaurant upstairs in Maho Village with hand-painted murals in a contemporary chic setting.
URL:https://sonestastmaarten.com/event/jings-kitchen-2/2026-05-20/
LOCATION:Jing’s Kitchen
CATEGORIES:MB Dining Hours
ATTACH;FMTTYPE=image/png:https://sonestastmaarten.com/wp-content/uploads/jings.png
END:VEVENT
BEGIN:VEVENT
DTSTART;TZID=America/Anguilla:20260520T180000
DTEND;TZID=America/Anguilla:20260521T010000
DTSTAMP:20260422T185748
CREATED:20251110T174757Z
LAST-MODIFIED:20260205T195025Z
UID:100108886-1779300000-1779325200@sonestastmaarten.com
SUMMARY:The Village Tavern Bar
DESCRIPTION:Enjoy live entertainment and sports on big screens at our bar located upstairs in Maho Village. Late-night pub fare served from 10:00 PM – 12:30 AM.
URL:https://sonestastmaarten.com/event/the-village-tavern-bar/2026-05-20/
LOCATION:The Village Tavern\, Sint Maarten
CATEGORIES:MB Dining Hours
ATTACH;FMTTYPE=image/png:https://sonestastmaarten.com/wp-content/uploads/village_tavern.png
END:VEVENT
BEGIN:VEVENT
DTSTART;TZID=America/Anguilla:20260521T120000
DTEND;TZID=America/Anguilla:20260521T160000
DTSTAMP:20260422T185748
CREATED:20250927T081051Z
LAST-MODIFIED:20260103T161919Z
UID:100119085-1779364800-1779379200@sonestastmaarten.com
SUMMARY:Palms Grill (Lunch)
DESCRIPTION:Oceanfront lunch with Caribbean grill specialties including jerk chicken\, BBQ ribs\, fresh catch of the day\, burgers\, and made-to-order pasta.
URL:https://sonestastmaarten.com/event/palms-grill/2026-05-21/
LOCATION:Palms Grill
CATEGORIES:MB Dining Hours
ATTACH;FMTTYPE=image/png:https://sonestastmaarten.com/wp-content/uploads/the-palms-grill.png
END:VEVENT
BEGIN:VEVENT
DTSTART;TZID=America/Anguilla:20260521T123000
DTEND;TZID=America/Anguilla:20260521T150000
DTSTAMP:20260422T185748
CREATED:20250927T080903Z
LAST-MODIFIED:20260103T161858Z
UID:100119089-1779366600-1779375600@sonestastmaarten.com
SUMMARY:Ocean Terrace (Lunch)
DESCRIPTION:Buffet lunch featuring soups\, salads\, a made-to-order pasta station\, and varied international options.
URL:https://sonestastmaarten.com/event/ocean-terrace-2/2026-05-21/
LOCATION:Ocean Terrace
CATEGORIES:MB Dining Hours
ATTACH;FMTTYPE=image/png:https://sonestastmaarten.com/wp-content/uploads/ocean-terrace.png
END:VEVENT
BEGIN:VEVENT
DTSTART;TZID=America/Anguilla:20260521T140000
DTEND;TZID=America/Anguilla:20260521T180000
DTSTAMP:20260422T185748
CREATED:20251117T093638Z
LAST-MODIFIED:20260205T194202Z
UID:100108157-1779372000-1779386400@sonestastmaarten.com
SUMMARY:Oasis Snack Shack
DESCRIPTION:Freshly cooked burgers and hotdogs served hot and delicious at Oasis Snack Shack
URL:https://sonestastmaarten.com/event/oasis-snack-shack-2/2026-05-21/
LOCATION:The Oasis Pool
CATEGORIES:MB Dining Hours
END:VEVENT
BEGIN:VEVENT
DTSTART;TZID=America/Anguilla:20260521T160000
DTEND;TZID=America/Anguilla:20260521T230000
DTSTAMP:20260422T185748
CREATED:20250928T164218Z
LAST-MODIFIED:20251117T091939Z
UID:100119106-1779379200-1779404400@sonestastmaarten.com
SUMMARY:La Fontana Bar
DESCRIPTION:Waterfront piazza bar on Via Maho near the famous gazebo overlooking Maho Bay\, serving refreshments\, frozen drinks\, cocktails\, and aperitivos.
URL:https://sonestastmaarten.com/event/la-fontana-bar/2026-05-21/
LOCATION:La Fontana Restaurant
CATEGORIES:MB Dining Hours
ATTACH;FMTTYPE=image/png:https://sonestastmaarten.com/wp-content/uploads/la-fontana.png
END:VEVENT
BEGIN:VEVENT
DTSTART;TZID=America/Anguilla:20260521T180000
DTEND;TZID=America/Anguilla:20260521T220000
DTSTAMP:20260422T185748
CREATED:20260220T152802Z
LAST-MODIFIED:20260220T152803Z
UID:100111000-1779386400-1779400800@sonestastmaarten.com
SUMMARY:Ocean Terrace (Caribbean Theme Dinner)
DESCRIPTION:Buffet dinner with tonight’s culinary theme Caribbean!
URL:https://sonestastmaarten.com/event/ocean-terrace-caribbean-theme-dinner-2-2/2026-05-21/
LOCATION:Ocean Terrace
CATEGORIES:MB Dining Hours
ATTACH;FMTTYPE=image/png:https://sonestastmaarten.com/wp-content/uploads/ocean-terrace.png
END:VEVENT
BEGIN:VEVENT
DTSTART;TZID=America/Anguilla:20260521T180000
DTEND;TZID=America/Anguilla:20260522T010000
DTSTAMP:20260422T185748
CREATED:20251110T174757Z
LAST-MODIFIED:20260205T195025Z
UID:100108887-1779386400-1779411600@sonestastmaarten.com
SUMMARY:The Village Tavern Bar
DESCRIPTION:Enjoy live entertainment and sports on big screens at our bar located upstairs in Maho Village. Late-night pub fare served from 10:00 PM – 12:30 AM.
URL:https://sonestastmaarten.com/event/the-village-tavern-bar/2026-05-21/
LOCATION:The Village Tavern\, Sint Maarten
CATEGORIES:MB Dining Hours
ATTACH;FMTTYPE=image/png:https://sonestastmaarten.com/wp-content/uploads/village_tavern.png
END:VEVENT
BEGIN:VEVENT
DTSTART;TZID=America/Anguilla:20260522T140000
DTEND;TZID=America/Anguilla:20260522T180000
DTSTAMP:20260422T185748
CREATED:20251117T093638Z
LAST-MODIFIED:20260205T194202Z
UID:100108158-1779458400-1779472800@sonestastmaarten.com
SUMMARY:Oasis Snack Shack
DESCRIPTION:Freshly cooked burgers and hotdogs served hot and delicious at Oasis Snack Shack
URL:https://sonestastmaarten.com/event/oasis-snack-shack-2/2026-05-22/
LOCATION:The Oasis Pool
CATEGORIES:MB Dining Hours
END:VEVENT
BEGIN:VEVENT
DTSTART;TZID=America/Anguilla:20260522T180000
DTEND;TZID=America/Anguilla:20260522T220000
DTSTAMP:20260422T185748
CREATED:20260103T161601Z
LAST-MODIFIED:20260205T165516Z
UID:100106761-1779472800-1779487200@sonestastmaarten.com
SUMMARY:Jing's Kitchen
DESCRIPTION:Asian fare restaurant upstairs in Maho Village with hand-painted murals in a contemporary chic setting.
URL:https://sonestastmaarten.com/event/jings-kitchen-2/2026-05-22/
LOCATION:Jing’s Kitchen
CATEGORIES:MB Dining Hours
ATTACH;FMTTYPE=image/png:https://sonestastmaarten.com/wp-content/uploads/jings.png
END:VEVENT
BEGIN:VEVENT
DTSTART;TZID=America/Anguilla:20260522T180000
DTEND;TZID=America/Anguilla:20260522T220000
DTSTAMP:20260422T185748
CREATED:20260220T152753Z
LAST-MODIFIED:20260220T153307Z
UID:100111155-1779472800-1779487200@sonestastmaarten.com
SUMMARY:Ocean Terrace (Gala Theme Dinner)
DESCRIPTION:Buffet dinner with tonight’s culinary theme Gala.
URL:https://sonestastmaarten.com/event/ocean-terrace-gala-theme-dinner-2-2/2026-05-22/
LOCATION:Ocean Terrace
CATEGORIES:MB Dining Hours
ATTACH;FMTTYPE=image/png:https://sonestastmaarten.com/wp-content/uploads/ocean-terrace.png
END:VEVENT
BEGIN:VEVENT
DTSTART;TZID=America/Anguilla:20260522T180000
DTEND;TZID=America/Anguilla:20260523T010000
DTSTAMP:20260422T185748
CREATED:20251110T174757Z
LAST-MODIFIED:20260205T195025Z
UID:100108888-1779472800-1779498000@sonestastmaarten.com
SUMMARY:The Village Tavern Bar
DESCRIPTION:Enjoy live entertainment and sports on big screens at our bar located upstairs in Maho Village. Late-night pub fare served from 10:00 PM – 12:30 AM.
URL:https://sonestastmaarten.com/event/the-village-tavern-bar/2026-05-22/
LOCATION:The Village Tavern\, Sint Maarten
CATEGORIES:MB Dining Hours
ATTACH;FMTTYPE=image/png:https://sonestastmaarten.com/wp-content/uploads/village_tavern.png
END:VEVENT
BEGIN:VEVENT
DTSTART;TZID=America/Anguilla:20260523T140000
DTEND;TZID=America/Anguilla:20260523T180000
DTSTAMP:20260422T185748
CREATED:20251117T093638Z
LAST-MODIFIED:20260205T194202Z
UID:100108159-1779544800-1779559200@sonestastmaarten.com
SUMMARY:Oasis Snack Shack
DESCRIPTION:Freshly cooked burgers and hotdogs served hot and delicious at Oasis Snack Shack
URL:https://sonestastmaarten.com/event/oasis-snack-shack-2/2026-05-23/
LOCATION:The Oasis Pool
CATEGORIES:MB Dining Hours
END:VEVENT
END:VCALENDAR