BEGIN:VCALENDAR
VERSION:2.0
PRODID:-//Sonesta Resorts Sint Maarten - ECPv6.15.17.1//NONSGML v1.0//EN
CALSCALE:GREGORIAN
METHOD:PUBLISH
X-WR-CALNAME:Sonesta Resorts Sint Maarten
X-ORIGINAL-URL:https://sonestastmaarten.com
X-WR-CALDESC:Events for Sonesta Resorts Sint Maarten
REFRESH-INTERVAL;VALUE=DURATION:PT1H
X-Robots-Tag:noindex
X-PUBLISHED-TTL:PT1H
BEGIN:VTIMEZONE
TZID:America/Anguilla
BEGIN:STANDARD
TZOFFSETFROM:-0400
TZOFFSETTO:-0400
TZNAME:AST
DTSTART:20250101T000000
END:STANDARD
END:VTIMEZONE
BEGIN:VEVENT
DTSTART;TZID=America/Anguilla:20260516T100000
DTEND;TZID=America/Anguilla:20260516T180000
DTSTAMP:20260420T022222
CREATED:20250928T162047Z
LAST-MODIFIED:20251219T173248Z
UID:100118125-1778925600-1778954400@sonestastmaarten.com
SUMMARY:Oasis Pool Bar
DESCRIPTION:Swim-up bar at the signature pool with live entertainment and Teeny Tiki kids’ service area.
URL:https://sonestastmaarten.com/event/oasis-pool-bar/2026-05-16/
LOCATION:The Oasis Pool
CATEGORIES:MB Dining Hours
ATTACH;FMTTYPE=image/png:https://sonestastmaarten.com/wp-content/uploads/oasis-swim-up-bar.png
END:VEVENT
BEGIN:VEVENT
DTSTART;TZID=America/Anguilla:20260516T100000
DTEND;TZID=America/Anguilla:20260516T230000
DTSTAMP:20260420T022222
CREATED:20250928T162828Z
LAST-MODIFIED:20260103T161936Z
UID:100118170-1778925600-1778972400@sonestastmaarten.com
SUMMARY:The Palms Grill Bar
DESCRIPTION:Oceanfront bar adjacent to the beach and Waterfront Stage serving Caribbean cocktails\, beers\, wines\, and soft drinks.
URL:https://sonestastmaarten.com/event/the-palms-grill-bar/2026-05-16/
LOCATION:Palms Grill
CATEGORIES:MB Dining Hours
ATTACH;FMTTYPE=image/png:https://sonestastmaarten.com/wp-content/uploads/the-palms-grill.png
END:VEVENT
BEGIN:VEVENT
DTSTART;TZID=America/Anguilla:20260516T100000
DTEND;TZID=America/Anguilla:20260517T010000
DTSTAMP:20260420T022222
CREATED:20250928T162547Z
LAST-MODIFIED:20251219T173311Z
UID:100118178-1778925600-1778979600@sonestastmaarten.com
SUMMARY:Latitude Bar
DESCRIPTION:Lobby bar with live entertainment\, sports on big screens\, and slot machines for 24-hour gaming.
URL:https://sonestastmaarten.com/event/latitude-bar/2026-05-16/
LOCATION:The Latitude Lobby Bar\, Maho Beach Lobby
CATEGORIES:MB Dining Hours
ATTACH;FMTTYPE=image/png:https://sonestastmaarten.com/wp-content/uploads/latitude-bar.png
END:VEVENT
BEGIN:VEVENT
DTSTART;TZID=America/Anguilla:20260516T113000
DTEND;TZID=America/Anguilla:20260516T223000
DTSTAMP:20260420T022222
CREATED:20250927T090536Z
LAST-MODIFIED:20251219T173318Z
UID:100118182-1778931000-1778970600@sonestastmaarten.com
SUMMARY:Pizzeria Napoli
DESCRIPTION:Handcrafted\, made-to-order pizza slices hot from a traditional oven with fresh ingredients throughout the day.
URL:https://sonestastmaarten.com/event/pizzeria-napoli/2026-05-16/
LOCATION:Pizzeria Napoli
CATEGORIES:MB Dining Hours
ATTACH;FMTTYPE=image/png:https://sonestastmaarten.com/wp-content/uploads/pizzeria-napoli.png
END:VEVENT
BEGIN:VEVENT
DTSTART;TZID=America/Anguilla:20260516T120000
DTEND;TZID=America/Anguilla:20260516T160000
DTSTAMP:20260420T022222
CREATED:20250927T081051Z
LAST-MODIFIED:20260103T161919Z
UID:100118188-1778932800-1778947200@sonestastmaarten.com
SUMMARY:Palms Grill (Lunch)
DESCRIPTION:Oceanfront lunch with Caribbean grill specialties including jerk chicken\, BBQ ribs\, fresh catch of the day\, burgers\, and made-to-order pasta.
URL:https://sonestastmaarten.com/event/palms-grill/2026-05-16/
LOCATION:Palms Grill
CATEGORIES:MB Dining Hours
ATTACH;FMTTYPE=image/png:https://sonestastmaarten.com/wp-content/uploads/the-palms-grill.png
END:VEVENT
BEGIN:VEVENT
DTSTART;TZID=America/Anguilla:20260516T123000
DTEND;TZID=America/Anguilla:20260516T150000
DTSTAMP:20260420T022222
CREATED:20250927T080903Z
LAST-MODIFIED:20260103T161858Z
UID:100118191-1778934600-1778943600@sonestastmaarten.com
SUMMARY:Ocean Terrace (Lunch)
DESCRIPTION:Buffet lunch featuring soups\, salads\, a made-to-order pasta station\, and varied international options.
URL:https://sonestastmaarten.com/event/ocean-terrace-2/2026-05-16/
LOCATION:Ocean Terrace
CATEGORIES:MB Dining Hours
ATTACH;FMTTYPE=image/png:https://sonestastmaarten.com/wp-content/uploads/ocean-terrace.png
END:VEVENT
BEGIN:VEVENT
DTSTART;TZID=America/Anguilla:20260516T140000
DTEND;TZID=America/Anguilla:20260516T180000
DTSTAMP:20260420T022222
CREATED:20251117T093638Z
LAST-MODIFIED:20260205T194202Z
UID:100108152-1778940000-1778954400@sonestastmaarten.com
SUMMARY:Oasis Snack Shack
DESCRIPTION:Freshly cooked burgers and hotdogs served hot and delicious at Oasis Snack Shack
URL:https://sonestastmaarten.com/event/oasis-snack-shack-2/2026-05-16/
LOCATION:The Oasis Pool
CATEGORIES:MB Dining Hours
END:VEVENT
BEGIN:VEVENT
DTSTART;TZID=America/Anguilla:20260516T160000
DTEND;TZID=America/Anguilla:20260516T230000
DTSTAMP:20260420T022222
CREATED:20250928T164218Z
LAST-MODIFIED:20251117T091939Z
UID:100118201-1778947200-1778972400@sonestastmaarten.com
SUMMARY:La Fontana Bar
DESCRIPTION:Waterfront piazza bar on Via Maho near the famous gazebo overlooking Maho Bay\, serving refreshments\, frozen drinks\, cocktails\, and aperitivos.
URL:https://sonestastmaarten.com/event/la-fontana-bar/2026-05-16/
LOCATION:La Fontana Restaurant
CATEGORIES:MB Dining Hours
ATTACH;FMTTYPE=image/png:https://sonestastmaarten.com/wp-content/uploads/la-fontana.png
END:VEVENT
BEGIN:VEVENT
DTSTART;TZID=America/Anguilla:20260516T180000
DTEND;TZID=America/Anguilla:20260516T220000
DTSTAMP:20260420T022222
CREATED:20251128T203714Z
LAST-MODIFIED:20260417T145520Z
UID:100118156-1778954400-1778968800@sonestastmaarten.com
SUMMARY:Cantina Paradiso
DESCRIPTION:Oceanfront Mexican dining venue at The Palms by evening\, featuring authentic dishes including tacos\, enchiladas\, fresh seafood\, and a hot & cold buffet selection.
URL:https://sonestastmaarten.com/event/cantina-paradiso-2-2-2/2026-05-16/
LOCATION:Palms Grill
CATEGORIES:MB Dining Hours
ATTACH;FMTTYPE=image/png:https://sonestastmaarten.com/wp-content/uploads/cantina-paradiso.png
END:VEVENT
BEGIN:VEVENT
DTSTART;TZID=America/Anguilla:20260516T180000
DTEND;TZID=America/Anguilla:20260516T220000
DTSTAMP:20260420T022222
CREATED:20251128T203804Z
LAST-MODIFIED:20260417T145508Z
UID:100118145-1778954400-1778968800@sonestastmaarten.com
SUMMARY:La Fontana Restaurant
DESCRIPTION:Waterfront Italian restaurant on Via Maho featuring authentic specialties including homemade pasta\, carpaccio\, seafood dishes\, and Parmesan chicken.
URL:https://sonestastmaarten.com/event/la-fontana-2-2/2026-05-16/
LOCATION:La Fontana Restaurant
CATEGORIES:MB Dining Hours
ATTACH;FMTTYPE=image/png:https://sonestastmaarten.com/wp-content/uploads/la-fontana.png
END:VEVENT
BEGIN:VEVENT
DTSTART;TZID=America/Anguilla:20260516T180000
DTEND;TZID=America/Anguilla:20260516T220000
DTSTAMP:20260420T022222
CREATED:20260220T153110Z
LAST-MODIFIED:20260220T153110Z
UID:100111050-1778954400-1778968800@sonestastmaarten.com
SUMMARY:Ocean Terrace (Asian Theme Dinner)
DESCRIPTION:Buffet dinner with tonight’s culinary theme Asian!
URL:https://sonestastmaarten.com/event/ocean-terrace-asian-theme-dinner-2-2/2026-05-16/
LOCATION:Ocean Terrace
CATEGORIES:MB Dining Hours
ATTACH;FMTTYPE=image/png:https://sonestastmaarten.com/wp-content/uploads/ocean-terrace.png
END:VEVENT
BEGIN:VEVENT
DTSTART;TZID=America/Anguilla:20260516T180000
DTEND;TZID=America/Anguilla:20260517T010000
DTSTAMP:20260420T022222
CREATED:20251110T174757Z
LAST-MODIFIED:20260205T195025Z
UID:100108882-1778954400-1778979600@sonestastmaarten.com
SUMMARY:The Village Tavern Bar
DESCRIPTION:Enjoy live entertainment and sports on big screens at our bar located upstairs in Maho Village. Late-night pub fare served from 10:00 PM – 12:30 AM.
URL:https://sonestastmaarten.com/event/the-village-tavern-bar/2026-05-16/
LOCATION:The Village Tavern\, Sint Maarten
CATEGORIES:MB Dining Hours
ATTACH;FMTTYPE=image/png:https://sonestastmaarten.com/wp-content/uploads/village_tavern.png
END:VEVENT
BEGIN:VEVENT
DTSTART;TZID=America/Anguilla:20260517T100000
DTEND;TZID=America/Anguilla:20260517T230000
DTSTAMP:20260420T022222
CREATED:20250928T162828Z
LAST-MODIFIED:20260103T161936Z
UID:100118171-1779012000-1779058800@sonestastmaarten.com
SUMMARY:The Palms Grill Bar
DESCRIPTION:Oceanfront bar adjacent to the beach and Waterfront Stage serving Caribbean cocktails\, beers\, wines\, and soft drinks.
URL:https://sonestastmaarten.com/event/the-palms-grill-bar/2026-05-17/
LOCATION:Palms Grill
CATEGORIES:MB Dining Hours
ATTACH;FMTTYPE=image/png:https://sonestastmaarten.com/wp-content/uploads/the-palms-grill.png
END:VEVENT
BEGIN:VEVENT
DTSTART;TZID=America/Anguilla:20260517T100000
DTEND;TZID=America/Anguilla:20260518T010000
DTSTAMP:20260420T022222
CREATED:20250928T162547Z
LAST-MODIFIED:20251219T173311Z
UID:100118179-1779012000-1779066000@sonestastmaarten.com
SUMMARY:Latitude Bar
DESCRIPTION:Lobby bar with live entertainment\, sports on big screens\, and slot machines for 24-hour gaming.
URL:https://sonestastmaarten.com/event/latitude-bar/2026-05-17/
LOCATION:The Latitude Lobby Bar\, Maho Beach Lobby
CATEGORIES:MB Dining Hours
ATTACH;FMTTYPE=image/png:https://sonestastmaarten.com/wp-content/uploads/latitude-bar.png
END:VEVENT
BEGIN:VEVENT
DTSTART;TZID=America/Anguilla:20260517T113000
DTEND;TZID=America/Anguilla:20260517T223000
DTSTAMP:20260420T022222
CREATED:20250927T090536Z
LAST-MODIFIED:20251219T173318Z
UID:100118183-1779017400-1779057000@sonestastmaarten.com
SUMMARY:Pizzeria Napoli
DESCRIPTION:Handcrafted\, made-to-order pizza slices hot from a traditional oven with fresh ingredients throughout the day.
URL:https://sonestastmaarten.com/event/pizzeria-napoli/2026-05-17/
LOCATION:Pizzeria Napoli
CATEGORIES:MB Dining Hours
ATTACH;FMTTYPE=image/png:https://sonestastmaarten.com/wp-content/uploads/pizzeria-napoli.png
END:VEVENT
BEGIN:VEVENT
DTSTART;TZID=America/Anguilla:20260517T120000
DTEND;TZID=America/Anguilla:20260517T160000
DTSTAMP:20260420T022222
CREATED:20250927T081051Z
LAST-MODIFIED:20260103T161919Z
UID:100118189-1779019200-1779033600@sonestastmaarten.com
SUMMARY:Palms Grill (Lunch)
DESCRIPTION:Oceanfront lunch with Caribbean grill specialties including jerk chicken\, BBQ ribs\, fresh catch of the day\, burgers\, and made-to-order pasta.
URL:https://sonestastmaarten.com/event/palms-grill/2026-05-17/
LOCATION:Palms Grill
CATEGORIES:MB Dining Hours
ATTACH;FMTTYPE=image/png:https://sonestastmaarten.com/wp-content/uploads/the-palms-grill.png
END:VEVENT
BEGIN:VEVENT
DTSTART;TZID=America/Anguilla:20260517T123000
DTEND;TZID=America/Anguilla:20260517T150000
DTSTAMP:20260420T022222
CREATED:20250927T080903Z
LAST-MODIFIED:20260103T161858Z
UID:100118192-1779021000-1779030000@sonestastmaarten.com
SUMMARY:Ocean Terrace (Lunch)
DESCRIPTION:Buffet lunch featuring soups\, salads\, a made-to-order pasta station\, and varied international options.
URL:https://sonestastmaarten.com/event/ocean-terrace-2/2026-05-17/
LOCATION:Ocean Terrace
CATEGORIES:MB Dining Hours
ATTACH;FMTTYPE=image/png:https://sonestastmaarten.com/wp-content/uploads/ocean-terrace.png
END:VEVENT
BEGIN:VEVENT
DTSTART;TZID=America/Anguilla:20260517T140000
DTEND;TZID=America/Anguilla:20260517T180000
DTSTAMP:20260420T022222
CREATED:20251117T093638Z
LAST-MODIFIED:20260205T194202Z
UID:100108153-1779026400-1779040800@sonestastmaarten.com
SUMMARY:Oasis Snack Shack
DESCRIPTION:Freshly cooked burgers and hotdogs served hot and delicious at Oasis Snack Shack
URL:https://sonestastmaarten.com/event/oasis-snack-shack-2/2026-05-17/
LOCATION:The Oasis Pool
CATEGORIES:MB Dining Hours
END:VEVENT
BEGIN:VEVENT
DTSTART;TZID=America/Anguilla:20260517T160000
DTEND;TZID=America/Anguilla:20260517T230000
DTSTAMP:20260420T022222
CREATED:20250928T164218Z
LAST-MODIFIED:20251117T091939Z
UID:100118202-1779033600-1779058800@sonestastmaarten.com
SUMMARY:La Fontana Bar
DESCRIPTION:Waterfront piazza bar on Via Maho near the famous gazebo overlooking Maho Bay\, serving refreshments\, frozen drinks\, cocktails\, and aperitivos.
URL:https://sonestastmaarten.com/event/la-fontana-bar/2026-05-17/
LOCATION:La Fontana Restaurant
CATEGORIES:MB Dining Hours
ATTACH;FMTTYPE=image/png:https://sonestastmaarten.com/wp-content/uploads/la-fontana.png
END:VEVENT
BEGIN:VEVENT
DTSTART;TZID=America/Anguilla:20260517T180000
DTEND;TZID=America/Anguilla:20260517T220000
DTSTAMP:20260420T022222
CREATED:20251112T210440Z
LAST-MODIFIED:20260205T194751Z
UID:100108754-1779040800-1779055200@sonestastmaarten.com
SUMMARY:Ocean Terrace (Sint Maarten Theme Dinner)
DESCRIPTION:Buffet dinner with tonight’s culinary theme Sint Maarten!
URL:https://sonestastmaarten.com/event/ocean-terrace-sint-maarten-theme-dinner/2026-05-17/
LOCATION:Ocean Terrace
CATEGORIES:MB Dining Hours
ATTACH;FMTTYPE=image/png:https://sonestastmaarten.com/wp-content/uploads/ocean-terrace.png
END:VEVENT
BEGIN:VEVENT
DTSTART;TZID=America/Anguilla:20260517T180000
DTEND;TZID=America/Anguilla:20260517T220000
DTSTAMP:20260420T022222
CREATED:20251128T203714Z
LAST-MODIFIED:20260417T145520Z
UID:100118157-1779040800-1779055200@sonestastmaarten.com
SUMMARY:Cantina Paradiso
DESCRIPTION:Oceanfront Mexican dining venue at The Palms by evening\, featuring authentic dishes including tacos\, enchiladas\, fresh seafood\, and a hot & cold buffet selection.
URL:https://sonestastmaarten.com/event/cantina-paradiso-2-2-2/2026-05-17/
LOCATION:Palms Grill
CATEGORIES:MB Dining Hours
ATTACH;FMTTYPE=image/png:https://sonestastmaarten.com/wp-content/uploads/cantina-paradiso.png
END:VEVENT
BEGIN:VEVENT
DTSTART;TZID=America/Anguilla:20260517T180000
DTEND;TZID=America/Anguilla:20260517T220000
DTSTAMP:20260420T022222
CREATED:20251128T203804Z
LAST-MODIFIED:20260417T145508Z
UID:100118146-1779040800-1779055200@sonestastmaarten.com
SUMMARY:La Fontana Restaurant
DESCRIPTION:Waterfront Italian restaurant on Via Maho featuring authentic specialties including homemade pasta\, carpaccio\, seafood dishes\, and Parmesan chicken.
URL:https://sonestastmaarten.com/event/la-fontana-2-2/2026-05-17/
LOCATION:La Fontana Restaurant
CATEGORIES:MB Dining Hours
ATTACH;FMTTYPE=image/png:https://sonestastmaarten.com/wp-content/uploads/la-fontana.png
END:VEVENT
BEGIN:VEVENT
DTSTART;TZID=America/Anguilla:20260517T180000
DTEND;TZID=America/Anguilla:20260517T220000
DTSTAMP:20260420T022222
CREATED:20260103T161601Z
LAST-MODIFIED:20260205T165516Z
UID:100106758-1779040800-1779055200@sonestastmaarten.com
SUMMARY:Jing's Kitchen
DESCRIPTION:Asian fare restaurant upstairs in Maho Village with hand-painted murals in a contemporary chic setting.
URL:https://sonestastmaarten.com/event/jings-kitchen-2/2026-05-17/
LOCATION:Jing’s Kitchen
CATEGORIES:MB Dining Hours
ATTACH;FMTTYPE=image/png:https://sonestastmaarten.com/wp-content/uploads/jings.png
END:VEVENT
BEGIN:VEVENT
DTSTART;TZID=America/Anguilla:20260517T180000
DTEND;TZID=America/Anguilla:20260518T010000
DTSTAMP:20260420T022222
CREATED:20251110T174757Z
LAST-MODIFIED:20260205T195025Z
UID:100108883-1779040800-1779066000@sonestastmaarten.com
SUMMARY:The Village Tavern Bar
DESCRIPTION:Enjoy live entertainment and sports on big screens at our bar located upstairs in Maho Village. Late-night pub fare served from 10:00 PM – 12:30 AM.
URL:https://sonestastmaarten.com/event/the-village-tavern-bar/2026-05-17/
LOCATION:The Village Tavern\, Sint Maarten
CATEGORIES:MB Dining Hours
ATTACH;FMTTYPE=image/png:https://sonestastmaarten.com/wp-content/uploads/village_tavern.png
END:VEVENT
BEGIN:VEVENT
DTSTART;TZID=America/Anguilla:20260518T140000
DTEND;TZID=America/Anguilla:20260518T180000
DTSTAMP:20260420T022222
CREATED:20251117T093638Z
LAST-MODIFIED:20260205T194202Z
UID:100108154-1779112800-1779127200@sonestastmaarten.com
SUMMARY:Oasis Snack Shack
DESCRIPTION:Freshly cooked burgers and hotdogs served hot and delicious at Oasis Snack Shack
URL:https://sonestastmaarten.com/event/oasis-snack-shack-2/2026-05-18/
LOCATION:The Oasis Pool
CATEGORIES:MB Dining Hours
END:VEVENT
BEGIN:VEVENT
DTSTART;TZID=America/Anguilla:20260518T160000
DTEND;TZID=America/Anguilla:20260518T230000
DTSTAMP:20260420T022222
CREATED:20250928T164218Z
LAST-MODIFIED:20251117T091939Z
UID:100118203-1779120000-1779145200@sonestastmaarten.com
SUMMARY:La Fontana Bar
DESCRIPTION:Waterfront piazza bar on Via Maho near the famous gazebo overlooking Maho Bay\, serving refreshments\, frozen drinks\, cocktails\, and aperitivos.
URL:https://sonestastmaarten.com/event/la-fontana-bar/2026-05-18/
LOCATION:La Fontana Restaurant
CATEGORIES:MB Dining Hours
ATTACH;FMTTYPE=image/png:https://sonestastmaarten.com/wp-content/uploads/la-fontana.png
END:VEVENT
BEGIN:VEVENT
DTSTART;TZID=America/Anguilla:20260518T180000
DTEND;TZID=America/Anguilla:20260518T220000
DTSTAMP:20260420T022222
CREATED:20251112T205237Z
LAST-MODIFIED:20260205T194605Z
UID:100108444-1779127200-1779141600@sonestastmaarten.com
SUMMARY:Ocean Terrace (European Theme Dinner)
DESCRIPTION:Buffet dinner with tonight’s culinary theme European!
URL:https://sonestastmaarten.com/event/ocean-terrace-european-theme-dinner/2026-05-18/
LOCATION:Ocean Terrace
CATEGORIES:MB Dining Hours
ATTACH;FMTTYPE=image/png:https://sonestastmaarten.com/wp-content/uploads/ocean-terrace.png
END:VEVENT
BEGIN:VEVENT
DTSTART;TZID=America/Anguilla:20260518T180000
DTEND;TZID=America/Anguilla:20260518T220000
DTSTAMP:20260420T022222
CREATED:20260103T161601Z
LAST-MODIFIED:20260205T165516Z
UID:100106759-1779127200-1779141600@sonestastmaarten.com
SUMMARY:Jing's Kitchen
DESCRIPTION:Asian fare restaurant upstairs in Maho Village with hand-painted murals in a contemporary chic setting.
URL:https://sonestastmaarten.com/event/jings-kitchen-2/2026-05-18/
LOCATION:Jing’s Kitchen
CATEGORIES:MB Dining Hours
ATTACH;FMTTYPE=image/png:https://sonestastmaarten.com/wp-content/uploads/jings.png
END:VEVENT
BEGIN:VEVENT
DTSTART;TZID=America/Anguilla:20260518T180000
DTEND;TZID=America/Anguilla:20260519T010000
DTSTAMP:20260420T022222
CREATED:20251110T174757Z
LAST-MODIFIED:20260205T195025Z
UID:100108884-1779127200-1779152400@sonestastmaarten.com
SUMMARY:The Village Tavern Bar
DESCRIPTION:Enjoy live entertainment and sports on big screens at our bar located upstairs in Maho Village. Late-night pub fare served from 10:00 PM – 12:30 AM.
URL:https://sonestastmaarten.com/event/the-village-tavern-bar/2026-05-18/
LOCATION:The Village Tavern\, Sint Maarten
CATEGORIES:MB Dining Hours
ATTACH;FMTTYPE=image/png:https://sonestastmaarten.com/wp-content/uploads/village_tavern.png
END:VEVENT
BEGIN:VEVENT
DTSTART;TZID=America/Anguilla:20260519T140000
DTEND;TZID=America/Anguilla:20260519T180000
DTSTAMP:20260420T022222
CREATED:20251117T093638Z
LAST-MODIFIED:20260205T194202Z
UID:100108155-1779199200-1779213600@sonestastmaarten.com
SUMMARY:Oasis Snack Shack
DESCRIPTION:Freshly cooked burgers and hotdogs served hot and delicious at Oasis Snack Shack
URL:https://sonestastmaarten.com/event/oasis-snack-shack-2/2026-05-19/
LOCATION:The Oasis Pool
CATEGORIES:MB Dining Hours
END:VEVENT
END:VCALENDAR