BEGIN:VCALENDAR
VERSION:2.0
PRODID:-//Sonesta Resorts Sint Maarten - ECPv6.15.17.1//NONSGML v1.0//EN
CALSCALE:GREGORIAN
METHOD:PUBLISH
X-WR-CALNAME:Sonesta Resorts Sint Maarten
X-ORIGINAL-URL:https://sonestastmaarten.com
X-WR-CALDESC:Events for Sonesta Resorts Sint Maarten
REFRESH-INTERVAL;VALUE=DURATION:PT1H
X-Robots-Tag:noindex
X-PUBLISHED-TTL:PT1H
BEGIN:VTIMEZONE
TZID:America/Anguilla
BEGIN:STANDARD
TZOFFSETFROM:-0400
TZOFFSETTO:-0400
TZNAME:AST
DTSTART:20260101T000000
END:STANDARD
END:VTIMEZONE
BEGIN:VEVENT
DTSTART;TZID=America/Anguilla:20270212T180000
DTEND;TZID=America/Anguilla:20270212T220000
DTSTAMP:20260419T191551
CREATED:20260220T152753Z
LAST-MODIFIED:20260220T153307Z
UID:100111193-1802455200-1802469600@sonestastmaarten.com
SUMMARY:Ocean Terrace (Gala Theme Dinner)
DESCRIPTION:Buffet dinner with tonight’s culinary theme Gala.
URL:https://sonestastmaarten.com/event/ocean-terrace-gala-theme-dinner-2-2/2027-02-12/
LOCATION:Ocean Terrace
CATEGORIES:MB Dining Hours
ATTACH;FMTTYPE=image/png:https://sonestastmaarten.com/wp-content/uploads/ocean-terrace.png
END:VEVENT
BEGIN:VEVENT
DTSTART;TZID=America/Anguilla:20270213T140000
DTEND;TZID=America/Anguilla:20270213T180000
DTSTAMP:20260419T191551
CREATED:20251117T093638Z
LAST-MODIFIED:20260205T194202Z
UID:100108425-1802527200-1802541600@sonestastmaarten.com
SUMMARY:Oasis Snack Shack
DESCRIPTION:Freshly cooked burgers and hotdogs served hot and delicious at Oasis Snack Shack
URL:https://sonestastmaarten.com/event/oasis-snack-shack-2/2027-02-13/
LOCATION:The Oasis Pool
CATEGORIES:MB Dining Hours
END:VEVENT
BEGIN:VEVENT
DTSTART;TZID=America/Anguilla:20270213T180000
DTEND;TZID=America/Anguilla:20270213T220000
DTSTAMP:20260419T191551
CREATED:20260220T153110Z
LAST-MODIFIED:20260220T153110Z
UID:100111089-1802541600-1802556000@sonestastmaarten.com
SUMMARY:Ocean Terrace (Asian Theme Dinner)
DESCRIPTION:Buffet dinner with tonight’s culinary theme Asian!
URL:https://sonestastmaarten.com/event/ocean-terrace-asian-theme-dinner-2-2/2027-02-13/
LOCATION:Ocean Terrace
CATEGORIES:MB Dining Hours
ATTACH;FMTTYPE=image/png:https://sonestastmaarten.com/wp-content/uploads/ocean-terrace.png
END:VEVENT
BEGIN:VEVENT
DTSTART;TZID=America/Anguilla:20270214T140000
DTEND;TZID=America/Anguilla:20270214T180000
DTSTAMP:20260419T191551
CREATED:20251117T093638Z
LAST-MODIFIED:20260205T194202Z
UID:100108426-1802613600-1802628000@sonestastmaarten.com
SUMMARY:Oasis Snack Shack
DESCRIPTION:Freshly cooked burgers and hotdogs served hot and delicious at Oasis Snack Shack
URL:https://sonestastmaarten.com/event/oasis-snack-shack-2/2027-02-14/
LOCATION:The Oasis Pool
CATEGORIES:MB Dining Hours
END:VEVENT
BEGIN:VEVENT
DTSTART;TZID=America/Anguilla:20270214T180000
DTEND;TZID=America/Anguilla:20270214T220000
DTSTAMP:20260419T191551
CREATED:20251112T210440Z
LAST-MODIFIED:20260205T194751Z
UID:100108793-1802628000-1802642400@sonestastmaarten.com
SUMMARY:Ocean Terrace (Sint Maarten Theme Dinner)
DESCRIPTION:Buffet dinner with tonight’s culinary theme Sint Maarten!
URL:https://sonestastmaarten.com/event/ocean-terrace-sint-maarten-theme-dinner/2027-02-14/
LOCATION:Ocean Terrace
CATEGORIES:MB Dining Hours
ATTACH;FMTTYPE=image/png:https://sonestastmaarten.com/wp-content/uploads/ocean-terrace.png
END:VEVENT
BEGIN:VEVENT
DTSTART;TZID=America/Anguilla:20270215T140000
DTEND;TZID=America/Anguilla:20270215T180000
DTSTAMP:20260419T191551
CREATED:20251117T093638Z
LAST-MODIFIED:20260205T194202Z
UID:100108427-1802700000-1802714400@sonestastmaarten.com
SUMMARY:Oasis Snack Shack
DESCRIPTION:Freshly cooked burgers and hotdogs served hot and delicious at Oasis Snack Shack
URL:https://sonestastmaarten.com/event/oasis-snack-shack-2/2027-02-15/
LOCATION:The Oasis Pool
CATEGORIES:MB Dining Hours
END:VEVENT
BEGIN:VEVENT
DTSTART;TZID=America/Anguilla:20270216T140000
DTEND;TZID=America/Anguilla:20270216T180000
DTSTAMP:20260419T191551
CREATED:20251117T093638Z
LAST-MODIFIED:20260205T194202Z
UID:100108428-1802786400-1802800800@sonestastmaarten.com
SUMMARY:Oasis Snack Shack
DESCRIPTION:Freshly cooked burgers and hotdogs served hot and delicious at Oasis Snack Shack
URL:https://sonestastmaarten.com/event/oasis-snack-shack-2/2027-02-16/
LOCATION:The Oasis Pool
CATEGORIES:MB Dining Hours
END:VEVENT
BEGIN:VEVENT
DTSTART;TZID=America/Anguilla:20270217T140000
DTEND;TZID=America/Anguilla:20270217T180000
DTSTAMP:20260419T191551
CREATED:20251117T093638Z
LAST-MODIFIED:20260205T194202Z
UID:100108429-1802872800-1802887200@sonestastmaarten.com
SUMMARY:Oasis Snack Shack
DESCRIPTION:Freshly cooked burgers and hotdogs served hot and delicious at Oasis Snack Shack
URL:https://sonestastmaarten.com/event/oasis-snack-shack-2/2027-02-17/
LOCATION:The Oasis Pool
CATEGORIES:MB Dining Hours
END:VEVENT
BEGIN:VEVENT
DTSTART;TZID=America/Anguilla:20270218T140000
DTEND;TZID=America/Anguilla:20270218T180000
DTSTAMP:20260419T191551
CREATED:20251117T093638Z
LAST-MODIFIED:20260205T194202Z
UID:100108430-1802959200-1802973600@sonestastmaarten.com
SUMMARY:Oasis Snack Shack
DESCRIPTION:Freshly cooked burgers and hotdogs served hot and delicious at Oasis Snack Shack
URL:https://sonestastmaarten.com/event/oasis-snack-shack-2/2027-02-18/
LOCATION:The Oasis Pool
CATEGORIES:MB Dining Hours
END:VEVENT
BEGIN:VEVENT
DTSTART;TZID=America/Anguilla:20270219T140000
DTEND;TZID=America/Anguilla:20270219T180000
DTSTAMP:20260419T191551
CREATED:20251117T093638Z
LAST-MODIFIED:20260205T194202Z
UID:100108431-1803045600-1803060000@sonestastmaarten.com
SUMMARY:Oasis Snack Shack
DESCRIPTION:Freshly cooked burgers and hotdogs served hot and delicious at Oasis Snack Shack
URL:https://sonestastmaarten.com/event/oasis-snack-shack-2/2027-02-19/
LOCATION:The Oasis Pool
CATEGORIES:MB Dining Hours
END:VEVENT
END:VCALENDAR