BEGIN:VCALENDAR
VERSION:2.0
PRODID:-//Sonesta Resorts Sint Maarten - ECPv6.15.17.1//NONSGML v1.0//EN
CALSCALE:GREGORIAN
METHOD:PUBLISH
X-WR-CALNAME:Sonesta Resorts Sint Maarten
X-ORIGINAL-URL:https://sonestastmaarten.com
X-WR-CALDESC:Events for Sonesta Resorts Sint Maarten
REFRESH-INTERVAL;VALUE=DURATION:PT1H
X-Robots-Tag:noindex
X-PUBLISHED-TTL:PT1H
BEGIN:VTIMEZONE
TZID:America/Anguilla
BEGIN:STANDARD
TZOFFSETFROM:-0400
TZOFFSETTO:-0400
TZNAME:AST
DTSTART:20240101T000000
END:STANDARD
END:VTIMEZONE
BEGIN:VEVENT
DTSTART;TZID=America/Anguilla:20251127T160000
DTEND;TZID=America/Anguilla:20251127T230000
DTSTAMP:20260420T112932
CREATED:20250928T164218Z
LAST-MODIFIED:20251117T091939Z
UID:100098213-1764259200-1764284400@sonestastmaarten.com
SUMMARY:La Fontana Bar
DESCRIPTION:Waterfront piazza bar on Via Maho near the famous gazebo overlooking Maho Bay\, serving refreshments\, frozen drinks\, cocktails\, and aperitivos.
URL:https://sonestastmaarten.com/event/la-fontana-bar/2025-11-27/
LOCATION:La Fontana Restaurant
CATEGORIES:MB Dining Hours
ATTACH;FMTTYPE=image/png:https://sonestastmaarten.com/wp-content/uploads/la-fontana.png
END:VEVENT
BEGIN:VEVENT
DTSTART;TZID=America/Anguilla:20251127T180000
DTEND;TZID=America/Anguilla:20251127T220000
DTSTAMP:20260420T112932
CREATED:20250927T083224Z
LAST-MODIFIED:20260103T161644Z
UID:100101423-1764266400-1764280800@sonestastmaarten.com
SUMMARY:The Village Tavern
DESCRIPTION:Pub upstairs in Maho Village serving à la carte fare with sports on HD TVs and live entertainment with karaoke.
URL:https://sonestastmaarten.com/event/the-village-tavern/2025-11-27/
LOCATION:The Village Tavern\, Sint Maarten
CATEGORIES:MB Dining Hours
ATTACH;FMTTYPE=image/png:https://sonestastmaarten.com/wp-content/uploads/village_tavern.png
END:VEVENT
BEGIN:VEVENT
DTSTART;TZID=America/Anguilla:20251127T180000
DTEND;TZID=America/Anguilla:20251127T220000
DTSTAMP:20260420T112932
CREATED:20251112T205651Z
LAST-MODIFIED:20260205T194701Z
UID:100101106-1764266400-1764280800@sonestastmaarten.com
SUMMARY:Ocean Terrace (Caribbean Theme Dinner)
DESCRIPTION:Buffet dinner with tonight’s culinary theme Caribbean!
URL:https://sonestastmaarten.com/event/ocean-terrace-caribbean-theme-dinner/2025-11-27/
LOCATION:Ocean Terrace
CATEGORIES:MB Dining Hours
ATTACH;FMTTYPE=image/png:https://sonestastmaarten.com/wp-content/uploads/ocean-terrace.png
END:VEVENT
BEGIN:VEVENT
DTSTART;TZID=America/Anguilla:20251127T180000
DTEND;TZID=America/Anguilla:20251127T220000
DTSTAMP:20260420T112932
CREATED:20251116T184127Z
LAST-MODIFIED:20251121T180855Z
UID:100100432-1764266400-1764280800@sonestastmaarten.com
SUMMARY:Cantina Paradiso
DESCRIPTION:Oceanfront Mexican dining venue at The Palms by evening\, featuring authentic dishes including tacos\, enchiladas\, fresh seafood\, and a hot & cold buffet selection.
URL:https://sonestastmaarten.com/event/cantina-paradiso-2-2/2025-11-27/
LOCATION:Palms Grill
CATEGORIES:MB Dining Hours
ATTACH;FMTTYPE=image/png:https://sonestastmaarten.com/wp-content/uploads/cantina-paradiso.png
END:VEVENT
BEGIN:VEVENT
DTSTART;TZID=America/Anguilla:20251127T180000
DTEND;TZID=America/Anguilla:20251128T010000
DTSTAMP:20260420T112932
CREATED:20251110T174757Z
LAST-MODIFIED:20260205T195025Z
UID:100100051-1764266400-1764291600@sonestastmaarten.com
SUMMARY:The Village Tavern Bar
DESCRIPTION:Enjoy live entertainment and sports on big screens at our bar located upstairs in Maho Village. Late-night pub fare served from 10:00 PM – 12:30 AM.
URL:https://sonestastmaarten.com/event/the-village-tavern-bar/2025-11-27/
LOCATION:The Village Tavern\, Sint Maarten
CATEGORIES:MB Dining Hours
ATTACH;FMTTYPE=image/png:https://sonestastmaarten.com/wp-content/uploads/village_tavern.png
END:VEVENT
BEGIN:VEVENT
DTSTART;TZID=America/Anguilla:20251128T070000
DTEND;TZID=America/Anguilla:20251128T110000
DTSTAMP:20260420T112932
CREATED:20250927T075923Z
LAST-MODIFIED:20251219T173214Z
UID:100097574-1764313200-1764327600@sonestastmaarten.com
SUMMARY:Ocean Terrace (Breakfast)
DESCRIPTION:Buffet breakfast with hot and cold dishes\, fresh fruits\, and a made-to-order omelet station.
URL:https://sonestastmaarten.com/event/ocean-terrace/2025-11-28/
LOCATION:Ocean Terrace
CATEGORIES:MB Dining Hours
ATTACH;FMTTYPE=image/png:https://sonestastmaarten.com/wp-content/uploads/ocean-terrace.png
END:VEVENT
BEGIN:VEVENT
DTSTART;TZID=America/Anguilla:20251128T070000
DTEND;TZID=America/Anguilla:20251128T190000
DTSTAMP:20260420T112932
CREATED:20250927T085420Z
LAST-MODIFIED:20251219T173229Z
UID:100097414-1764313200-1764356400@sonestastmaarten.com
SUMMARY:Maho Café
DESCRIPTION:Charming all-day café in the lobby with coffees\, herbal teas\, fresh pastries\, and sandwiches.
URL:https://sonestastmaarten.com/event/maho-cafe/2025-11-28/
LOCATION:Maho Cafe
CATEGORIES:MB Dining Hours
ATTACH;FMTTYPE=image/png:https://sonestastmaarten.com/wp-content/uploads/maho-cafe.png
END:VEVENT
BEGIN:VEVENT
DTSTART;TZID=America/Anguilla:20251128T100000
DTEND;TZID=America/Anguilla:20251128T180000
DTSTAMP:20260420T112932
CREATED:20250928T162047Z
LAST-MODIFIED:20251219T173248Z
UID:100097654-1764324000-1764352800@sonestastmaarten.com
SUMMARY:Oasis Pool Bar
DESCRIPTION:Swim-up bar at the signature pool with live entertainment and Teeny Tiki kids’ service area.
URL:https://sonestastmaarten.com/event/oasis-pool-bar/2025-11-28/
LOCATION:The Oasis Pool
CATEGORIES:MB Dining Hours
ATTACH;FMTTYPE=image/png:https://sonestastmaarten.com/wp-content/uploads/oasis-swim-up-bar.png
END:VEVENT
BEGIN:VEVENT
DTSTART;TZID=America/Anguilla:20251128T100000
DTEND;TZID=America/Anguilla:20251128T230000
DTSTAMP:20260420T112932
CREATED:20250928T162828Z
LAST-MODIFIED:20260103T161936Z
UID:100097734-1764324000-1764370800@sonestastmaarten.com
SUMMARY:The Palms Grill Bar
DESCRIPTION:Oceanfront bar adjacent to the beach and Waterfront Stage serving Caribbean cocktails\, beers\, wines\, and soft drinks.
URL:https://sonestastmaarten.com/event/the-palms-grill-bar/2025-11-28/
LOCATION:Palms Grill
CATEGORIES:MB Dining Hours
ATTACH;FMTTYPE=image/png:https://sonestastmaarten.com/wp-content/uploads/the-palms-grill.png
END:VEVENT
BEGIN:VEVENT
DTSTART;TZID=America/Anguilla:20251128T100000
DTEND;TZID=America/Anguilla:20251129T010000
DTSTAMP:20260420T112932
CREATED:20250928T162547Z
LAST-MODIFIED:20251219T173311Z
UID:100097814-1764324000-1764378000@sonestastmaarten.com
SUMMARY:Latitude Bar
DESCRIPTION:Lobby bar with live entertainment\, sports on big screens\, and slot machines for 24-hour gaming.
URL:https://sonestastmaarten.com/event/latitude-bar/2025-11-28/
LOCATION:The Latitude Lobby Bar\, Maho Beach Lobby
CATEGORIES:MB Dining Hours
ATTACH;FMTTYPE=image/png:https://sonestastmaarten.com/wp-content/uploads/latitude-bar.png
END:VEVENT
BEGIN:VEVENT
DTSTART;TZID=America/Anguilla:20251128T113000
DTEND;TZID=America/Anguilla:20251128T223000
DTSTAMP:20260420T112932
CREATED:20250927T090536Z
LAST-MODIFIED:20251219T173318Z
UID:100097894-1764329400-1764369000@sonestastmaarten.com
SUMMARY:Pizzeria Napoli
DESCRIPTION:Handcrafted\, made-to-order pizza slices hot from a traditional oven with fresh ingredients throughout the day.
URL:https://sonestastmaarten.com/event/pizzeria-napoli/2025-11-28/
LOCATION:Pizzeria Napoli
CATEGORIES:MB Dining Hours
ATTACH;FMTTYPE=image/png:https://sonestastmaarten.com/wp-content/uploads/pizzeria-napoli.png
END:VEVENT
BEGIN:VEVENT
DTSTART;TZID=America/Anguilla:20251128T120000
DTEND;TZID=America/Anguilla:20251128T160000
DTSTAMP:20260420T112932
CREATED:20250927T081051Z
LAST-MODIFIED:20260103T161919Z
UID:100097974-1764331200-1764345600@sonestastmaarten.com
SUMMARY:Palms Grill (Lunch)
DESCRIPTION:Oceanfront lunch with Caribbean grill specialties including jerk chicken\, BBQ ribs\, fresh catch of the day\, burgers\, and made-to-order pasta.
URL:https://sonestastmaarten.com/event/palms-grill/2025-11-28/
LOCATION:Palms Grill
CATEGORIES:MB Dining Hours
ATTACH;FMTTYPE=image/png:https://sonestastmaarten.com/wp-content/uploads/the-palms-grill.png
END:VEVENT
BEGIN:VEVENT
DTSTART;TZID=America/Anguilla:20251128T123000
DTEND;TZID=America/Anguilla:20251128T150000
DTSTAMP:20260420T112932
CREATED:20250927T080903Z
LAST-MODIFIED:20260103T161858Z
UID:100098054-1764333000-1764342000@sonestastmaarten.com
SUMMARY:Ocean Terrace (Lunch)
DESCRIPTION:Buffet lunch featuring soups\, salads\, a made-to-order pasta station\, and varied international options.
URL:https://sonestastmaarten.com/event/ocean-terrace-2/2025-11-28/
LOCATION:Ocean Terrace
CATEGORIES:MB Dining Hours
ATTACH;FMTTYPE=image/png:https://sonestastmaarten.com/wp-content/uploads/ocean-terrace.png
END:VEVENT
BEGIN:VEVENT
DTSTART;TZID=America/Anguilla:20251128T140000
DTEND;TZID=America/Anguilla:20251128T180000
DTSTAMP:20260420T112932
CREATED:20251117T093638Z
LAST-MODIFIED:20260205T194202Z
UID:100101362-1764338400-1764352800@sonestastmaarten.com
SUMMARY:Oasis Snack Shack
DESCRIPTION:Freshly cooked burgers and hotdogs served hot and delicious at Oasis Snack Shack
URL:https://sonestastmaarten.com/event/oasis-snack-shack-2/2025-11-28/
LOCATION:The Oasis Pool
CATEGORIES:MB Dining Hours
END:VEVENT
BEGIN:VEVENT
DTSTART;TZID=America/Anguilla:20251128T151158
DTEND;TZID=America/Anguilla:20251128T151158
DTSTAMP:20260420T112932
CREATED:20250926T122135Z
LAST-MODIFIED:20251117T094653Z
UID:100101440-1764342718-1764342718@sonestastmaarten.com
SUMMARY:Cantina Paradiso
DESCRIPTION:Delight in meticulously prepared\, authentic Mexican dishes that will tantalize your palate and elevate your dining experience by the sea.
URL:https://sonestastmaarten.com/event/cantina-paradiso/2025-11-28/
LOCATION:Cantina Paradiso
CATEGORIES:MB Dining Hours
ATTACH;FMTTYPE=image/png:https://sonestastmaarten.com/wp-content/uploads/cantina-paradiso.png
END:VEVENT
BEGIN:VEVENT
DTSTART;TZID=America/Anguilla:20251128T160000
DTEND;TZID=America/Anguilla:20251128T230000
DTSTAMP:20260420T112932
CREATED:20250928T164218Z
LAST-MODIFIED:20251117T091939Z
UID:100098214-1764345600-1764370800@sonestastmaarten.com
SUMMARY:La Fontana Bar
DESCRIPTION:Waterfront piazza bar on Via Maho near the famous gazebo overlooking Maho Bay\, serving refreshments\, frozen drinks\, cocktails\, and aperitivos.
URL:https://sonestastmaarten.com/event/la-fontana-bar/2025-11-28/
LOCATION:La Fontana Restaurant
CATEGORIES:MB Dining Hours
ATTACH;FMTTYPE=image/png:https://sonestastmaarten.com/wp-content/uploads/la-fontana.png
END:VEVENT
BEGIN:VEVENT
DTSTART;TZID=America/Anguilla:20251128T180000
DTEND;TZID=America/Anguilla:20251128T220000
DTSTAMP:20260420T112932
CREATED:20250927T083411Z
LAST-MODIFIED:20260103T161507Z
UID:100100762-1764352800-1764367200@sonestastmaarten.com
SUMMARY:Jing's Kitchen
DESCRIPTION:Asian fare restaurant upstairs in Maho Village with hand-painted murals in a contemporary chic setting.
URL:https://sonestastmaarten.com/event/jings-kitchen/2025-11-28/
LOCATION:Jing’s Kitchen
CATEGORIES:MB Dining Hours
ATTACH;FMTTYPE=image/png:https://sonestastmaarten.com/wp-content/uploads/jings.png
END:VEVENT
BEGIN:VEVENT
DTSTART;TZID=America/Anguilla:20251128T180000
DTEND;TZID=America/Anguilla:20251128T220000
DTSTAMP:20260420T112932
CREATED:20251112T210135Z
LAST-MODIFIED:20260205T194719Z
UID:100101111-1764352800-1764367200@sonestastmaarten.com
SUMMARY:Ocean Terrace (Gala Theme Dinner)
DESCRIPTION:Buffet dinner with tonight’s culinary theme Gala.
URL:https://sonestastmaarten.com/event/ocean-terrace-gala-theme-dinner/2025-11-28/
LOCATION:Ocean Terrace
CATEGORIES:MB Dining Hours
ATTACH;FMTTYPE=image/png:https://sonestastmaarten.com/wp-content/uploads/ocean-terrace.png
END:VEVENT
BEGIN:VEVENT
DTSTART;TZID=America/Anguilla:20251128T180000
DTEND;TZID=America/Anguilla:20251128T220000
DTSTAMP:20260420T112932
CREATED:20251116T184127Z
LAST-MODIFIED:20251121T180855Z
UID:100100433-1764352800-1764367200@sonestastmaarten.com
SUMMARY:Cantina Paradiso
DESCRIPTION:Oceanfront Mexican dining venue at The Palms by evening\, featuring authentic dishes including tacos\, enchiladas\, fresh seafood\, and a hot & cold buffet selection.
URL:https://sonestastmaarten.com/event/cantina-paradiso-2-2/2025-11-28/
LOCATION:Palms Grill
CATEGORIES:MB Dining Hours
ATTACH;FMTTYPE=image/png:https://sonestastmaarten.com/wp-content/uploads/cantina-paradiso.png
END:VEVENT
BEGIN:VEVENT
DTSTART;TZID=America/Anguilla:20251128T180000
DTEND;TZID=America/Anguilla:20251128T220000
DTSTAMP:20260420T112932
CREATED:20251121T180829Z
LAST-MODIFIED:20251121T180829Z
UID:100100383-1764352800-1764367200@sonestastmaarten.com
SUMMARY:La Fontana Restaurant
DESCRIPTION:Waterfront Italian restaurant on Via Maho featuring authentic specialties including homemade pasta\, carpaccio\, seafood dishes\, and Parmesan chicken.
URL:https://sonestastmaarten.com/event/la-fontana-2/2025-11-28/
LOCATION:La Fontana Restaurant
CATEGORIES:MB Dining Hours
ATTACH;FMTTYPE=image/png:https://sonestastmaarten.com/wp-content/uploads/la-fontana.png
END:VEVENT
BEGIN:VEVENT
DTSTART;TZID=America/Anguilla:20251128T180000
DTEND;TZID=America/Anguilla:20251129T010000
DTSTAMP:20260420T112932
CREATED:20251110T174757Z
LAST-MODIFIED:20260205T195025Z
UID:100100052-1764352800-1764378000@sonestastmaarten.com
SUMMARY:The Village Tavern Bar
DESCRIPTION:Enjoy live entertainment and sports on big screens at our bar located upstairs in Maho Village. Late-night pub fare served from 10:00 PM – 12:30 AM.
URL:https://sonestastmaarten.com/event/the-village-tavern-bar/2025-11-28/
LOCATION:The Village Tavern\, Sint Maarten
CATEGORIES:MB Dining Hours
ATTACH;FMTTYPE=image/png:https://sonestastmaarten.com/wp-content/uploads/village_tavern.png
END:VEVENT
BEGIN:VEVENT
DTSTART;TZID=America/Anguilla:20251129T070000
DTEND;TZID=America/Anguilla:20251129T110000
DTSTAMP:20260420T112932
CREATED:20250927T075923Z
LAST-MODIFIED:20251219T173214Z
UID:100097575-1764399600-1764414000@sonestastmaarten.com
SUMMARY:Ocean Terrace (Breakfast)
DESCRIPTION:Buffet breakfast with hot and cold dishes\, fresh fruits\, and a made-to-order omelet station.
URL:https://sonestastmaarten.com/event/ocean-terrace/2025-11-29/
LOCATION:Ocean Terrace
CATEGORIES:MB Dining Hours
ATTACH;FMTTYPE=image/png:https://sonestastmaarten.com/wp-content/uploads/ocean-terrace.png
END:VEVENT
BEGIN:VEVENT
DTSTART;TZID=America/Anguilla:20251129T070000
DTEND;TZID=America/Anguilla:20251129T190000
DTSTAMP:20260420T112932
CREATED:20250927T085420Z
LAST-MODIFIED:20251219T173229Z
UID:100097415-1764399600-1764442800@sonestastmaarten.com
SUMMARY:Maho Café
DESCRIPTION:Charming all-day café in the lobby with coffees\, herbal teas\, fresh pastries\, and sandwiches.
URL:https://sonestastmaarten.com/event/maho-cafe/2025-11-29/
LOCATION:Maho Cafe
CATEGORIES:MB Dining Hours
ATTACH;FMTTYPE=image/png:https://sonestastmaarten.com/wp-content/uploads/maho-cafe.png
END:VEVENT
BEGIN:VEVENT
DTSTART;TZID=America/Anguilla:20251129T100000
DTEND;TZID=America/Anguilla:20251129T180000
DTSTAMP:20260420T112932
CREATED:20250928T162047Z
LAST-MODIFIED:20251219T173248Z
UID:100097655-1764410400-1764439200@sonestastmaarten.com
SUMMARY:Oasis Pool Bar
DESCRIPTION:Swim-up bar at the signature pool with live entertainment and Teeny Tiki kids’ service area.
URL:https://sonestastmaarten.com/event/oasis-pool-bar/2025-11-29/
LOCATION:The Oasis Pool
CATEGORIES:MB Dining Hours
ATTACH;FMTTYPE=image/png:https://sonestastmaarten.com/wp-content/uploads/oasis-swim-up-bar.png
END:VEVENT
BEGIN:VEVENT
DTSTART;TZID=America/Anguilla:20251129T100000
DTEND;TZID=America/Anguilla:20251129T230000
DTSTAMP:20260420T112932
CREATED:20250928T162828Z
LAST-MODIFIED:20260103T161936Z
UID:100097735-1764410400-1764457200@sonestastmaarten.com
SUMMARY:The Palms Grill Bar
DESCRIPTION:Oceanfront bar adjacent to the beach and Waterfront Stage serving Caribbean cocktails\, beers\, wines\, and soft drinks.
URL:https://sonestastmaarten.com/event/the-palms-grill-bar/2025-11-29/
LOCATION:Palms Grill
CATEGORIES:MB Dining Hours
ATTACH;FMTTYPE=image/png:https://sonestastmaarten.com/wp-content/uploads/the-palms-grill.png
END:VEVENT
BEGIN:VEVENT
DTSTART;TZID=America/Anguilla:20251129T100000
DTEND;TZID=America/Anguilla:20251130T010000
DTSTAMP:20260420T112932
CREATED:20250928T162547Z
LAST-MODIFIED:20251219T173311Z
UID:100097815-1764410400-1764464400@sonestastmaarten.com
SUMMARY:Latitude Bar
DESCRIPTION:Lobby bar with live entertainment\, sports on big screens\, and slot machines for 24-hour gaming.
URL:https://sonestastmaarten.com/event/latitude-bar/2025-11-29/
LOCATION:The Latitude Lobby Bar\, Maho Beach Lobby
CATEGORIES:MB Dining Hours
ATTACH;FMTTYPE=image/png:https://sonestastmaarten.com/wp-content/uploads/latitude-bar.png
END:VEVENT
BEGIN:VEVENT
DTSTART;TZID=America/Anguilla:20251129T113000
DTEND;TZID=America/Anguilla:20251129T223000
DTSTAMP:20260420T112932
CREATED:20250927T090536Z
LAST-MODIFIED:20251219T173318Z
UID:100097895-1764415800-1764455400@sonestastmaarten.com
SUMMARY:Pizzeria Napoli
DESCRIPTION:Handcrafted\, made-to-order pizza slices hot from a traditional oven with fresh ingredients throughout the day.
URL:https://sonestastmaarten.com/event/pizzeria-napoli/2025-11-29/
LOCATION:Pizzeria Napoli
CATEGORIES:MB Dining Hours
ATTACH;FMTTYPE=image/png:https://sonestastmaarten.com/wp-content/uploads/pizzeria-napoli.png
END:VEVENT
BEGIN:VEVENT
DTSTART;TZID=America/Anguilla:20251129T120000
DTEND;TZID=America/Anguilla:20251129T160000
DTSTAMP:20260420T112932
CREATED:20250927T081051Z
LAST-MODIFIED:20260103T161919Z
UID:100097975-1764417600-1764432000@sonestastmaarten.com
SUMMARY:Palms Grill (Lunch)
DESCRIPTION:Oceanfront lunch with Caribbean grill specialties including jerk chicken\, BBQ ribs\, fresh catch of the day\, burgers\, and made-to-order pasta.
URL:https://sonestastmaarten.com/event/palms-grill/2025-11-29/
LOCATION:Palms Grill
CATEGORIES:MB Dining Hours
ATTACH;FMTTYPE=image/png:https://sonestastmaarten.com/wp-content/uploads/the-palms-grill.png
END:VEVENT
BEGIN:VEVENT
DTSTART;TZID=America/Anguilla:20251129T123000
DTEND;TZID=America/Anguilla:20251129T150000
DTSTAMP:20260420T112932
CREATED:20250927T080903Z
LAST-MODIFIED:20260103T161858Z
UID:100098055-1764419400-1764428400@sonestastmaarten.com
SUMMARY:Ocean Terrace (Lunch)
DESCRIPTION:Buffet lunch featuring soups\, salads\, a made-to-order pasta station\, and varied international options.
URL:https://sonestastmaarten.com/event/ocean-terrace-2/2025-11-29/
LOCATION:Ocean Terrace
CATEGORIES:MB Dining Hours
ATTACH;FMTTYPE=image/png:https://sonestastmaarten.com/wp-content/uploads/ocean-terrace.png
END:VEVENT
BEGIN:VEVENT
DTSTART;TZID=America/Anguilla:20251129T140000
DTEND;TZID=America/Anguilla:20251129T180000
DTSTAMP:20260420T112932
CREATED:20251117T093638Z
LAST-MODIFIED:20260205T194202Z
UID:100101363-1764424800-1764439200@sonestastmaarten.com
SUMMARY:Oasis Snack Shack
DESCRIPTION:Freshly cooked burgers and hotdogs served hot and delicious at Oasis Snack Shack
URL:https://sonestastmaarten.com/event/oasis-snack-shack-2/2025-11-29/
LOCATION:The Oasis Pool
CATEGORIES:MB Dining Hours
END:VEVENT
END:VCALENDAR