BEGIN:VCALENDAR
VERSION:2.0
PRODID:-//Sonesta Resorts Sint Maarten - ECPv6.15.17.1//NONSGML v1.0//EN
CALSCALE:GREGORIAN
METHOD:PUBLISH
X-WR-CALNAME:Sonesta Resorts Sint Maarten
X-ORIGINAL-URL:https://sonestastmaarten.com
X-WR-CALDESC:Events for Sonesta Resorts Sint Maarten
REFRESH-INTERVAL;VALUE=DURATION:PT1H
X-Robots-Tag:noindex
X-PUBLISHED-TTL:PT1H
BEGIN:VTIMEZONE
TZID:America/Anguilla
BEGIN:STANDARD
TZOFFSETFROM:-0400
TZOFFSETTO:-0400
TZNAME:AST
DTSTART:20240101T000000
END:STANDARD
END:VTIMEZONE
BEGIN:VEVENT
DTSTART;TZID=America/Anguilla:20251213T113000
DTEND;TZID=America/Anguilla:20251213T223000
DTSTAMP:20260421T011201
CREATED:20250927T090536Z
LAST-MODIFIED:20251219T173318Z
UID:100101186-1765625400-1765665000@sonestastmaarten.com
SUMMARY:Pizzeria Napoli
DESCRIPTION:Handcrafted\, made-to-order pizza slices hot from a traditional oven with fresh ingredients throughout the day.
URL:https://sonestastmaarten.com/event/pizzeria-napoli/2025-12-13/
LOCATION:Pizzeria Napoli
CATEGORIES:MB Dining Hours
ATTACH;FMTTYPE=image/png:https://sonestastmaarten.com/wp-content/uploads/pizzeria-napoli.png
END:VEVENT
BEGIN:VEVENT
DTSTART;TZID=America/Anguilla:20251213T120000
DTEND;TZID=America/Anguilla:20251213T160000
DTSTAMP:20260421T011201
CREATED:20250927T081051Z
LAST-MODIFIED:20260103T161919Z
UID:100101332-1765627200-1765641600@sonestastmaarten.com
SUMMARY:Palms Grill (Lunch)
DESCRIPTION:Oceanfront lunch with Caribbean grill specialties including jerk chicken\, BBQ ribs\, fresh catch of the day\, burgers\, and made-to-order pasta.
URL:https://sonestastmaarten.com/event/palms-grill/2025-12-13/
LOCATION:Palms Grill
CATEGORIES:MB Dining Hours
ATTACH;FMTTYPE=image/png:https://sonestastmaarten.com/wp-content/uploads/the-palms-grill.png
END:VEVENT
BEGIN:VEVENT
DTSTART;TZID=America/Anguilla:20251213T123000
DTEND;TZID=America/Anguilla:20251213T150000
DTSTAMP:20260421T011201
CREATED:20250927T080903Z
LAST-MODIFIED:20260103T161858Z
UID:100101142-1765629000-1765638000@sonestastmaarten.com
SUMMARY:Ocean Terrace (Lunch)
DESCRIPTION:Buffet lunch featuring soups\, salads\, a made-to-order pasta station\, and varied international options.
URL:https://sonestastmaarten.com/event/ocean-terrace-2/2025-12-13/
LOCATION:Ocean Terrace
CATEGORIES:MB Dining Hours
ATTACH;FMTTYPE=image/png:https://sonestastmaarten.com/wp-content/uploads/ocean-terrace.png
END:VEVENT
BEGIN:VEVENT
DTSTART;TZID=America/Anguilla:20251213T140000
DTEND;TZID=America/Anguilla:20251213T180000
DTSTAMP:20260421T011201
CREATED:20251117T093638Z
LAST-MODIFIED:20260205T194202Z
UID:100101377-1765634400-1765648800@sonestastmaarten.com
SUMMARY:Oasis Snack Shack
DESCRIPTION:Freshly cooked burgers and hotdogs served hot and delicious at Oasis Snack Shack
URL:https://sonestastmaarten.com/event/oasis-snack-shack-2/2025-12-13/
LOCATION:The Oasis Pool
CATEGORIES:MB Dining Hours
END:VEVENT
BEGIN:VEVENT
DTSTART;TZID=America/Anguilla:20251213T160000
DTEND;TZID=America/Anguilla:20251213T230000
DTSTAMP:20260421T011201
CREATED:20250928T164218Z
LAST-MODIFIED:20251117T091939Z
UID:100101341-1765641600-1765666800@sonestastmaarten.com
SUMMARY:La Fontana Bar
DESCRIPTION:Waterfront piazza bar on Via Maho near the famous gazebo overlooking Maho Bay\, serving refreshments\, frozen drinks\, cocktails\, and aperitivos.
URL:https://sonestastmaarten.com/event/la-fontana-bar/2025-12-13/
LOCATION:La Fontana Restaurant
CATEGORIES:MB Dining Hours
ATTACH;FMTTYPE=image/png:https://sonestastmaarten.com/wp-content/uploads/la-fontana.png
END:VEVENT
BEGIN:VEVENT
DTSTART;TZID=America/Anguilla:20251213T180000
DTEND;TZID=America/Anguilla:20251213T220000
DTSTAMP:20260421T011201
CREATED:20250927T083224Z
LAST-MODIFIED:20260103T161644Z
UID:100101430-1765648800-1765663200@sonestastmaarten.com
SUMMARY:The Village Tavern
DESCRIPTION:Pub upstairs in Maho Village serving à la carte fare with sports on HD TVs and live entertainment with karaoke.
URL:https://sonestastmaarten.com/event/the-village-tavern/2025-12-13/
LOCATION:The Village Tavern\, Sint Maarten
CATEGORIES:MB Dining Hours
ATTACH;FMTTYPE=image/png:https://sonestastmaarten.com/wp-content/uploads/village_tavern.png
END:VEVENT
BEGIN:VEVENT
DTSTART;TZID=America/Anguilla:20251213T180000
DTEND;TZID=America/Anguilla:20251213T220000
DTSTAMP:20260421T011201
CREATED:20251112T210302Z
LAST-MODIFIED:20260205T194737Z
UID:100101144-1765648800-1765663200@sonestastmaarten.com
SUMMARY:Ocean Terrace (Asian Theme Dinner)
DESCRIPTION:Buffet dinner with tonight’s culinary theme Asian!
URL:https://sonestastmaarten.com/event/ocean-terrace-asian-theme-dinner/2025-12-13/
LOCATION:Ocean Terrace
CATEGORIES:MB Dining Hours
ATTACH;FMTTYPE=image/png:https://sonestastmaarten.com/wp-content/uploads/ocean-terrace.png
END:VEVENT
BEGIN:VEVENT
DTSTART;TZID=America/Anguilla:20251213T180000
DTEND;TZID=America/Anguilla:20251213T220000
DTSTAMP:20260421T011201
CREATED:20251128T203714Z
LAST-MODIFIED:20260417T145520Z
UID:100103907-1765648800-1765663200@sonestastmaarten.com
SUMMARY:Cantina Paradiso
DESCRIPTION:Oceanfront Mexican dining venue at The Palms by evening\, featuring authentic dishes including tacos\, enchiladas\, fresh seafood\, and a hot & cold buffet selection.
URL:https://sonestastmaarten.com/event/cantina-paradiso-2-2-2/2025-12-13/
LOCATION:Palms Grill
CATEGORIES:MB Dining Hours
ATTACH;FMTTYPE=image/png:https://sonestastmaarten.com/wp-content/uploads/cantina-paradiso.png
END:VEVENT
BEGIN:VEVENT
DTSTART;TZID=America/Anguilla:20251213T180000
DTEND;TZID=America/Anguilla:20251213T220000
DTSTAMP:20260421T011201
CREATED:20251128T203804Z
LAST-MODIFIED:20260417T145508Z
UID:100101240-1765648800-1765663200@sonestastmaarten.com
SUMMARY:La Fontana Restaurant
DESCRIPTION:Waterfront Italian restaurant on Via Maho featuring authentic specialties including homemade pasta\, carpaccio\, seafood dishes\, and Parmesan chicken.
URL:https://sonestastmaarten.com/event/la-fontana-2-2/2025-12-13/
LOCATION:La Fontana Restaurant
CATEGORIES:MB Dining Hours
ATTACH;FMTTYPE=image/png:https://sonestastmaarten.com/wp-content/uploads/la-fontana.png
END:VEVENT
BEGIN:VEVENT
DTSTART;TZID=America/Anguilla:20251213T180000
DTEND;TZID=America/Anguilla:20251214T010000
DTSTAMP:20260421T011201
CREATED:20251110T174757Z
LAST-MODIFIED:20260205T195025Z
UID:100101143-1765648800-1765674000@sonestastmaarten.com
SUMMARY:The Village Tavern Bar
DESCRIPTION:Enjoy live entertainment and sports on big screens at our bar located upstairs in Maho Village. Late-night pub fare served from 10:00 PM – 12:30 AM.
URL:https://sonestastmaarten.com/event/the-village-tavern-bar/2025-12-13/
LOCATION:The Village Tavern\, Sint Maarten
CATEGORIES:MB Dining Hours
ATTACH;FMTTYPE=image/png:https://sonestastmaarten.com/wp-content/uploads/village_tavern.png
END:VEVENT
BEGIN:VEVENT
DTSTART;TZID=America/Anguilla:20251214T070000
DTEND;TZID=America/Anguilla:20251214T110000
DTSTAMP:20260421T011201
CREATED:20250927T075923Z
LAST-MODIFIED:20251219T173214Z
UID:100101184-1765695600-1765710000@sonestastmaarten.com
SUMMARY:Ocean Terrace (Breakfast)
DESCRIPTION:Buffet breakfast with hot and cold dishes\, fresh fruits\, and a made-to-order omelet station.
URL:https://sonestastmaarten.com/event/ocean-terrace/2025-12-14/
LOCATION:Ocean Terrace
CATEGORIES:MB Dining Hours
ATTACH;FMTTYPE=image/png:https://sonestastmaarten.com/wp-content/uploads/ocean-terrace.png
END:VEVENT
BEGIN:VEVENT
DTSTART;TZID=America/Anguilla:20251214T070000
DTEND;TZID=America/Anguilla:20251214T190000
DTSTAMP:20260421T011201
CREATED:20250927T085420Z
LAST-MODIFIED:20251219T173229Z
UID:100101275-1765695600-1765738800@sonestastmaarten.com
SUMMARY:Maho Café
DESCRIPTION:Charming all-day café in the lobby with coffees\, herbal teas\, fresh pastries\, and sandwiches.
URL:https://sonestastmaarten.com/event/maho-cafe/2025-12-14/
LOCATION:Maho Cafe
CATEGORIES:MB Dining Hours
ATTACH;FMTTYPE=image/png:https://sonestastmaarten.com/wp-content/uploads/maho-cafe.png
END:VEVENT
BEGIN:VEVENT
DTSTART;TZID=America/Anguilla:20251214T100000
DTEND;TZID=America/Anguilla:20251214T180000
DTSTAMP:20260421T011201
CREATED:20250928T162047Z
LAST-MODIFIED:20251219T173248Z
UID:100101292-1765706400-1765735200@sonestastmaarten.com
SUMMARY:Oasis Pool Bar
DESCRIPTION:Swim-up bar at the signature pool with live entertainment and Teeny Tiki kids’ service area.
URL:https://sonestastmaarten.com/event/oasis-pool-bar/2025-12-14/
LOCATION:The Oasis Pool
CATEGORIES:MB Dining Hours
ATTACH;FMTTYPE=image/png:https://sonestastmaarten.com/wp-content/uploads/oasis-swim-up-bar.png
END:VEVENT
BEGIN:VEVENT
DTSTART;TZID=America/Anguilla:20251214T100000
DTEND;TZID=America/Anguilla:20251214T230000
DTSTAMP:20260421T011201
CREATED:20250928T162828Z
LAST-MODIFIED:20260103T161936Z
UID:100101309-1765706400-1765753200@sonestastmaarten.com
SUMMARY:The Palms Grill Bar
DESCRIPTION:Oceanfront bar adjacent to the beach and Waterfront Stage serving Caribbean cocktails\, beers\, wines\, and soft drinks.
URL:https://sonestastmaarten.com/event/the-palms-grill-bar/2025-12-14/
LOCATION:Palms Grill
CATEGORIES:MB Dining Hours
ATTACH;FMTTYPE=image/png:https://sonestastmaarten.com/wp-content/uploads/the-palms-grill.png
END:VEVENT
BEGIN:VEVENT
DTSTART;TZID=America/Anguilla:20251214T100000
DTEND;TZID=America/Anguilla:20251215T010000
DTSTAMP:20260421T011201
CREATED:20250928T162547Z
LAST-MODIFIED:20251219T173311Z
UID:100101326-1765706400-1765760400@sonestastmaarten.com
SUMMARY:Latitude Bar
DESCRIPTION:Lobby bar with live entertainment\, sports on big screens\, and slot machines for 24-hour gaming.
URL:https://sonestastmaarten.com/event/latitude-bar/2025-12-14/
LOCATION:The Latitude Lobby Bar\, Maho Beach Lobby
CATEGORIES:MB Dining Hours
ATTACH;FMTTYPE=image/png:https://sonestastmaarten.com/wp-content/uploads/latitude-bar.png
END:VEVENT
BEGIN:VEVENT
DTSTART;TZID=America/Anguilla:20251214T113000
DTEND;TZID=America/Anguilla:20251214T223000
DTSTAMP:20260421T011201
CREATED:20250927T090536Z
LAST-MODIFIED:20251219T173318Z
UID:100101187-1765711800-1765751400@sonestastmaarten.com
SUMMARY:Pizzeria Napoli
DESCRIPTION:Handcrafted\, made-to-order pizza slices hot from a traditional oven with fresh ingredients throughout the day.
URL:https://sonestastmaarten.com/event/pizzeria-napoli/2025-12-14/
LOCATION:Pizzeria Napoli
CATEGORIES:MB Dining Hours
ATTACH;FMTTYPE=image/png:https://sonestastmaarten.com/wp-content/uploads/pizzeria-napoli.png
END:VEVENT
BEGIN:VEVENT
DTSTART;TZID=America/Anguilla:20251214T120000
DTEND;TZID=America/Anguilla:20251214T160000
DTSTAMP:20260421T011201
CREATED:20250927T081051Z
LAST-MODIFIED:20260103T161919Z
UID:100101333-1765713600-1765728000@sonestastmaarten.com
SUMMARY:Palms Grill (Lunch)
DESCRIPTION:Oceanfront lunch with Caribbean grill specialties including jerk chicken\, BBQ ribs\, fresh catch of the day\, burgers\, and made-to-order pasta.
URL:https://sonestastmaarten.com/event/palms-grill/2025-12-14/
LOCATION:Palms Grill
CATEGORIES:MB Dining Hours
ATTACH;FMTTYPE=image/png:https://sonestastmaarten.com/wp-content/uploads/the-palms-grill.png
END:VEVENT
BEGIN:VEVENT
DTSTART;TZID=America/Anguilla:20251214T123000
DTEND;TZID=America/Anguilla:20251214T150000
DTSTAMP:20260421T011201
CREATED:20250927T080903Z
LAST-MODIFIED:20260103T161858Z
UID:100101337-1765715400-1765724400@sonestastmaarten.com
SUMMARY:Ocean Terrace (Lunch)
DESCRIPTION:Buffet lunch featuring soups\, salads\, a made-to-order pasta station\, and varied international options.
URL:https://sonestastmaarten.com/event/ocean-terrace-2/2025-12-14/
LOCATION:Ocean Terrace
CATEGORIES:MB Dining Hours
ATTACH;FMTTYPE=image/png:https://sonestastmaarten.com/wp-content/uploads/ocean-terrace.png
END:VEVENT
BEGIN:VEVENT
DTSTART;TZID=America/Anguilla:20251214T140000
DTEND;TZID=America/Anguilla:20251214T180000
DTSTAMP:20260421T011201
CREATED:20251117T093638Z
LAST-MODIFIED:20260205T194202Z
UID:100101378-1765720800-1765735200@sonestastmaarten.com
SUMMARY:Oasis Snack Shack
DESCRIPTION:Freshly cooked burgers and hotdogs served hot and delicious at Oasis Snack Shack
URL:https://sonestastmaarten.com/event/oasis-snack-shack-2/2025-12-14/
LOCATION:The Oasis Pool
CATEGORIES:MB Dining Hours
END:VEVENT
BEGIN:VEVENT
DTSTART;TZID=America/Anguilla:20251214T160000
DTEND;TZID=America/Anguilla:20251214T230000
DTSTAMP:20260421T011201
CREATED:20250928T164218Z
LAST-MODIFIED:20251117T091939Z
UID:100101342-1765728000-1765753200@sonestastmaarten.com
SUMMARY:La Fontana Bar
DESCRIPTION:Waterfront piazza bar on Via Maho near the famous gazebo overlooking Maho Bay\, serving refreshments\, frozen drinks\, cocktails\, and aperitivos.
URL:https://sonestastmaarten.com/event/la-fontana-bar/2025-12-14/
LOCATION:La Fontana Restaurant
CATEGORIES:MB Dining Hours
ATTACH;FMTTYPE=image/png:https://sonestastmaarten.com/wp-content/uploads/la-fontana.png
END:VEVENT
BEGIN:VEVENT
DTSTART;TZID=America/Anguilla:20251214T180000
DTEND;TZID=America/Anguilla:20251214T220000
DTSTAMP:20260421T011201
CREATED:20251112T210440Z
LAST-MODIFIED:20260205T194751Z
UID:100101443-1765735200-1765749600@sonestastmaarten.com
SUMMARY:Ocean Terrace (Sint Maarten Theme Dinner)
DESCRIPTION:Buffet dinner with tonight’s culinary theme Sint Maarten!
URL:https://sonestastmaarten.com/event/ocean-terrace-sint-maarten-theme-dinner/2025-12-14/
LOCATION:Ocean Terrace
CATEGORIES:MB Dining Hours
ATTACH;FMTTYPE=image/png:https://sonestastmaarten.com/wp-content/uploads/ocean-terrace.png
END:VEVENT
BEGIN:VEVENT
DTSTART;TZID=America/Anguilla:20251214T180000
DTEND;TZID=America/Anguilla:20251214T220000
DTSTAMP:20260421T011201
CREATED:20251128T203714Z
LAST-MODIFIED:20260417T145520Z
UID:100107989-1765735200-1765749600@sonestastmaarten.com
SUMMARY:Cantina Paradiso
DESCRIPTION:Oceanfront Mexican dining venue at The Palms by evening\, featuring authentic dishes including tacos\, enchiladas\, fresh seafood\, and a hot & cold buffet selection.
URL:https://sonestastmaarten.com/event/cantina-paradiso-2-2-2/2025-12-14/
LOCATION:Palms Grill
CATEGORIES:MB Dining Hours
ATTACH;FMTTYPE=image/png:https://sonestastmaarten.com/wp-content/uploads/cantina-paradiso.png
END:VEVENT
BEGIN:VEVENT
DTSTART;TZID=America/Anguilla:20251214T180000
DTEND;TZID=America/Anguilla:20251214T220000
DTSTAMP:20260421T011201
CREATED:20251128T203804Z
LAST-MODIFIED:20260417T145508Z
UID:100101241-1765735200-1765749600@sonestastmaarten.com
SUMMARY:La Fontana Restaurant
DESCRIPTION:Waterfront Italian restaurant on Via Maho featuring authentic specialties including homemade pasta\, carpaccio\, seafood dishes\, and Parmesan chicken.
URL:https://sonestastmaarten.com/event/la-fontana-2-2/2025-12-14/
LOCATION:La Fontana Restaurant
CATEGORIES:MB Dining Hours
ATTACH;FMTTYPE=image/png:https://sonestastmaarten.com/wp-content/uploads/la-fontana.png
END:VEVENT
BEGIN:VEVENT
DTSTART;TZID=America/Anguilla:20251214T180000
DTEND;TZID=America/Anguilla:20251215T010000
DTSTAMP:20260421T011201
CREATED:20251110T174757Z
LAST-MODIFIED:20260205T195025Z
UID:100101256-1765735200-1765760400@sonestastmaarten.com
SUMMARY:The Village Tavern Bar
DESCRIPTION:Enjoy live entertainment and sports on big screens at our bar located upstairs in Maho Village. Late-night pub fare served from 10:00 PM – 12:30 AM.
URL:https://sonestastmaarten.com/event/the-village-tavern-bar/2025-12-14/
LOCATION:The Village Tavern\, Sint Maarten
CATEGORIES:MB Dining Hours
ATTACH;FMTTYPE=image/png:https://sonestastmaarten.com/wp-content/uploads/village_tavern.png
END:VEVENT
BEGIN:VEVENT
DTSTART;TZID=America/Anguilla:20251215T070000
DTEND;TZID=America/Anguilla:20251215T110000
DTSTAMP:20260421T011201
CREATED:20250927T075923Z
LAST-MODIFIED:20251219T173214Z
UID:100101185-1765782000-1765796400@sonestastmaarten.com
SUMMARY:Ocean Terrace (Breakfast)
DESCRIPTION:Buffet breakfast with hot and cold dishes\, fresh fruits\, and a made-to-order omelet station.
URL:https://sonestastmaarten.com/event/ocean-terrace/2025-12-15/
LOCATION:Ocean Terrace
CATEGORIES:MB Dining Hours
ATTACH;FMTTYPE=image/png:https://sonestastmaarten.com/wp-content/uploads/ocean-terrace.png
END:VEVENT
BEGIN:VEVENT
DTSTART;TZID=America/Anguilla:20251215T070000
DTEND;TZID=America/Anguilla:20251215T190000
DTSTAMP:20260421T011201
CREATED:20250927T085420Z
LAST-MODIFIED:20251219T173229Z
UID:100101276-1765782000-1765825200@sonestastmaarten.com
SUMMARY:Maho Café
DESCRIPTION:Charming all-day café in the lobby with coffees\, herbal teas\, fresh pastries\, and sandwiches.
URL:https://sonestastmaarten.com/event/maho-cafe/2025-12-15/
LOCATION:Maho Cafe
CATEGORIES:MB Dining Hours
ATTACH;FMTTYPE=image/png:https://sonestastmaarten.com/wp-content/uploads/maho-cafe.png
END:VEVENT
BEGIN:VEVENT
DTSTART;TZID=America/Anguilla:20251215T100000
DTEND;TZID=America/Anguilla:20251215T180000
DTSTAMP:20260421T011201
CREATED:20250928T162047Z
LAST-MODIFIED:20251219T173248Z
UID:100101293-1765792800-1765821600@sonestastmaarten.com
SUMMARY:Oasis Pool Bar
DESCRIPTION:Swim-up bar at the signature pool with live entertainment and Teeny Tiki kids’ service area.
URL:https://sonestastmaarten.com/event/oasis-pool-bar/2025-12-15/
LOCATION:The Oasis Pool
CATEGORIES:MB Dining Hours
ATTACH;FMTTYPE=image/png:https://sonestastmaarten.com/wp-content/uploads/oasis-swim-up-bar.png
END:VEVENT
BEGIN:VEVENT
DTSTART;TZID=America/Anguilla:20251215T100000
DTEND;TZID=America/Anguilla:20251215T230000
DTSTAMP:20260421T011201
CREATED:20250928T162828Z
LAST-MODIFIED:20260103T161936Z
UID:100101310-1765792800-1765839600@sonestastmaarten.com
SUMMARY:The Palms Grill Bar
DESCRIPTION:Oceanfront bar adjacent to the beach and Waterfront Stage serving Caribbean cocktails\, beers\, wines\, and soft drinks.
URL:https://sonestastmaarten.com/event/the-palms-grill-bar/2025-12-15/
LOCATION:Palms Grill
CATEGORIES:MB Dining Hours
ATTACH;FMTTYPE=image/png:https://sonestastmaarten.com/wp-content/uploads/the-palms-grill.png
END:VEVENT
BEGIN:VEVENT
DTSTART;TZID=America/Anguilla:20251215T100000
DTEND;TZID=America/Anguilla:20251216T010000
DTSTAMP:20260421T011201
CREATED:20250928T162547Z
LAST-MODIFIED:20251219T173311Z
UID:100101327-1765792800-1765846800@sonestastmaarten.com
SUMMARY:Latitude Bar
DESCRIPTION:Lobby bar with live entertainment\, sports on big screens\, and slot machines for 24-hour gaming.
URL:https://sonestastmaarten.com/event/latitude-bar/2025-12-15/
LOCATION:The Latitude Lobby Bar\, Maho Beach Lobby
CATEGORIES:MB Dining Hours
ATTACH;FMTTYPE=image/png:https://sonestastmaarten.com/wp-content/uploads/latitude-bar.png
END:VEVENT
BEGIN:VEVENT
DTSTART;TZID=America/Anguilla:20251215T113000
DTEND;TZID=America/Anguilla:20251215T223000
DTSTAMP:20260421T011201
CREATED:20250927T090536Z
LAST-MODIFIED:20251219T173318Z
UID:100101188-1765798200-1765837800@sonestastmaarten.com
SUMMARY:Pizzeria Napoli
DESCRIPTION:Handcrafted\, made-to-order pizza slices hot from a traditional oven with fresh ingredients throughout the day.
URL:https://sonestastmaarten.com/event/pizzeria-napoli/2025-12-15/
LOCATION:Pizzeria Napoli
CATEGORIES:MB Dining Hours
ATTACH;FMTTYPE=image/png:https://sonestastmaarten.com/wp-content/uploads/pizzeria-napoli.png
END:VEVENT
END:VCALENDAR