BEGIN:VCALENDAR
VERSION:2.0
PRODID:-//Sonesta Resorts Sint Maarten - ECPv6.15.17.1//NONSGML v1.0//EN
CALSCALE:GREGORIAN
METHOD:PUBLISH
X-ORIGINAL-URL:https://sonestastmaarten.com
X-WR-CALDESC:Events for Sonesta Resorts Sint Maarten
REFRESH-INTERVAL;VALUE=DURATION:PT1H
X-Robots-Tag:noindex
X-PUBLISHED-TTL:PT1H
BEGIN:VTIMEZONE
TZID:America/Anguilla
BEGIN:STANDARD
TZOFFSETFROM:-0400
TZOFFSETTO:-0400
TZNAME:AST
DTSTART:20240101T000000
END:STANDARD
END:VTIMEZONE
BEGIN:VEVENT
DTSTART;TZID=America/Anguilla:20251209T180000
DTEND;TZID=America/Anguilla:20251209T220000
DTSTAMP:20260420T220804
CREATED:20251112T205425Z
LAST-MODIFIED:20260205T194619Z
UID:100101103-1765303200-1765317600@sonestastmaarten.com
SUMMARY:Ocean Terrace (French Theme Dinner)
DESCRIPTION:Buffet dinner with tonight’s culinary theme French
URL:https://sonestastmaarten.com/event/ocean-terrace-french-theme-dinner/2025-12-09/
LOCATION:Ocean Terrace
CATEGORIES:MB Dining Hours
ATTACH;FMTTYPE=image/png:https://sonestastmaarten.com/wp-content/uploads/ocean-terrace.png
END:VEVENT
BEGIN:VEVENT
DTSTART;TZID=America/Anguilla:20251209T180000
DTEND;TZID=America/Anguilla:20251209T220000
DTSTAMP:20260420T220804
CREATED:20251128T203714Z
LAST-MODIFIED:20260417T145520Z
UID:100103216-1765303200-1765317600@sonestastmaarten.com
SUMMARY:Cantina Paradiso
DESCRIPTION:Oceanfront Mexican dining venue at The Palms by evening\, featuring authentic dishes including tacos\, enchiladas\, fresh seafood\, and a hot & cold buffet selection.
URL:https://sonestastmaarten.com/event/cantina-paradiso-2-2-2/2025-12-09/
LOCATION:Palms Grill
CATEGORIES:MB Dining Hours
ATTACH;FMTTYPE=image/png:https://sonestastmaarten.com/wp-content/uploads/cantina-paradiso.png
END:VEVENT
BEGIN:VEVENT
DTSTART;TZID=America/Anguilla:20251209T180000
DTEND;TZID=America/Anguilla:20251210T010000
DTSTAMP:20260420T220804
CREATED:20251110T174757Z
LAST-MODIFIED:20260205T195025Z
UID:100100063-1765303200-1765328400@sonestastmaarten.com
SUMMARY:The Village Tavern Bar
DESCRIPTION:Enjoy live entertainment and sports on big screens at our bar located upstairs in Maho Village. Late-night pub fare served from 10:00 PM – 12:30 AM.
URL:https://sonestastmaarten.com/event/the-village-tavern-bar/2025-12-09/
LOCATION:The Village Tavern\, Sint Maarten
CATEGORIES:MB Dining Hours
ATTACH;FMTTYPE=image/png:https://sonestastmaarten.com/wp-content/uploads/village_tavern.png
END:VEVENT
BEGIN:VEVENT
DTSTART;TZID=America/Anguilla:20251210T070000
DTEND;TZID=America/Anguilla:20251210T110000
DTSTAMP:20260420T220804
CREATED:20250927T075923Z
LAST-MODIFIED:20251219T173214Z
UID:100100255-1765350000-1765364400@sonestastmaarten.com
SUMMARY:Ocean Terrace (Breakfast)
DESCRIPTION:Buffet breakfast with hot and cold dishes\, fresh fruits\, and a made-to-order omelet station.
URL:https://sonestastmaarten.com/event/ocean-terrace/2025-12-10/
LOCATION:Ocean Terrace
CATEGORIES:MB Dining Hours
ATTACH;FMTTYPE=image/png:https://sonestastmaarten.com/wp-content/uploads/ocean-terrace.png
END:VEVENT
BEGIN:VEVENT
DTSTART;TZID=America/Anguilla:20251210T070000
DTEND;TZID=America/Anguilla:20251210T190000
DTSTAMP:20260420T220804
CREATED:20250927T085420Z
LAST-MODIFIED:20251219T173229Z
UID:100101271-1765350000-1765393200@sonestastmaarten.com
SUMMARY:Maho Café
DESCRIPTION:Charming all-day café in the lobby with coffees\, herbal teas\, fresh pastries\, and sandwiches.
URL:https://sonestastmaarten.com/event/maho-cafe/2025-12-10/
LOCATION:Maho Cafe
CATEGORIES:MB Dining Hours
ATTACH;FMTTYPE=image/png:https://sonestastmaarten.com/wp-content/uploads/maho-cafe.png
END:VEVENT
BEGIN:VEVENT
DTSTART;TZID=America/Anguilla:20251210T100000
DTEND;TZID=America/Anguilla:20251210T180000
DTSTAMP:20260420T220804
CREATED:20250928T162047Z
LAST-MODIFIED:20251219T173248Z
UID:100101288-1765360800-1765389600@sonestastmaarten.com
SUMMARY:Oasis Pool Bar
DESCRIPTION:Swim-up bar at the signature pool with live entertainment and Teeny Tiki kids’ service area.
URL:https://sonestastmaarten.com/event/oasis-pool-bar/2025-12-10/
LOCATION:The Oasis Pool
CATEGORIES:MB Dining Hours
ATTACH;FMTTYPE=image/png:https://sonestastmaarten.com/wp-content/uploads/oasis-swim-up-bar.png
END:VEVENT
BEGIN:VEVENT
DTSTART;TZID=America/Anguilla:20251210T100000
DTEND;TZID=America/Anguilla:20251210T230000
DTSTAMP:20260420T220804
CREATED:20250928T162828Z
LAST-MODIFIED:20260103T161936Z
UID:100104293-1765360800-1765407600@sonestastmaarten.com
SUMMARY:The Palms Grill Bar
DESCRIPTION:Oceanfront bar adjacent to the beach and Waterfront Stage serving Caribbean cocktails\, beers\, wines\, and soft drinks.
URL:https://sonestastmaarten.com/event/the-palms-grill-bar/2025-12-10/
LOCATION:Palms Grill
CATEGORIES:MB Dining Hours
ATTACH;FMTTYPE=image/png:https://sonestastmaarten.com/wp-content/uploads/the-palms-grill.png
END:VEVENT
BEGIN:VEVENT
DTSTART;TZID=America/Anguilla:20251210T100000
DTEND;TZID=America/Anguilla:20251211T010000
DTSTAMP:20260420T220804
CREATED:20250928T162547Z
LAST-MODIFIED:20251219T173311Z
UID:100101322-1765360800-1765414800@sonestastmaarten.com
SUMMARY:Latitude Bar
DESCRIPTION:Lobby bar with live entertainment\, sports on big screens\, and slot machines for 24-hour gaming.
URL:https://sonestastmaarten.com/event/latitude-bar/2025-12-10/
LOCATION:The Latitude Lobby Bar\, Maho Beach Lobby
CATEGORIES:MB Dining Hours
ATTACH;FMTTYPE=image/png:https://sonestastmaarten.com/wp-content/uploads/latitude-bar.png
END:VEVENT
BEGIN:VEVENT
DTSTART;TZID=America/Anguilla:20251210T113000
DTEND;TZID=America/Anguilla:20251210T223000
DTSTAMP:20260420T220804
CREATED:20250927T090536Z
LAST-MODIFIED:20251219T173318Z
UID:100100265-1765366200-1765405800@sonestastmaarten.com
SUMMARY:Pizzeria Napoli
DESCRIPTION:Handcrafted\, made-to-order pizza slices hot from a traditional oven with fresh ingredients throughout the day.
URL:https://sonestastmaarten.com/event/pizzeria-napoli/2025-12-10/
LOCATION:Pizzeria Napoli
CATEGORIES:MB Dining Hours
ATTACH;FMTTYPE=image/png:https://sonestastmaarten.com/wp-content/uploads/pizzeria-napoli.png
END:VEVENT
BEGIN:VEVENT
DTSTART;TZID=America/Anguilla:20251210T120000
DTEND;TZID=America/Anguilla:20251210T160000
DTSTAMP:20260420T220804
CREATED:20250927T081051Z
LAST-MODIFIED:20260103T161919Z
UID:100100023-1765368000-1765382400@sonestastmaarten.com
SUMMARY:Palms Grill (Lunch)
DESCRIPTION:Oceanfront lunch with Caribbean grill specialties including jerk chicken\, BBQ ribs\, fresh catch of the day\, burgers\, and made-to-order pasta.
URL:https://sonestastmaarten.com/event/palms-grill/2025-12-10/
LOCATION:Palms Grill
CATEGORIES:MB Dining Hours
ATTACH;FMTTYPE=image/png:https://sonestastmaarten.com/wp-content/uploads/the-palms-grill.png
END:VEVENT
BEGIN:VEVENT
DTSTART;TZID=America/Anguilla:20251210T123000
DTEND;TZID=America/Anguilla:20251210T150000
DTSTAMP:20260420T220804
CREATED:20250927T080903Z
LAST-MODIFIED:20260103T161858Z
UID:100104326-1765369800-1765378800@sonestastmaarten.com
SUMMARY:Ocean Terrace (Lunch)
DESCRIPTION:Buffet lunch featuring soups\, salads\, a made-to-order pasta station\, and varied international options.
URL:https://sonestastmaarten.com/event/ocean-terrace-2/2025-12-10/
LOCATION:Ocean Terrace
CATEGORIES:MB Dining Hours
ATTACH;FMTTYPE=image/png:https://sonestastmaarten.com/wp-content/uploads/ocean-terrace.png
END:VEVENT
BEGIN:VEVENT
DTSTART;TZID=America/Anguilla:20251210T140000
DTEND;TZID=America/Anguilla:20251210T180000
DTSTAMP:20260420T220804
CREATED:20251117T093638Z
LAST-MODIFIED:20260205T194202Z
UID:100101374-1765375200-1765389600@sonestastmaarten.com
SUMMARY:Oasis Snack Shack
DESCRIPTION:Freshly cooked burgers and hotdogs served hot and delicious at Oasis Snack Shack
URL:https://sonestastmaarten.com/event/oasis-snack-shack-2/2025-12-10/
LOCATION:The Oasis Pool
CATEGORIES:MB Dining Hours
END:VEVENT
BEGIN:VEVENT
DTSTART;TZID=America/Anguilla:20251210T160000
DTEND;TZID=America/Anguilla:20251210T230000
DTSTAMP:20260420T220804
CREATED:20250928T164218Z
LAST-MODIFIED:20251117T091939Z
UID:100100285-1765382400-1765407600@sonestastmaarten.com
SUMMARY:La Fontana Bar
DESCRIPTION:Waterfront piazza bar on Via Maho near the famous gazebo overlooking Maho Bay\, serving refreshments\, frozen drinks\, cocktails\, and aperitivos.
URL:https://sonestastmaarten.com/event/la-fontana-bar/2025-12-10/
LOCATION:La Fontana Restaurant
CATEGORIES:MB Dining Hours
ATTACH;FMTTYPE=image/png:https://sonestastmaarten.com/wp-content/uploads/la-fontana.png
END:VEVENT
BEGIN:VEVENT
DTSTART;TZID=America/Anguilla:20251210T180000
DTEND;TZID=America/Anguilla:20251210T220000
DTSTAMP:20260420T220804
CREATED:20251128T203804Z
LAST-MODIFIED:20260417T145508Z
UID:100100395-1765389600-1765404000@sonestastmaarten.com
SUMMARY:La Fontana Restaurant
DESCRIPTION:Waterfront Italian restaurant on Via Maho featuring authentic specialties including homemade pasta\, carpaccio\, seafood dishes\, and Parmesan chicken.
URL:https://sonestastmaarten.com/event/la-fontana-2-2/2025-12-10/
LOCATION:La Fontana Restaurant
CATEGORIES:MB Dining Hours
ATTACH;FMTTYPE=image/png:https://sonestastmaarten.com/wp-content/uploads/la-fontana.png
END:VEVENT
BEGIN:VEVENT
DTSTART;TZID=America/Anguilla:20251210T180000
DTEND;TZID=America/Anguilla:20251211T010000
DTSTAMP:20260420T220804
CREATED:20251110T174757Z
LAST-MODIFIED:20260205T195025Z
UID:100100064-1765389600-1765414800@sonestastmaarten.com
SUMMARY:The Village Tavern Bar
DESCRIPTION:Enjoy live entertainment and sports on big screens at our bar located upstairs in Maho Village. Late-night pub fare served from 10:00 PM – 12:30 AM.
URL:https://sonestastmaarten.com/event/the-village-tavern-bar/2025-12-10/
LOCATION:The Village Tavern\, Sint Maarten
CATEGORIES:MB Dining Hours
ATTACH;FMTTYPE=image/png:https://sonestastmaarten.com/wp-content/uploads/village_tavern.png
END:VEVENT
BEGIN:VEVENT
DTSTART;TZID=America/Anguilla:20251211T070000
DTEND;TZID=America/Anguilla:20251211T110000
DTSTAMP:20260420T220804
CREATED:20250927T075923Z
LAST-MODIFIED:20251219T173214Z
UID:100100705-1765436400-1765450800@sonestastmaarten.com
SUMMARY:Ocean Terrace (Breakfast)
DESCRIPTION:Buffet breakfast with hot and cold dishes\, fresh fruits\, and a made-to-order omelet station.
URL:https://sonestastmaarten.com/event/ocean-terrace/2025-12-11/
LOCATION:Ocean Terrace
CATEGORIES:MB Dining Hours
ATTACH;FMTTYPE=image/png:https://sonestastmaarten.com/wp-content/uploads/ocean-terrace.png
END:VEVENT
BEGIN:VEVENT
DTSTART;TZID=America/Anguilla:20251211T070000
DTEND;TZID=America/Anguilla:20251211T190000
DTSTAMP:20260420T220804
CREATED:20250927T085420Z
LAST-MODIFIED:20251219T173229Z
UID:100101272-1765436400-1765479600@sonestastmaarten.com
SUMMARY:Maho Café
DESCRIPTION:Charming all-day café in the lobby with coffees\, herbal teas\, fresh pastries\, and sandwiches.
URL:https://sonestastmaarten.com/event/maho-cafe/2025-12-11/
LOCATION:Maho Cafe
CATEGORIES:MB Dining Hours
ATTACH;FMTTYPE=image/png:https://sonestastmaarten.com/wp-content/uploads/maho-cafe.png
END:VEVENT
BEGIN:VEVENT
DTSTART;TZID=America/Anguilla:20251211T100000
DTEND;TZID=America/Anguilla:20251211T180000
DTSTAMP:20260420T220804
CREATED:20250928T162047Z
LAST-MODIFIED:20251219T173248Z
UID:100101289-1765447200-1765476000@sonestastmaarten.com
SUMMARY:Oasis Pool Bar
DESCRIPTION:Swim-up bar at the signature pool with live entertainment and Teeny Tiki kids’ service area.
URL:https://sonestastmaarten.com/event/oasis-pool-bar/2025-12-11/
LOCATION:The Oasis Pool
CATEGORIES:MB Dining Hours
ATTACH;FMTTYPE=image/png:https://sonestastmaarten.com/wp-content/uploads/oasis-swim-up-bar.png
END:VEVENT
BEGIN:VEVENT
DTSTART;TZID=America/Anguilla:20251211T100000
DTEND;TZID=America/Anguilla:20251211T230000
DTSTAMP:20260420T220804
CREATED:20250928T162828Z
LAST-MODIFIED:20260103T161936Z
UID:100104294-1765447200-1765494000@sonestastmaarten.com
SUMMARY:The Palms Grill Bar
DESCRIPTION:Oceanfront bar adjacent to the beach and Waterfront Stage serving Caribbean cocktails\, beers\, wines\, and soft drinks.
URL:https://sonestastmaarten.com/event/the-palms-grill-bar/2025-12-11/
LOCATION:Palms Grill
CATEGORIES:MB Dining Hours
ATTACH;FMTTYPE=image/png:https://sonestastmaarten.com/wp-content/uploads/the-palms-grill.png
END:VEVENT
BEGIN:VEVENT
DTSTART;TZID=America/Anguilla:20251211T100000
DTEND;TZID=America/Anguilla:20251212T010000
DTSTAMP:20260420T220804
CREATED:20250928T162547Z
LAST-MODIFIED:20251219T173311Z
UID:100101323-1765447200-1765501200@sonestastmaarten.com
SUMMARY:Latitude Bar
DESCRIPTION:Lobby bar with live entertainment\, sports on big screens\, and slot machines for 24-hour gaming.
URL:https://sonestastmaarten.com/event/latitude-bar/2025-12-11/
LOCATION:The Latitude Lobby Bar\, Maho Beach Lobby
CATEGORIES:MB Dining Hours
ATTACH;FMTTYPE=image/png:https://sonestastmaarten.com/wp-content/uploads/latitude-bar.png
END:VEVENT
BEGIN:VEVENT
DTSTART;TZID=America/Anguilla:20251211T113000
DTEND;TZID=America/Anguilla:20251211T223000
DTSTAMP:20260420T220804
CREATED:20250927T090536Z
LAST-MODIFIED:20251219T173318Z
UID:100100707-1765452600-1765492200@sonestastmaarten.com
SUMMARY:Pizzeria Napoli
DESCRIPTION:Handcrafted\, made-to-order pizza slices hot from a traditional oven with fresh ingredients throughout the day.
URL:https://sonestastmaarten.com/event/pizzeria-napoli/2025-12-11/
LOCATION:Pizzeria Napoli
CATEGORIES:MB Dining Hours
ATTACH;FMTTYPE=image/png:https://sonestastmaarten.com/wp-content/uploads/pizzeria-napoli.png
END:VEVENT
BEGIN:VEVENT
DTSTART;TZID=America/Anguilla:20251211T120000
DTEND;TZID=America/Anguilla:20251211T160000
DTSTAMP:20260420T220804
CREATED:20250927T081051Z
LAST-MODIFIED:20260103T161919Z
UID:100100709-1765454400-1765468800@sonestastmaarten.com
SUMMARY:Palms Grill (Lunch)
DESCRIPTION:Oceanfront lunch with Caribbean grill specialties including jerk chicken\, BBQ ribs\, fresh catch of the day\, burgers\, and made-to-order pasta.
URL:https://sonestastmaarten.com/event/palms-grill/2025-12-11/
LOCATION:Palms Grill
CATEGORIES:MB Dining Hours
ATTACH;FMTTYPE=image/png:https://sonestastmaarten.com/wp-content/uploads/the-palms-grill.png
END:VEVENT
BEGIN:VEVENT
DTSTART;TZID=America/Anguilla:20251211T123000
DTEND;TZID=America/Anguilla:20251211T150000
DTSTAMP:20260420T220804
CREATED:20250927T080903Z
LAST-MODIFIED:20260103T161858Z
UID:100101140-1765456200-1765465200@sonestastmaarten.com
SUMMARY:Ocean Terrace (Lunch)
DESCRIPTION:Buffet lunch featuring soups\, salads\, a made-to-order pasta station\, and varied international options.
URL:https://sonestastmaarten.com/event/ocean-terrace-2/2025-12-11/
LOCATION:Ocean Terrace
CATEGORIES:MB Dining Hours
ATTACH;FMTTYPE=image/png:https://sonestastmaarten.com/wp-content/uploads/ocean-terrace.png
END:VEVENT
BEGIN:VEVENT
DTSTART;TZID=America/Anguilla:20251211T140000
DTEND;TZID=America/Anguilla:20251211T180000
DTSTAMP:20260420T220804
CREATED:20251117T093638Z
LAST-MODIFIED:20260205T194202Z
UID:100101375-1765461600-1765476000@sonestastmaarten.com
SUMMARY:Oasis Snack Shack
DESCRIPTION:Freshly cooked burgers and hotdogs served hot and delicious at Oasis Snack Shack
URL:https://sonestastmaarten.com/event/oasis-snack-shack-2/2025-12-11/
LOCATION:The Oasis Pool
CATEGORIES:MB Dining Hours
END:VEVENT
BEGIN:VEVENT
DTSTART;TZID=America/Anguilla:20251211T160000
DTEND;TZID=America/Anguilla:20251211T230000
DTSTAMP:20260420T220804
CREATED:20250928T164218Z
LAST-MODIFIED:20251117T091939Z
UID:100100870-1765468800-1765494000@sonestastmaarten.com
SUMMARY:La Fontana Bar
DESCRIPTION:Waterfront piazza bar on Via Maho near the famous gazebo overlooking Maho Bay\, serving refreshments\, frozen drinks\, cocktails\, and aperitivos.
URL:https://sonestastmaarten.com/event/la-fontana-bar/2025-12-11/
LOCATION:La Fontana Restaurant
CATEGORIES:MB Dining Hours
ATTACH;FMTTYPE=image/png:https://sonestastmaarten.com/wp-content/uploads/la-fontana.png
END:VEVENT
BEGIN:VEVENT
DTSTART;TZID=America/Anguilla:20251211T180000
DTEND;TZID=America/Anguilla:20251211T220000
DTSTAMP:20260420T220804
CREATED:20250927T083224Z
LAST-MODIFIED:20260103T161644Z
UID:100101429-1765476000-1765490400@sonestastmaarten.com
SUMMARY:The Village Tavern
DESCRIPTION:Pub upstairs in Maho Village serving à la carte fare with sports on HD TVs and live entertainment with karaoke.
URL:https://sonestastmaarten.com/event/the-village-tavern/2025-12-11/
LOCATION:The Village Tavern\, Sint Maarten
CATEGORIES:MB Dining Hours
ATTACH;FMTTYPE=image/png:https://sonestastmaarten.com/wp-content/uploads/village_tavern.png
END:VEVENT
BEGIN:VEVENT
DTSTART;TZID=America/Anguilla:20251211T180000
DTEND;TZID=America/Anguilla:20251211T220000
DTSTAMP:20260420T220804
CREATED:20251112T205651Z
LAST-MODIFIED:20260205T194701Z
UID:100101108-1765476000-1765490400@sonestastmaarten.com
SUMMARY:Ocean Terrace (Caribbean Theme Dinner)
DESCRIPTION:Buffet dinner with tonight’s culinary theme Caribbean!
URL:https://sonestastmaarten.com/event/ocean-terrace-caribbean-theme-dinner/2025-12-11/
LOCATION:Ocean Terrace
CATEGORIES:MB Dining Hours
ATTACH;FMTTYPE=image/png:https://sonestastmaarten.com/wp-content/uploads/ocean-terrace.png
END:VEVENT
BEGIN:VEVENT
DTSTART;TZID=America/Anguilla:20251211T180000
DTEND;TZID=America/Anguilla:20251211T220000
DTSTAMP:20260420T220804
CREATED:20251128T203714Z
LAST-MODIFIED:20260417T145520Z
UID:100100837-1765476000-1765490400@sonestastmaarten.com
SUMMARY:Cantina Paradiso
DESCRIPTION:Oceanfront Mexican dining venue at The Palms by evening\, featuring authentic dishes including tacos\, enchiladas\, fresh seafood\, and a hot & cold buffet selection.
URL:https://sonestastmaarten.com/event/cantina-paradiso-2-2-2/2025-12-11/
LOCATION:Palms Grill
CATEGORIES:MB Dining Hours
ATTACH;FMTTYPE=image/png:https://sonestastmaarten.com/wp-content/uploads/cantina-paradiso.png
END:VEVENT
BEGIN:VEVENT
DTSTART;TZID=America/Anguilla:20251211T180000
DTEND;TZID=America/Anguilla:20251211T220000
DTSTAMP:20260420T220804
CREATED:20251128T203804Z
LAST-MODIFIED:20260417T145508Z
UID:100106599-1765476000-1765490400@sonestastmaarten.com
SUMMARY:La Fontana Restaurant
DESCRIPTION:Waterfront Italian restaurant on Via Maho featuring authentic specialties including homemade pasta\, carpaccio\, seafood dishes\, and Parmesan chicken.
URL:https://sonestastmaarten.com/event/la-fontana-2-2/2025-12-11/
LOCATION:La Fontana Restaurant
CATEGORIES:MB Dining Hours
ATTACH;FMTTYPE=image/png:https://sonestastmaarten.com/wp-content/uploads/la-fontana.png
END:VEVENT
BEGIN:VEVENT
DTSTART;TZID=America/Anguilla:20251211T180000
DTEND;TZID=America/Anguilla:20251212T010000
DTSTAMP:20260420T220804
CREATED:20251110T174757Z
LAST-MODIFIED:20260205T195025Z
UID:100100773-1765476000-1765501200@sonestastmaarten.com
SUMMARY:The Village Tavern Bar
DESCRIPTION:Enjoy live entertainment and sports on big screens at our bar located upstairs in Maho Village. Late-night pub fare served from 10:00 PM – 12:30 AM.
URL:https://sonestastmaarten.com/event/the-village-tavern-bar/2025-12-11/
LOCATION:The Village Tavern\, Sint Maarten
CATEGORIES:MB Dining Hours
ATTACH;FMTTYPE=image/png:https://sonestastmaarten.com/wp-content/uploads/village_tavern.png
END:VEVENT
END:VCALENDAR