BEGIN:VCALENDAR
VERSION:2.0
PRODID:-//Sonesta Resorts Sint Maarten - ECPv6.15.17.1//NONSGML v1.0//EN
CALSCALE:GREGORIAN
METHOD:PUBLISH
X-ORIGINAL-URL:https://sonestastmaarten.com
X-WR-CALDESC:Events for Sonesta Resorts Sint Maarten
REFRESH-INTERVAL;VALUE=DURATION:PT1H
X-Robots-Tag:noindex
X-PUBLISHED-TTL:PT1H
BEGIN:VTIMEZONE
TZID:America/Anguilla
BEGIN:STANDARD
TZOFFSETFROM:-0400
TZOFFSETTO:-0400
TZNAME:AST
DTSTART:20260101T000000
END:STANDARD
END:VTIMEZONE
BEGIN:VEVENT
DTSTART;VALUE=DATE:20271205
DTEND;VALUE=DATE:20271207
DTSTAMP:20260419T193402
CREATED:20251023T074705Z
LAST-MODIFIED:20260402T143114Z
UID:100116573-1827968400-1828054799@sonestastmaarten.com
SUMMARY:Table Tennis
DESCRIPTION:Serve up some fun with ping pong! All equipment provided for competitive matches or casual rallies.
URL:https://sonestastmaarten.com/event/table-tennis-2/2027-12-05/
LOCATION:Outside Sonesta Kids Crew
CATEGORIES:Maho Beach Resort
ATTACH;FMTTYPE=image/jpeg:https://sonestastmaarten.com/wp-content/uploads/table-tennis.jpg
END:VEVENT
BEGIN:VEVENT
DTSTART;VALUE=DATE:20271206
DTEND;VALUE=DATE:20271208
DTSTAMP:20260419T193402
CREATED:20251023T074705Z
LAST-MODIFIED:20260402T143114Z
UID:100116574-1828054800-1828141199@sonestastmaarten.com
SUMMARY:Table Tennis
DESCRIPTION:Serve up some fun with ping pong! All equipment provided for competitive matches or casual rallies.
URL:https://sonestastmaarten.com/event/table-tennis-2/2027-12-06/
LOCATION:Outside Sonesta Kids Crew
CATEGORIES:Maho Beach Resort
ATTACH;FMTTYPE=image/jpeg:https://sonestastmaarten.com/wp-content/uploads/table-tennis.jpg
END:VEVENT
BEGIN:VEVENT
DTSTART;VALUE=DATE:20271207
DTEND;VALUE=DATE:20271209
DTSTAMP:20260419T193402
CREATED:20251023T074705Z
LAST-MODIFIED:20260402T143114Z
UID:100116575-1828141200-1828227599@sonestastmaarten.com
SUMMARY:Table Tennis
DESCRIPTION:Serve up some fun with ping pong! All equipment provided for competitive matches or casual rallies.
URL:https://sonestastmaarten.com/event/table-tennis-2/2027-12-07/
LOCATION:Outside Sonesta Kids Crew
CATEGORIES:Maho Beach Resort
ATTACH;FMTTYPE=image/jpeg:https://sonestastmaarten.com/wp-content/uploads/table-tennis.jpg
END:VEVENT
BEGIN:VEVENT
DTSTART;VALUE=DATE:20271208
DTEND;VALUE=DATE:20271210
DTSTAMP:20260419T193402
CREATED:20251023T074705Z
LAST-MODIFIED:20260402T143114Z
UID:100116576-1828227600-1828313999@sonestastmaarten.com
SUMMARY:Table Tennis
DESCRIPTION:Serve up some fun with ping pong! All equipment provided for competitive matches or casual rallies.
URL:https://sonestastmaarten.com/event/table-tennis-2/2027-12-08/
LOCATION:Outside Sonesta Kids Crew
CATEGORIES:Maho Beach Resort
ATTACH;FMTTYPE=image/jpeg:https://sonestastmaarten.com/wp-content/uploads/table-tennis.jpg
END:VEVENT
BEGIN:VEVENT
DTSTART;VALUE=DATE:20271209
DTEND;VALUE=DATE:20271211
DTSTAMP:20260419T193402
CREATED:20251023T074705Z
LAST-MODIFIED:20260402T143114Z
UID:100116577-1828314000-1828400399@sonestastmaarten.com
SUMMARY:Table Tennis
DESCRIPTION:Serve up some fun with ping pong! All equipment provided for competitive matches or casual rallies.
URL:https://sonestastmaarten.com/event/table-tennis-2/2027-12-09/
LOCATION:Outside Sonesta Kids Crew
CATEGORIES:Maho Beach Resort
ATTACH;FMTTYPE=image/jpeg:https://sonestastmaarten.com/wp-content/uploads/table-tennis.jpg
END:VEVENT
BEGIN:VEVENT
DTSTART;TZID=America/Anguilla:20271209T143000
DTEND;TZID=America/Anguilla:20271209T150000
DTSTAMP:20260419T193402
CREATED:20260201T190212Z
LAST-MODIFIED:20260412T161519Z
UID:100117892-1828362600-1828364400@sonestastmaarten.com
SUMMARY:Throwback Line Dances
DESCRIPTION:A fun\, high-energy dance session featuring classic line dances from past decades. Easy to follow\, crowd-friendly\, and perfect for getting everyone on the dance floor
URL:https://sonestastmaarten.com/event/throwback-line-dances/2027-12-09/
LOCATION:The Oasis Pool
CATEGORIES:Maho Beach Resort
ATTACH;FMTTYPE=image/jpeg:https://sonestastmaarten.com/wp-content/uploads/maho-beach-exterior-day.jpg
END:VEVENT
BEGIN:VEVENT
DTSTART;VALUE=DATE:20271210
DTEND;VALUE=DATE:20271212
DTSTAMP:20260419T193402
CREATED:20251023T074705Z
LAST-MODIFIED:20260402T143114Z
UID:100116578-1828400400-1828486799@sonestastmaarten.com
SUMMARY:Table Tennis
DESCRIPTION:Serve up some fun with ping pong! All equipment provided for competitive matches or casual rallies.
URL:https://sonestastmaarten.com/event/table-tennis-2/2027-12-10/
LOCATION:Outside Sonesta Kids Crew
CATEGORIES:Maho Beach Resort
ATTACH;FMTTYPE=image/jpeg:https://sonestastmaarten.com/wp-content/uploads/table-tennis.jpg
END:VEVENT
BEGIN:VEVENT
DTSTART;TZID=America/Anguilla:20271210T203000
DTEND;TZID=America/Anguilla:20271210T223000
DTSTAMP:20260419T193402
CREATED:20250819T113705Z
LAST-MODIFIED:20260412T161230Z
UID:100117785-1828470600-1828477800@sonestastmaarten.com
SUMMARY:White Hot Dance Party with DJ Spin
DESCRIPTION:Get ready for the ultimate all-white party under the stars! Dress to impress in your best white attire and dance the night away as DJ Spin brings the hottest beats.
URL:https://sonestastmaarten.com/event/dance-party/2027-12-10/
LOCATION:The Piazza at La Fontana
CATEGORIES:Maho Beach Resort,Ocean Point Resort
ATTACH;FMTTYPE=image/png:https://sonestastmaarten.com/wp-content/uploads/White-Hot-Dacne-Party.png
END:VEVENT
BEGIN:VEVENT
DTSTART;VALUE=DATE:20271211
DTEND;VALUE=DATE:20271213
DTSTAMP:20260419T193402
CREATED:20251023T074705Z
LAST-MODIFIED:20260402T143114Z
UID:100116579-1828486800-1828573199@sonestastmaarten.com
SUMMARY:Table Tennis
DESCRIPTION:Serve up some fun with ping pong! All equipment provided for competitive matches or casual rallies.
URL:https://sonestastmaarten.com/event/table-tennis-2/2027-12-11/
LOCATION:Outside Sonesta Kids Crew
CATEGORIES:Maho Beach Resort
ATTACH;FMTTYPE=image/jpeg:https://sonestastmaarten.com/wp-content/uploads/table-tennis.jpg
END:VEVENT
BEGIN:VEVENT
DTSTART;VALUE=DATE:20271212
DTEND;VALUE=DATE:20271214
DTSTAMP:20260419T193402
CREATED:20251023T074705Z
LAST-MODIFIED:20260402T143114Z
UID:100116580-1828573200-1828659599@sonestastmaarten.com
SUMMARY:Table Tennis
DESCRIPTION:Serve up some fun with ping pong! All equipment provided for competitive matches or casual rallies.
URL:https://sonestastmaarten.com/event/table-tennis-2/2027-12-12/
LOCATION:Outside Sonesta Kids Crew
CATEGORIES:Maho Beach Resort
ATTACH;FMTTYPE=image/jpeg:https://sonestastmaarten.com/wp-content/uploads/table-tennis.jpg
END:VEVENT
END:VCALENDAR