BEGIN:VCALENDAR
VERSION:2.0
PRODID:-//Sonesta Resorts Sint Maarten - ECPv6.15.17.1//NONSGML v1.0//EN
CALSCALE:GREGORIAN
METHOD:PUBLISH
X-WR-CALNAME:Sonesta Resorts Sint Maarten
X-ORIGINAL-URL:https://sonestastmaarten.com
X-WR-CALDESC:Events for Sonesta Resorts Sint Maarten
REFRESH-INTERVAL;VALUE=DURATION:PT1H
X-Robots-Tag:noindex
X-PUBLISHED-TTL:PT1H
BEGIN:VTIMEZONE
TZID:America/Anguilla
BEGIN:STANDARD
TZOFFSETFROM:-0400
TZOFFSETTO:-0400
TZNAME:AST
DTSTART:20260101T000000
END:STANDARD
END:VTIMEZONE
BEGIN:VEVENT
DTSTART;VALUE=DATE:20271031
DTEND;VALUE=DATE:20271102
DTSTAMP:20260419T181940
CREATED:20251023T074705Z
LAST-MODIFIED:20260402T143114Z
UID:100116538-1824944400-1825030799@sonestastmaarten.com
SUMMARY:Table Tennis
DESCRIPTION:Serve up some fun with ping pong! All equipment provided for competitive matches or casual rallies.
URL:https://sonestastmaarten.com/event/table-tennis-2/2027-10-31/
LOCATION:Outside Sonesta Kids Crew
CATEGORIES:Maho Beach Resort
ATTACH;FMTTYPE=image/jpeg:https://sonestastmaarten.com/wp-content/uploads/table-tennis.jpg
END:VEVENT
BEGIN:VEVENT
DTSTART;VALUE=DATE:20271101
DTEND;VALUE=DATE:20271103
DTSTAMP:20260419T181940
CREATED:20251023T074705Z
LAST-MODIFIED:20260402T143114Z
UID:100116539-1825030800-1825117199@sonestastmaarten.com
SUMMARY:Table Tennis
DESCRIPTION:Serve up some fun with ping pong! All equipment provided for competitive matches or casual rallies.
URL:https://sonestastmaarten.com/event/table-tennis-2/2027-11-01/
LOCATION:Outside Sonesta Kids Crew
CATEGORIES:Maho Beach Resort
ATTACH;FMTTYPE=image/jpeg:https://sonestastmaarten.com/wp-content/uploads/table-tennis.jpg
END:VEVENT
BEGIN:VEVENT
DTSTART;VALUE=DATE:20271102
DTEND;VALUE=DATE:20271104
DTSTAMP:20260419T181940
CREATED:20251023T074705Z
LAST-MODIFIED:20260402T143114Z
UID:100116540-1825117200-1825203599@sonestastmaarten.com
SUMMARY:Table Tennis
DESCRIPTION:Serve up some fun with ping pong! All equipment provided for competitive matches or casual rallies.
URL:https://sonestastmaarten.com/event/table-tennis-2/2027-11-02/
LOCATION:Outside Sonesta Kids Crew
CATEGORIES:Maho Beach Resort
ATTACH;FMTTYPE=image/jpeg:https://sonestastmaarten.com/wp-content/uploads/table-tennis.jpg
END:VEVENT
BEGIN:VEVENT
DTSTART;VALUE=DATE:20271103
DTEND;VALUE=DATE:20271105
DTSTAMP:20260419T181940
CREATED:20251023T074705Z
LAST-MODIFIED:20260402T143114Z
UID:100116541-1825203600-1825289999@sonestastmaarten.com
SUMMARY:Table Tennis
DESCRIPTION:Serve up some fun with ping pong! All equipment provided for competitive matches or casual rallies.
URL:https://sonestastmaarten.com/event/table-tennis-2/2027-11-03/
LOCATION:Outside Sonesta Kids Crew
CATEGORIES:Maho Beach Resort
ATTACH;FMTTYPE=image/jpeg:https://sonestastmaarten.com/wp-content/uploads/table-tennis.jpg
END:VEVENT
BEGIN:VEVENT
DTSTART;VALUE=DATE:20271104
DTEND;VALUE=DATE:20271106
DTSTAMP:20260419T181940
CREATED:20251023T074705Z
LAST-MODIFIED:20260402T143114Z
UID:100116542-1825290000-1825376399@sonestastmaarten.com
SUMMARY:Table Tennis
DESCRIPTION:Serve up some fun with ping pong! All equipment provided for competitive matches or casual rallies.
URL:https://sonestastmaarten.com/event/table-tennis-2/2027-11-04/
LOCATION:Outside Sonesta Kids Crew
CATEGORIES:Maho Beach Resort
ATTACH;FMTTYPE=image/jpeg:https://sonestastmaarten.com/wp-content/uploads/table-tennis.jpg
END:VEVENT
BEGIN:VEVENT
DTSTART;TZID=America/Anguilla:20271104T143000
DTEND;TZID=America/Anguilla:20271104T150000
DTSTAMP:20260419T181940
CREATED:20260201T190212Z
LAST-MODIFIED:20260412T161519Z
UID:100117887-1825338600-1825340400@sonestastmaarten.com
SUMMARY:Throwback Line Dances
DESCRIPTION:A fun\, high-energy dance session featuring classic line dances from past decades. Easy to follow\, crowd-friendly\, and perfect for getting everyone on the dance floor
URL:https://sonestastmaarten.com/event/throwback-line-dances/2027-11-04/
LOCATION:The Oasis Pool
CATEGORIES:Maho Beach Resort
ATTACH;FMTTYPE=image/jpeg:https://sonestastmaarten.com/wp-content/uploads/maho-beach-exterior-day.jpg
END:VEVENT
BEGIN:VEVENT
DTSTART;VALUE=DATE:20271105
DTEND;VALUE=DATE:20271107
DTSTAMP:20260419T181940
CREATED:20251023T074705Z
LAST-MODIFIED:20260402T143114Z
UID:100116543-1825376400-1825462799@sonestastmaarten.com
SUMMARY:Table Tennis
DESCRIPTION:Serve up some fun with ping pong! All equipment provided for competitive matches or casual rallies.
URL:https://sonestastmaarten.com/event/table-tennis-2/2027-11-05/
LOCATION:Outside Sonesta Kids Crew
CATEGORIES:Maho Beach Resort
ATTACH;FMTTYPE=image/jpeg:https://sonestastmaarten.com/wp-content/uploads/table-tennis.jpg
END:VEVENT
BEGIN:VEVENT
DTSTART;TZID=America/Anguilla:20271105T203000
DTEND;TZID=America/Anguilla:20271105T223000
DTSTAMP:20260419T181940
CREATED:20250819T113705Z
LAST-MODIFIED:20260412T161230Z
UID:100117780-1825446600-1825453800@sonestastmaarten.com
SUMMARY:White Hot Dance Party with DJ Spin
DESCRIPTION:Get ready for the ultimate all-white party under the stars! Dress to impress in your best white attire and dance the night away as DJ Spin brings the hottest beats.
URL:https://sonestastmaarten.com/event/dance-party/2027-11-05/
LOCATION:The Piazza at La Fontana
CATEGORIES:Maho Beach Resort,Ocean Point Resort
ATTACH;FMTTYPE=image/png:https://sonestastmaarten.com/wp-content/uploads/White-Hot-Dacne-Party.png
END:VEVENT
BEGIN:VEVENT
DTSTART;VALUE=DATE:20271106
DTEND;VALUE=DATE:20271108
DTSTAMP:20260419T181940
CREATED:20251023T074705Z
LAST-MODIFIED:20260402T143114Z
UID:100116544-1825462800-1825549199@sonestastmaarten.com
SUMMARY:Table Tennis
DESCRIPTION:Serve up some fun with ping pong! All equipment provided for competitive matches or casual rallies.
URL:https://sonestastmaarten.com/event/table-tennis-2/2027-11-06/
LOCATION:Outside Sonesta Kids Crew
CATEGORIES:Maho Beach Resort
ATTACH;FMTTYPE=image/jpeg:https://sonestastmaarten.com/wp-content/uploads/table-tennis.jpg
END:VEVENT
BEGIN:VEVENT
DTSTART;VALUE=DATE:20271107
DTEND;VALUE=DATE:20271109
DTSTAMP:20260419T181940
CREATED:20251023T074705Z
LAST-MODIFIED:20260402T143114Z
UID:100116545-1825549200-1825635599@sonestastmaarten.com
SUMMARY:Table Tennis
DESCRIPTION:Serve up some fun with ping pong! All equipment provided for competitive matches or casual rallies.
URL:https://sonestastmaarten.com/event/table-tennis-2/2027-11-07/
LOCATION:Outside Sonesta Kids Crew
CATEGORIES:Maho Beach Resort
ATTACH;FMTTYPE=image/jpeg:https://sonestastmaarten.com/wp-content/uploads/table-tennis.jpg
END:VEVENT
END:VCALENDAR