BEGIN:VCALENDAR
VERSION:2.0
PRODID:-//Sonesta Resorts Sint Maarten - ECPv6.15.17.1//NONSGML v1.0//EN
CALSCALE:GREGORIAN
METHOD:PUBLISH
X-WR-CALNAME:Sonesta Resorts Sint Maarten
X-ORIGINAL-URL:https://sonestastmaarten.com
X-WR-CALDESC:Events for Sonesta Resorts Sint Maarten
REFRESH-INTERVAL;VALUE=DURATION:PT1H
X-Robots-Tag:noindex
X-PUBLISHED-TTL:PT1H
BEGIN:VTIMEZONE
TZID:America/Anguilla
BEGIN:STANDARD
TZOFFSETFROM:-0400
TZOFFSETTO:-0400
TZNAME:AST
DTSTART:20260101T000000
END:STANDARD
END:VTIMEZONE
BEGIN:VEVENT
DTSTART;TZID=America/Anguilla:20270206T213000
DTEND;TZID=America/Anguilla:20270207T003000
DTSTAMP:20260426T002325
CREATED:20260116T185430Z
LAST-MODIFIED:20260213T203507Z
UID:100110559-1801949400-1801960200@sonestastmaarten.com
SUMMARY:Live Music with Rodrigo & Jojo
DESCRIPTION:Serving satisfying a la carte pub fare in a relaxed setting\, join the fun with live music featuring talented local musicians as our bartenders keep the drinks flowing!
URL:https://sonestastmaarten.com/event/live-music-with-rodrigo-jojo-2/2027-02-06/
LOCATION:The Village Tavern\, Sint Maarten
CATEGORIES:Maho Beach Resort
ATTACH;FMTTYPE=image/jpeg:https://sonestastmaarten.com/wp-content/uploads/entertainment_casino_royale.jpg
END:VEVENT
BEGIN:VEVENT
DTSTART;VALUE=DATE:20270207
DTEND;VALUE=DATE:20270209
DTSTAMP:20260426T002325
CREATED:20251023T074705Z
LAST-MODIFIED:20260402T143114Z
UID:100116272-1801962000-1802048399@sonestastmaarten.com
SUMMARY:Table Tennis
DESCRIPTION:Serve up some fun with ping pong! All equipment provided for competitive matches or casual rallies.
URL:https://sonestastmaarten.com/event/table-tennis-2/2027-02-07/
LOCATION:Outside Sonesta Kids Crew
CATEGORIES:Maho Beach Resort
ATTACH;FMTTYPE=image/jpeg:https://sonestastmaarten.com/wp-content/uploads/table-tennis.jpg
END:VEVENT
BEGIN:VEVENT
DTSTART;TZID=America/Anguilla:20270207T113000
DTEND;TZID=America/Anguilla:20270207T120000
DTSTAMP:20260426T002325
CREATED:20250825T144954Z
LAST-MODIFIED:20260320T160936Z
UID:100114587-1801999800-1802001600@sonestastmaarten.com
SUMMARY:Trivia Challenge: Fresh Prince & Movie Quotes
DESCRIPTION:Test your knowledge of classic TV and cinema! From the Banks family antics in Bel-Air to iconic movie one-liners\, see how well you know your favorite quotes. Can you name the scene\, episode\, or film?
URL:https://sonestastmaarten.com/event/trivia-challenge-fresh-prince/2027-02-07/
LOCATION:The Oasis Pool
CATEGORIES:Maho Beach Resort
ATTACH;FMTTYPE=image/jpeg:https://sonestastmaarten.com/wp-content/uploads/oasis-pool.jpg
END:VEVENT
BEGIN:VEVENT
DTSTART;TZID=America/Anguilla:20270207T120000
DTEND;TZID=America/Anguilla:20270207T123000
DTSTAMP:20260426T002325
CREATED:20251109T200625Z
LAST-MODIFIED:20260213T203243Z
UID:100110454-1802001600-1802003400@sonestastmaarten.com
SUMMARY:Name That Tune
DESCRIPTION:Enjoy some fun under the sun! Join in the fun and partake in our mid-day activity Name That Tune…you may win a prize!
URL:https://sonestastmaarten.com/event/name-that-tune/2027-02-07/
LOCATION:The Oasis Pool
CATEGORIES:Maho Beach Resort
ATTACH;FMTTYPE=image/jpeg:https://sonestastmaarten.com/wp-content/uploads/maho-beach-exterior-day.jpg
END:VEVENT
BEGIN:VEVENT
DTSTART;TZID=America/Anguilla:20270207T134500
DTEND;TZID=America/Anguilla:20270207T143000
DTSTAMP:20260426T002325
CREATED:20250825T150545Z
LAST-MODIFIED:20260320T160949Z
UID:100114640-1802007900-1802010600@sonestastmaarten.com
SUMMARY:Crazy Game Segment
DESCRIPTION:Join our Hype Team! Every day and enjoy some Fun in the sun in and around the Oasis Pool for your favorite games
URL:https://sonestastmaarten.com/event/name-that-tune-2/2027-02-07/
LOCATION:The Oasis Pool
CATEGORIES:Maho Beach Resort
ATTACH;FMTTYPE=image/jpeg:https://sonestastmaarten.com/wp-content/uploads/oasis-pool.jpg
END:VEVENT
BEGIN:VEVENT
DTSTART;TZID=America/Anguilla:20270207T143000
DTEND;TZID=America/Anguilla:20270207T150000
DTSTAMP:20260426T002325
CREATED:20251109T201702Z
LAST-MODIFIED:20260213T203309Z
UID:100110506-1802010600-1802012400@sonestastmaarten.com
SUMMARY:Line Dance Class
DESCRIPTION:Join our Hype Team as we move and groove here at Sonesta Resort!
URL:https://sonestastmaarten.com/event/line-dance-class/2027-02-07/
LOCATION:The Oasis Pool
CATEGORIES:Maho Beach Resort
ATTACH;FMTTYPE=image/jpeg:https://sonestastmaarten.com/wp-content/uploads/maho-beach-exterior-day.jpg
END:VEVENT
BEGIN:VEVENT
DTSTART;TZID=America/Anguilla:20270207T150000
DTEND;TZID=America/Anguilla:20270207T170000
DTSTAMP:20260426T002325
CREATED:20250820T164236Z
LAST-MODIFIED:20260320T161010Z
UID:100114693-1802012400-1802019600@sonestastmaarten.com
SUMMARY:Poolside Live Music with Magic Singer
DESCRIPTION:Whether relaxing under the sun\, cocktail in hand\, or swimming in our pool\, our live music program featuring talented local musicians will fill your days with eclectic beats.
URL:https://sonestastmaarten.com/event/poolside-live-music-with-magic/2027-02-07/
LOCATION:The Oasis Pool
CATEGORIES:Maho Beach Resort
ATTACH;FMTTYPE=image/jpeg:https://sonestastmaarten.com/wp-content/uploads/entertainment_mb.jpg
END:VEVENT
BEGIN:VEVENT
DTSTART;TZID=America/Anguilla:20270207T203000
DTEND;TZID=America/Anguilla:20270207T213000
DTSTAMP:20260426T002325
CREATED:20250820T095754Z
LAST-MODIFIED:20260209T163909Z
UID:100109506-1802032200-1802035800@sonestastmaarten.com
SUMMARY:Family Fun Night with Funtopia
DESCRIPTION:Get ready for an amazing show! Funtopia brings colorful\, fun\, and exciting entertainment for all ages. Watch spectacular dancing statues\, hip-hop clowns\, fire dancers\, and more!
URL:https://sonestastmaarten.com/event/funtopia/2027-02-07/
LOCATION:The Waterfront Stage\, Sint Maarten
CATEGORIES:Maho Beach Resort,Ocean Point Resort
ATTACH;FMTTYPE=image/png:https://sonestastmaarten.com/wp-content/uploads/Family-Fun-logo.png
END:VEVENT
BEGIN:VEVENT
DTSTART;TZID=America/Anguilla:20270207T210000
DTEND;TZID=America/Anguilla:20270207T230000
DTSTAMP:20260426T002325
CREATED:20250820T164819Z
LAST-MODIFIED:20260320T160906Z
UID:100114534-1802034000-1802041200@sonestastmaarten.com
SUMMARY:Karaoke Night with Ebony
DESCRIPTION:It’s your turn to be the singing sensation you always knew you could be! Join us at the Latitude Bar and sing your heart out with your host!
URL:https://sonestastmaarten.com/event/karaoke-night-with-ebony-2/2027-02-07/
LOCATION:The Latitude Lobby Bar\, Maho Beach Lobby
CATEGORIES:Maho Beach Resort,Ocean Point Resort
ATTACH;FMTTYPE=image/jpeg:https://sonestastmaarten.com/wp-content/uploads/Karaoke-lifestyle-Scpl-Stk.jpg
END:VEVENT
BEGIN:VEVENT
DTSTART;TZID=America/Anguilla:20270207T213000
DTEND;TZID=America/Anguilla:20270208T003000
DTSTAMP:20260426T002325
CREATED:20260209T135349Z
LAST-MODIFIED:20260307T191001Z
UID:100112684-1802035800-1802046600@sonestastmaarten.com
SUMMARY:Live Music with Rodrigo & Inger
DESCRIPTION:Serving satisfying a la carte pub fare in a relaxed setting\, join the fun with live music featuring talented local musicians as our bartenders keep the drinks flowing!
URL:https://sonestastmaarten.com/event/live-music-with-rodrigo-inger-3/2027-02-07/
LOCATION:The Village Tavern\, Sint Maarten
CATEGORIES:Maho Beach Resort,Ocean Point Resort
ATTACH;FMTTYPE=image/jpeg:https://sonestastmaarten.com/wp-content/uploads/entertainment_casino_royale.jpg
END:VEVENT
BEGIN:VEVENT
DTSTART;VALUE=DATE:20270208
DTEND;VALUE=DATE:20270210
DTSTAMP:20260426T002325
CREATED:20251023T074705Z
LAST-MODIFIED:20260402T143114Z
UID:100116273-1802048400-1802134799@sonestastmaarten.com
SUMMARY:Table Tennis
DESCRIPTION:Serve up some fun with ping pong! All equipment provided for competitive matches or casual rallies.
URL:https://sonestastmaarten.com/event/table-tennis-2/2027-02-08/
LOCATION:Outside Sonesta Kids Crew
CATEGORIES:Maho Beach Resort
ATTACH;FMTTYPE=image/jpeg:https://sonestastmaarten.com/wp-content/uploads/table-tennis.jpg
END:VEVENT
BEGIN:VEVENT
DTSTART;TZID=America/Anguilla:20270208T113000
DTEND;TZID=America/Anguilla:20270208T120000
DTSTAMP:20260426T002325
CREATED:20250819T123233Z
LAST-MODIFIED:20260420T145618Z
UID:100118884-1802086200-1802088000@sonestastmaarten.com
SUMMARY:Trivia Challenge: Sports & Superhero
DESCRIPTION:Test your knowledge with Sports & Superhero Trivia! From famous athletes to legendary heroes\, see if you have what it takes to claim the trivia crown.
URL:https://sonestastmaarten.com/event/trivia-challenge-sports-superhero/2027-02-08/
LOCATION:The Oasis Pool
CATEGORIES:Maho Beach Resort
ATTACH;FMTTYPE=image/jpeg:https://sonestastmaarten.com/wp-content/uploads/maho-beach-exterior-day.jpg
END:VEVENT
BEGIN:VEVENT
DTSTART;TZID=America/Anguilla:20270208T120000
DTEND;TZID=America/Anguilla:20270208T123000
DTSTAMP:20260426T002325
CREATED:20250825T145800Z
LAST-MODIFIED:20260420T145630Z
UID:100118936-1802088000-1802089800@sonestastmaarten.com
SUMMARY:Flip Cup Contest
DESCRIPTION:Join us for a high-energy Flip Cup Contest! Gather your friends\, test your speed and coordination\, and see who can flip their cup the fastest!
URL:https://sonestastmaarten.com/event/flip-cup-contest/2027-02-08/
LOCATION:The Oasis Pool
CATEGORIES:Maho Beach Resort
ATTACH;FMTTYPE=image/jpeg:https://sonestastmaarten.com/wp-content/uploads/oasis-pool.jpg
END:VEVENT
BEGIN:VEVENT
DTSTART;TZID=America/Anguilla:20270208T134500
DTEND;TZID=America/Anguilla:20270208T141500
DTSTAMP:20260426T002325
CREATED:20250825T153006Z
LAST-MODIFIED:20260420T145642Z
UID:100118988-1802094300-1802096100@sonestastmaarten.com
SUMMARY:Belly Flop Contest
DESCRIPTION:Make a splash and show off your biggest\, boldest belly flops! Compete for laughs\, cheers\, and ultimate bragging rights as judges score on style\, splash\, and crowd reaction.
URL:https://sonestastmaarten.com/event/belly-flop-contest/2027-02-08/
LOCATION:The Oasis Pool
CATEGORIES:Maho Beach Resort
ATTACH;FMTTYPE=image/jpeg:https://sonestastmaarten.com/wp-content/uploads/maho-beach-exterior-day.jpg
END:VEVENT
BEGIN:VEVENT
DTSTART;TZID=America/Anguilla:20270208T150000
DTEND;TZID=America/Anguilla:20270208T170000
DTSTAMP:20260426T002325
CREATED:20251121T180619Z
LAST-MODIFIED:20260222T201932Z
UID:100111332-1802098800-1802106000@sonestastmaarten.com
SUMMARY:Poolside Steel Pan with Brendon
DESCRIPTION:Let the tropical rhythms wash over you poolside! Brendon brings authentic Caribbean steel pan music to life with captivating island beats that capture the true spirit of the Caribbean.
URL:https://sonestastmaarten.com/event/steel-pan-2/2027-02-08/
LOCATION:The Oasis Pool
CATEGORIES:Maho Beach Resort
ATTACH;FMTTYPE=image/jpeg:https://sonestastmaarten.com/wp-content/uploads/SXM_Entertainment_SteelPan.jpg
END:VEVENT
BEGIN:VEVENT
DTSTART;VALUE=DATE:20270209
DTEND;VALUE=DATE:20270211
DTSTAMP:20260426T002325
CREATED:20251023T074705Z
LAST-MODIFIED:20260402T143114Z
UID:100116274-1802134800-1802221199@sonestastmaarten.com
SUMMARY:Table Tennis
DESCRIPTION:Serve up some fun with ping pong! All equipment provided for competitive matches or casual rallies.
URL:https://sonestastmaarten.com/event/table-tennis-2/2027-02-09/
LOCATION:Outside Sonesta Kids Crew
CATEGORIES:Maho Beach Resort
ATTACH;FMTTYPE=image/jpeg:https://sonestastmaarten.com/wp-content/uploads/table-tennis.jpg
END:VEVENT
BEGIN:VEVENT
DTSTART;TZID=America/Anguilla:20270209T150000
DTEND;TZID=America/Anguilla:20270209T170000
DTSTAMP:20260426T002325
CREATED:20251121T180608Z
LAST-MODIFIED:20260213T202953Z
UID:100110195-1802185200-1802192400@sonestastmaarten.com
SUMMARY:Poolside Live Music with Jojo
DESCRIPTION:Whether relaxing under the sun\, cocktail in hand\, or swimming in our pool\, our live music program featuring talented local musicians will fill your days with eclectic beats.
URL:https://sonestastmaarten.com/event/poolside-live-music-with-jojo-3-2/2027-02-09/
LOCATION:The Oasis Pool
CATEGORIES:Maho Beach Resort
ATTACH;FMTTYPE=image/jpeg:https://sonestastmaarten.com/wp-content/uploads/MB_Entertainment-001.jpg
END:VEVENT
BEGIN:VEVENT
DTSTART;TZID=America/Anguilla:20270209T190000
DTEND;TZID=America/Anguilla:20270209T210000
DTSTAMP:20260426T002325
CREATED:20260116T185946Z
LAST-MODIFIED:20260326T151503Z
UID:100115462-1802199600-1802206800@sonestastmaarten.com
SUMMARY:Live Dinner Music with Alban The Guitarist
DESCRIPTION:Join us for a Dinner Music Performance that will serenade your senses and elevate your dining experience. Enjoy an unforgettable evening where cuisine and music dance in perfect harmony.
URL:https://sonestastmaarten.com/event/live-dinner-music-with-alban-the-guitarist-2/2027-02-09/
LOCATION:The Piazza at La Fontana
CATEGORIES:Maho Beach Resort,Ocean Point Resort
ATTACH;FMTTYPE=image/jpeg:https://sonestastmaarten.com/wp-content/uploads/MB_Entertainment-001.jpg
END:VEVENT
BEGIN:VEVENT
DTSTART;VALUE=DATE:20270210
DTEND;VALUE=DATE:20270212
DTSTAMP:20260426T002325
CREATED:20251023T074705Z
LAST-MODIFIED:20260402T143114Z
UID:100116275-1802221200-1802307599@sonestastmaarten.com
SUMMARY:Table Tennis
DESCRIPTION:Serve up some fun with ping pong! All equipment provided for competitive matches or casual rallies.
URL:https://sonestastmaarten.com/event/table-tennis-2/2027-02-10/
LOCATION:Outside Sonesta Kids Crew
CATEGORIES:Maho Beach Resort
ATTACH;FMTTYPE=image/jpeg:https://sonestastmaarten.com/wp-content/uploads/table-tennis.jpg
END:VEVENT
BEGIN:VEVENT
DTSTART;TZID=America/Anguilla:20270210T093000
DTEND;TZID=America/Anguilla:20270210T100000
DTSTAMP:20260426T002325
CREATED:20251228T160505Z
LAST-MODIFIED:20260412T155842Z
UID:100117626-1802251800-1802253600@sonestastmaarten.com
SUMMARY:Boot Camp
DESCRIPTION:A boot camp gym is an intense group workout focused on strength\, cardio\, and discipline.
URL:https://sonestastmaarten.com/event/pilates/2027-02-10/
LOCATION:The Waterfront Stage\, Sint Maarten
CATEGORIES:Maho Beach Resort,Ocean Point Resort
ATTACH;FMTTYPE=image/jpeg:https://sonestastmaarten.com/wp-content/uploads/morning-walk.jpg
END:VEVENT
BEGIN:VEVENT
DTSTART;TZID=America/Anguilla:20270210T113000
DTEND;TZID=America/Anguilla:20270210T120000
DTSTAMP:20260426T002325
CREATED:20251219T154812Z
LAST-MODIFIED:20260213T203102Z
UID:100110247-1802259000-1802260800@sonestastmaarten.com
SUMMARY:Trivia Challenge: TV Commercials & Actor's Trash Can
DESCRIPTION:Put your pop culture knowledge to the test! Guess the product\, actor\, or catchphrase as you toss answers into the trash can for a fun twist. Fast-paced and hilarious for all ages!
URL:https://sonestastmaarten.com/event/trivia-challenge-tv-commercials-2/2027-02-10/
LOCATION:The Oasis Pool
CATEGORIES:Maho Beach Resort
ATTACH;FMTTYPE=image/jpeg:https://sonestastmaarten.com/wp-content/uploads/oasis-pool.jpg
END:VEVENT
BEGIN:VEVENT
DTSTART;TZID=America/Anguilla:20270210T120000
DTEND;TZID=America/Anguilla:20270210T123000
DTSTAMP:20260426T002325
CREATED:20251219T154826Z
LAST-MODIFIED:20260213T203126Z
UID:100110299-1802260800-1802262600@sonestastmaarten.com
SUMMARY:Name That Tune: Guess That Song 2000's
DESCRIPTION:Step back in time and test your music knowledge with hits from the 2000’s!
URL:https://sonestastmaarten.com/event/name-that-tune-guess-that-song-2000s-2/2027-02-10/
LOCATION:The Oasis Pool
CATEGORIES:Maho Beach Resort
ATTACH;FMTTYPE=image/jpeg:https://sonestastmaarten.com/wp-content/uploads/oasis-pool.jpg
END:VEVENT
BEGIN:VEVENT
DTSTART;TZID=America/Anguilla:20270210T134500
DTEND;TZID=America/Anguilla:20270210T143000
DTSTAMP:20260426T002325
CREATED:20251219T155222Z
LAST-MODIFIED:20260213T203153Z
UID:100110351-1802267100-1802269800@sonestastmaarten.com
SUMMARY:Resort Scavenger Hunt
DESCRIPTION:Embark on an exciting Resort Scavenger Hunt! Explore the property\, follow the clues\, and complete fun challenges as you race to the finish.
URL:https://sonestastmaarten.com/event/resort-scavenger-hunt-3/2027-02-10/
LOCATION:The Oasis Pool
CATEGORIES:Maho Beach Resort
ATTACH;FMTTYPE=image/jpeg:https://sonestastmaarten.com/wp-content/uploads/oasis-pool.jpg
END:VEVENT
BEGIN:VEVENT
DTSTART;TZID=America/Anguilla:20270210T143000
DTEND;TZID=America/Anguilla:20270210T150000
DTSTAMP:20260426T002325
CREATED:20260212T150254Z
LAST-MODIFIED:20260307T190545Z
UID:100112526-1802269800-1802271600@sonestastmaarten.com
SUMMARY:Soca Dance Class
DESCRIPTION:Join our Hype Team as we teach you move and groove to the Soca music!
URL:https://sonestastmaarten.com/event/soca-dance-class-4-2/2027-02-10/
LOCATION:The Oasis Pool
CATEGORIES:Maho Beach Resort
ATTACH;FMTTYPE=image/jpeg:https://sonestastmaarten.com/wp-content/uploads/oasis-pool.jpg
END:VEVENT
BEGIN:VEVENT
DTSTART;VALUE=DATE:20270211
DTEND;VALUE=DATE:20270213
DTSTAMP:20260426T002325
CREATED:20251023T074705Z
LAST-MODIFIED:20260402T143114Z
UID:100116276-1802307600-1802393999@sonestastmaarten.com
SUMMARY:Table Tennis
DESCRIPTION:Serve up some fun with ping pong! All equipment provided for competitive matches or casual rallies.
URL:https://sonestastmaarten.com/event/table-tennis-2/2027-02-11/
LOCATION:Outside Sonesta Kids Crew
CATEGORIES:Maho Beach Resort
ATTACH;FMTTYPE=image/jpeg:https://sonestastmaarten.com/wp-content/uploads/table-tennis.jpg
END:VEVENT
BEGIN:VEVENT
DTSTART;TZID=America/Anguilla:20270211T113000
DTEND;TZID=America/Anguilla:20270211T120000
DTSTAMP:20260426T002325
CREATED:20251219T155414Z
LAST-MODIFIED:20260320T161458Z
UID:100114912-1802345400-1802347200@sonestastmaarten.com
SUMMARY:Trivia Challenge: 80's / 90's & 80's / 90's Movie Trivia
DESCRIPTION:A fun and interactive trivia experience featuring iconic movies and music from the 80s and 90s. Test your knowledge\, relive the classics\, and enjoy a nostalgic throwback to two unforgettable decades
URL:https://sonestastmaarten.com/event/name-that-tune-80-3/2027-02-11/
LOCATION:The Oasis Pool
CATEGORIES:Maho Beach Resort
ATTACH;FMTTYPE=image/jpeg:https://sonestastmaarten.com/wp-content/uploads/oasis-pool.jpg
END:VEVENT
BEGIN:VEVENT
DTSTART;TZID=America/Anguilla:20270211T120000
DTEND;TZID=America/Anguilla:20270211T123000
DTSTAMP:20260426T002325
CREATED:20251219T160844Z
LAST-MODIFIED:20260320T161521Z
UID:100114964-1802347200-1802349000@sonestastmaarten.com
SUMMARY:Name That Tune: 80's & 90's Music
DESCRIPTION:Think you know your 80s and 90s hits? Name That Tune challenges players to recognize iconic songs in seconds—sing along and relive the classics.
URL:https://sonestastmaarten.com/event/name-that-tune-80-2-2/2027-02-11/
LOCATION:The Oasis Pool
CATEGORIES:Maho Beach Resort
ATTACH;FMTTYPE=image/jpeg:https://sonestastmaarten.com/wp-content/uploads/maho-beach-exterior-day.jpg
END:VEVENT
BEGIN:VEVENT
DTSTART;TZID=America/Anguilla:20270211T143000
DTEND;TZID=America/Anguilla:20270211T150000
DTSTAMP:20260426T002325
CREATED:20260201T190212Z
LAST-MODIFIED:20260412T161519Z
UID:100117849-1802356200-1802358000@sonestastmaarten.com
SUMMARY:Throwback Line Dances
DESCRIPTION:A fun\, high-energy dance session featuring classic line dances from past decades. Easy to follow\, crowd-friendly\, and perfect for getting everyone on the dance floor
URL:https://sonestastmaarten.com/event/throwback-line-dances/2027-02-11/
LOCATION:The Oasis Pool
CATEGORIES:Maho Beach Resort
ATTACH;FMTTYPE=image/jpeg:https://sonestastmaarten.com/wp-content/uploads/maho-beach-exterior-day.jpg
END:VEVENT
BEGIN:VEVENT
DTSTART;VALUE=DATE:20270212
DTEND;VALUE=DATE:20270214
DTSTAMP:20260426T002325
CREATED:20251023T074705Z
LAST-MODIFIED:20260402T143114Z
UID:100116277-1802394000-1802480399@sonestastmaarten.com
SUMMARY:Table Tennis
DESCRIPTION:Serve up some fun with ping pong! All equipment provided for competitive matches or casual rallies.
URL:https://sonestastmaarten.com/event/table-tennis-2/2027-02-12/
LOCATION:Outside Sonesta Kids Crew
CATEGORIES:Maho Beach Resort
ATTACH;FMTTYPE=image/jpeg:https://sonestastmaarten.com/wp-content/uploads/table-tennis.jpg
END:VEVENT
BEGIN:VEVENT
DTSTART;TZID=America/Anguilla:20270212T093000
DTEND;TZID=America/Anguilla:20270212T100000
DTSTAMP:20260426T002325
CREATED:20260103T194019Z
LAST-MODIFIED:20260412T160452Z
UID:100117692-1802424600-1802426400@sonestastmaarten.com
SUMMARY:Kickboxing
DESCRIPTION:Kickboxing is a high-energy workout that combines punches\, kicks\, and cardio to build strength\, speed\, and endurance.
URL:https://sonestastmaarten.com/event/vinyasa-yoga-2/2027-02-12/
LOCATION:The Waterfront Stage\, Sint Maarten
CATEGORIES:Maho Beach Resort,Ocean Point Resort
ATTACH;FMTTYPE=image/jpeg:https://sonestastmaarten.com/wp-content/uploads/2022/07/spa_hotel_11.jpg
END:VEVENT
END:VCALENDAR