BEGIN:VCALENDAR
VERSION:2.0
PRODID:-//Sonesta Resorts Sint Maarten - ECPv6.15.17.1//NONSGML v1.0//EN
CALSCALE:GREGORIAN
METHOD:PUBLISH
X-WR-CALNAME:Sonesta Resorts Sint Maarten
X-ORIGINAL-URL:https://sonestastmaarten.com
X-WR-CALDESC:Events for Sonesta Resorts Sint Maarten
REFRESH-INTERVAL;VALUE=DURATION:PT1H
X-Robots-Tag:noindex
X-PUBLISHED-TTL:PT1H
BEGIN:VTIMEZONE
TZID:America/Anguilla
BEGIN:STANDARD
TZOFFSETFROM:-0400
TZOFFSETTO:-0400
TZNAME:AST
DTSTART:20240101T000000
END:STANDARD
END:VTIMEZONE
BEGIN:VEVENT
DTSTART;TZID=America/Anguilla:20251124T190000
DTEND;TZID=America/Anguilla:20251124T213000
DTSTAMP:20260424T054337
CREATED:20250819T164742Z
LAST-MODIFIED:20260210T152258Z
UID:100102535-1764010800-1764019800@sonestastmaarten.com
SUMMARY:Sonesta Kids Crew
DESCRIPTION:The Sonesta Kids Crew welcomes children ages 3–12 for exciting group activities! Join our energetic Sonesta Kids Crew for scavenger hunts\, dance routines\, resort safaris\, puzzles\, and more.
URL:https://sonestastmaarten.com/event/beach-house-kids-club-3/2025-11-24/
LOCATION:The Beach House
CATEGORIES:Maho Beach Resort
ATTACH;FMTTYPE=image/jpeg:https://sonestastmaarten.com/wp-content/uploads/kids-club-at-maho-beach.jpg
END:VEVENT
BEGIN:VEVENT
DTSTART;TZID=America/Anguilla:20251124T190000
DTEND;TZID=America/Anguilla:20251124T220000
DTSTAMP:20260424T054337
CREATED:20250819T171040Z
LAST-MODIFIED:20260210T153009Z
UID:100102616-1764010800-1764021600@sonestastmaarten.com
SUMMARY:Teen Zone
DESCRIPTION:Designed exclusively for ages 13 and over\, Teen Zone is the ultimate crash pad with pool\, foosball\, air hockey\, video games\, PlayStation\, Xbox\, and board games.
URL:https://sonestastmaarten.com/event/teen-zone-2/2025-11-24/
LOCATION:Teen Zone
CATEGORIES:Maho Beach Resort
ATTACH;FMTTYPE=image/jpeg:https://sonestastmaarten.com/wp-content/uploads/MB_KidsClub_TeenZone_Lifestyle_002_2024.jpg
END:VEVENT
BEGIN:VEVENT
DTSTART;TZID=America/Anguilla:20251124T203000
DTEND;TZID=America/Anguilla:20251124T223000
DTSTAMP:20260424T054337
CREATED:20250902T180019Z
LAST-MODIFIED:20251208T155049Z
UID:100098342-1764016200-1764023400@sonestastmaarten.com
SUMMARY:International Night with KRG Band
DESCRIPTION:Get ready to groove and move to the rhythm! Join us for a night of electrifying beats\, soulful melodies\, and non-stop dance vibes at our live music extravaganza.
URL:https://sonestastmaarten.com/event/international-night-2/2025-11-24/
LOCATION:The Waterfront Stage\, Sint Maarten
CATEGORIES:Maho Beach Resort,Ocean Point Resort
ATTACH;FMTTYPE=image/jpeg:https://sonestastmaarten.com/wp-content/uploads/SXM_Entertainment_Keyboard.jpg
END:VEVENT
BEGIN:VEVENT
DTSTART;TZID=America/Anguilla:20251124T213000
DTEND;TZID=America/Anguilla:20251125T003000
DTSTAMP:20260424T054337
CREATED:20250821T161827Z
LAST-MODIFIED:20251115T163423Z
UID:100098346-1764019800-1764030600@sonestastmaarten.com
SUMMARY:Live Music with Audree & Arthur
DESCRIPTION:Serving satisfying a la carte pub fare in a relaxed setting\, join the fun with live music featuring talented local musicians as our bartenders keep the drinks flowing!
URL:https://sonestastmaarten.com/event/live-music-village-tavern-2/2025-11-24/
LOCATION:The Village Tavern\, Sint Maarten
CATEGORIES:Maho Beach Resort,Ocean Point Resort
ATTACH;FMTTYPE=image/jpeg:https://sonestastmaarten.com/wp-content/uploads/entertainment_casino_royale.jpg
END:VEVENT
END:VCALENDAR