BEGIN:VCALENDAR
VERSION:2.0
PRODID:-//Sonesta Resorts Sint Maarten - ECPv6.15.17.1//NONSGML v1.0//EN
CALSCALE:GREGORIAN
METHOD:PUBLISH
X-WR-CALNAME:Sonesta Resorts Sint Maarten
X-ORIGINAL-URL:https://sonestastmaarten.com
X-WR-CALDESC:Events for Sonesta Resorts Sint Maarten
REFRESH-INTERVAL;VALUE=DURATION:PT1H
X-Robots-Tag:noindex
X-PUBLISHED-TTL:PT1H
BEGIN:VTIMEZONE
TZID:America/Anguilla
BEGIN:STANDARD
TZOFFSETFROM:-0400
TZOFFSETTO:-0400
TZNAME:AST
DTSTART:20240101T000000
END:STANDARD
END:VTIMEZONE
BEGIN:VEVENT
DTSTART;TZID=America/Anguilla:20251123T190000
DTEND;TZID=America/Anguilla:20251123T220000
DTSTAMP:20260420T053853
CREATED:20250819T171040Z
LAST-MODIFIED:20260210T153009Z
UID:100102615-1763924400-1763935200@sonestastmaarten.com
SUMMARY:Teen Zone
DESCRIPTION:Designed exclusively for ages 13 and over\, Teen Zone is the ultimate crash pad with pool\, foosball\, air hockey\, video games\, PlayStation\, Xbox\, and board games.
URL:https://sonestastmaarten.com/event/teen-zone-2/2025-11-23/
LOCATION:Teen Zone
CATEGORIES:Maho Beach Resort
ATTACH;FMTTYPE=image/jpeg:https://sonestastmaarten.com/wp-content/uploads/MB_KidsClub_TeenZone_Lifestyle_002_2024.jpg
END:VEVENT
BEGIN:VEVENT
DTSTART;TZID=America/Anguilla:20251123T230000
DTEND;TZID=America/Anguilla:20251124T010000
DTSTAMP:20260420T053853
CREATED:20250820T165050Z
LAST-MODIFIED:20260201T184611Z
UID:100106548-1763938800-1763946000@sonestastmaarten.com
SUMMARY:Live Music with Rodrigo & Inger
DESCRIPTION:Serving satisfying a la carte pub fare in a relaxed setting\, join the fun with live music featuring talented local musicians as our bartenders keep the drinks flowing!
URL:https://sonestastmaarten.com/event/live-music-with-rodrigo-inger/2025-11-23/
LOCATION:The Village Tavern\, Sint Maarten
CATEGORIES:Maho Beach Resort,Ocean Point Resort
ATTACH;FMTTYPE=image/jpeg:https://sonestastmaarten.com/wp-content/uploads/entertainment_casino_royale.jpg
END:VEVENT
END:VCALENDAR